BEGIN:VCALENDAR
VERSION:2.0
PRODID:-//Reena Senior Living - ECPv6.11.2.1//NONSGML v1.0//EN
CALSCALE:GREGORIAN
METHOD:PUBLISH
X-WR-CALNAME:Reena Senior Living
X-ORIGINAL-URL:https://reenaseniorliving.com
X-WR-CALDESC:Events for Reena Senior Living
REFRESH-INTERVAL;VALUE=DURATION:PT1H
X-Robots-Tag:noindex
X-PUBLISHED-TTL:PT1H
BEGIN:VTIMEZONE
TZID:America/Chicago
BEGIN:DAYLIGHT
TZOFFSETFROM:-0600
TZOFFSETTO:-0500
TZNAME:CDT
DTSTART:20250309T080000
END:DAYLIGHT
BEGIN:STANDARD
TZOFFSETFROM:-0500
TZOFFSETTO:-0600
TZNAME:CST
DTSTART:20251102T070000
END:STANDARD
END:VTIMEZONE
BEGIN:VEVENT
DTSTART;TZID=America/Chicago:20251208T091500
DTEND;TZID=America/Chicago:20251208T094500
DTSTAMP:20260419T190809
CREATED:20251109T073415Z
LAST-MODIFIED:20251206T004902Z
UID:10003111-1765185300-1765187100@reenaseniorliving.com
SUMMARY:Movement Class
DESCRIPTION:
URL:https://reenaseniorliving.com/event-calendar/movement-class-77/
LOCATION:Living Room
CATEGORIES:Legacy Court
END:VEVENT
BEGIN:VEVENT
DTSTART;TZID=America/Chicago:20251208T100000
DTEND;TZID=America/Chicago:20251208T103000
DTSTAMP:20260419T190809
CREATED:20251109T073415Z
LAST-MODIFIED:20251114T074912Z
UID:10003112-1765188000-1765189800@reenaseniorliving.com
SUMMARY:Rhythm Monday with Instruments and Movement with Anne
DESCRIPTION:
URL:https://reenaseniorliving.com/event-calendar/rhythm-monday-with-instruments-and-movement-with-anne-18/
LOCATION:Activity Room
CATEGORIES:Legacy Court
END:VEVENT
BEGIN:VEVENT
DTSTART;TZID=America/Chicago:20251208T101500
DTEND;TZID=America/Chicago:20251208T110000
DTSTAMP:20260419T190809
CREATED:20251109T073415Z
LAST-MODIFIED:20251208T004918Z
UID:10003113-1765188900-1765191600@reenaseniorliving.com
SUMMARY:Lutheran Service with Julie - Legacy Court
DESCRIPTION:
URL:https://reenaseniorliving.com/event-calendar/lutheran-service-with-julie-legacy-court-7/
LOCATION:Legacy Court
CATEGORIES:Assisted Living,Legacy Court
END:VEVENT
BEGIN:VEVENT
DTSTART;TZID=America/Chicago:20251208T113000
DTEND;TZID=America/Chicago:20251208T113500
DTSTAMP:20260419T190809
CREATED:20251109T073415Z
LAST-MODIFIED:20251208T004918Z
UID:10003114-1765193400-1765193700@reenaseniorliving.com
SUMMARY:Prayer
DESCRIPTION:
URL:https://reenaseniorliving.com/event-calendar/prayer-121/
LOCATION:Dining Room
CATEGORIES:Legacy Court
END:VEVENT
BEGIN:VEVENT
DTSTART;TZID=America/Chicago:20251208T120000
DTEND;TZID=America/Chicago:20251208T121500
DTSTAMP:20260419T190809
CREATED:20251109T073415Z
LAST-MODIFIED:20251208T004918Z
UID:10003115-1765195200-1765196100@reenaseniorliving.com
SUMMARY:TV off this afternoon
DESCRIPTION:
URL:https://reenaseniorliving.com/event-calendar/tv-off-this-afternoon-11/
CATEGORIES:Legacy Court
END:VEVENT
BEGIN:VEVENT
DTSTART;TZID=America/Chicago:20251208T123000
DTEND;TZID=America/Chicago:20251208T130000
DTSTAMP:20260419T190809
CREATED:20251109T073416Z
LAST-MODIFIED:20251208T004918Z
UID:10003116-1765197000-1765198800@reenaseniorliving.com
SUMMARY:Walking Group Time - Healthy Movement\, Healthy Body
DESCRIPTION:
URL:https://reenaseniorliving.com/event-calendar/walking-group-time-healthy-movement-healthy-body-40/
LOCATION:Activity Room LC
CATEGORIES:Legacy Court
END:VEVENT
BEGIN:VEVENT
DTSTART;TZID=America/Chicago:20251208T130000
DTEND;TZID=America/Chicago:20251208T134500
DTSTAMP:20260419T190809
CREATED:20251109T073416Z
LAST-MODIFIED:20251208T004918Z
UID:10003117-1765198800-1765201500@reenaseniorliving.com
SUMMARY:Bingo
DESCRIPTION:
URL:https://reenaseniorliving.com/event-calendar/bingo-59/
LOCATION:LC AR
CATEGORIES:Legacy Court
END:VEVENT
BEGIN:VEVENT
DTSTART;TZID=America/Chicago:20251208T134500
DTEND;TZID=America/Chicago:20251208T140000
DTSTAMP:20260419T190809
CREATED:20251109T073416Z
LAST-MODIFIED:20251208T004918Z
UID:10003118-1765201500-1765202400@reenaseniorliving.com
SUMMARY:Jerry Apps - Great Storyteller Book Reading and Discussion
DESCRIPTION:Jerry Apps and Other Authors that reflect days gone by. Lessons and Reminiscing Fun!
URL:https://reenaseniorliving.com/event-calendar/jerry-apps-great-storyteller-book-reading-and-discussion-29/
LOCATION:Legacy Court
CATEGORIES:Legacy Court
END:VEVENT
BEGIN:VEVENT
DTSTART;TZID=America/Chicago:20251208T142000
DTEND;TZID=America/Chicago:20251208T144500
DTSTAMP:20260419T190809
CREATED:20251109T073416Z
LAST-MODIFIED:20251208T004918Z
UID:10003119-1765203600-1765205100@reenaseniorliving.com
SUMMARY:Snack Delight and Social Time - Activity Room
DESCRIPTION:
URL:https://reenaseniorliving.com/event-calendar/snack-delight-and-social-time-activity-room-208/
LOCATION:LC Activity Room
CATEGORIES:Legacy Court
END:VEVENT
BEGIN:VEVENT
DTSTART;TZID=America/Chicago:20251208T151500
DTEND;TZID=America/Chicago:20251208T153000
DTSTAMP:20260419T190809
CREATED:20251109T073416Z
LAST-MODIFIED:20251206T004902Z
UID:10003120-1765206900-1765207800@reenaseniorliving.com
SUMMARY:Breath and Relaxation
DESCRIPTION:
URL:https://reenaseniorliving.com/event-calendar/breath-and-relaxation-22/
LOCATION:Legacy Court
CATEGORIES:Legacy Court
END:VEVENT
BEGIN:VEVENT
DTSTART;TZID=America/Chicago:20251208T154500
DTEND;TZID=America/Chicago:20251208T161500
DTSTAMP:20260419T190809
CREATED:20251109T073416Z
LAST-MODIFIED:20251206T004902Z
UID:10003121-1765208700-1765210500@reenaseniorliving.com
SUMMARY:Movement with Balls\, Noodles\, & Weights.
DESCRIPTION:
URL:https://reenaseniorliving.com/event-calendar/movement-with-balls-noodles-weights-14/
LOCATION:Activity Room
CATEGORIES:Legacy Court
END:VEVENT
BEGIN:VEVENT
DTSTART;TZID=America/Chicago:20251208T173000
DTEND;TZID=America/Chicago:20251208T183000
DTSTAMP:20260419T190809
CREATED:20251109T073416Z
LAST-MODIFIED:20251208T004918Z
UID:10003122-1765215000-1765218600@reenaseniorliving.com
SUMMARY:Game Shows on TV
DESCRIPTION:
URL:https://reenaseniorliving.com/event-calendar/game-shows-on-tv-31/
LOCATION:Legacy Court
CATEGORIES:Legacy Court
END:VEVENT
END:VCALENDAR