BEGIN:VCALENDAR
VERSION:2.0
PRODID:-//Reena Senior Living - ECPv6.11.2.1//NONSGML v1.0//EN
CALSCALE:GREGORIAN
METHOD:PUBLISH
X-WR-CALNAME:Reena Senior Living
X-ORIGINAL-URL:https://reenaseniorliving.com
X-WR-CALDESC:Events for Reena Senior Living
REFRESH-INTERVAL;VALUE=DURATION:PT1H
X-Robots-Tag:noindex
X-PUBLISHED-TTL:PT1H
BEGIN:VTIMEZONE
TZID:America/Chicago
BEGIN:DAYLIGHT
TZOFFSETFROM:-0600
TZOFFSETTO:-0500
TZNAME:CDT
DTSTART:20250309T080000
END:DAYLIGHT
BEGIN:STANDARD
TZOFFSETFROM:-0500
TZOFFSETTO:-0600
TZNAME:CST
DTSTART:20251102T070000
END:STANDARD
END:VTIMEZONE
BEGIN:VEVENT
DTSTART;TZID=America/Chicago:20251210T090000
DTEND;TZID=America/Chicago:20251210T093000
DTSTAMP:20260419T190817
CREATED:20251111T073423Z
LAST-MODIFIED:20251210T010410Z
UID:10003149-1765357200-1765359000@reenaseniorliving.com
SUMMARY:Spiritual Time with Chaplain Lee
DESCRIPTION:
URL:https://reenaseniorliving.com/event-calendar/spiritual-time-with-chaplain-lee-28/
LOCATION:Legacy Court
CATEGORIES:Legacy Court
END:VEVENT
BEGIN:VEVENT
DTSTART;TZID=America/Chicago:20251210T100000
DTEND;TZID=America/Chicago:20251210T101500
DTSTAMP:20260419T190817
CREATED:20251111T073423Z
LAST-MODIFIED:20251210T010410Z
UID:10003140-1765360800-1765361700@reenaseniorliving.com
SUMMARY:Sing along before Catholic Service.
DESCRIPTION:We will assist you to go next door.
URL:https://reenaseniorliving.com/event-calendar/sing-along-before-catholic-service-28/
LOCATION:Legacy Court
CATEGORIES:Assisted Living,Legacy Court
END:VEVENT
BEGIN:VEVENT
DTSTART;TZID=America/Chicago:20251210T101500
DTEND;TZID=America/Chicago:20251210T111500
DTSTAMP:20260419T190817
CREATED:20251111T073423Z
LAST-MODIFIED:20251210T010410Z
UID:10003141-1765361700-1765365300@reenaseniorliving.com
SUMMARY:Catholic Service at Legacy Court
DESCRIPTION:
URL:https://reenaseniorliving.com/event-calendar/catholic-service-at-legacy-court-5/
LOCATION:Legacy Court
CATEGORIES:Assisted Living,Legacy Court
END:VEVENT
BEGIN:VEVENT
DTSTART;TZID=America/Chicago:20251210T112500
DTEND;TZID=America/Chicago:20251210T113000
DTSTAMP:20260419T190817
CREATED:20251111T073423Z
LAST-MODIFIED:20251210T010410Z
UID:10003142-1765365900-1765366200@reenaseniorliving.com
SUMMARY:Pledge of Allegiance
DESCRIPTION:
URL:https://reenaseniorliving.com/event-calendar/pledge-of-allegiance-22/
LOCATION:Legacy Court
CATEGORIES:Legacy Court
END:VEVENT
BEGIN:VEVENT
DTSTART;TZID=America/Chicago:20251210T120000
DTEND;TZID=America/Chicago:20251210T121500
DTSTAMP:20260419T190817
CREATED:20251111T073423Z
LAST-MODIFIED:20251210T010410Z
UID:10003143-1765368000-1765368900@reenaseniorliving.com
SUMMARY:TV off this afternoon
DESCRIPTION:
URL:https://reenaseniorliving.com/event-calendar/tv-off-this-afternoon-12/
CATEGORIES:Legacy Court
END:VEVENT
BEGIN:VEVENT
DTSTART;TZID=America/Chicago:20251210T123000
DTEND;TZID=America/Chicago:20251210T130000
DTSTAMP:20260419T190817
CREATED:20251111T073424Z
LAST-MODIFIED:20251210T010410Z
UID:10003151-1765369800-1765371600@reenaseniorliving.com
SUMMARY:Movement with Balls\, Noodles\, & Weights.
DESCRIPTION:
URL:https://reenaseniorliving.com/event-calendar/movement-with-balls-noodles-weights-16/
LOCATION:Activity Room
CATEGORIES:Legacy Court
END:VEVENT
BEGIN:VEVENT
DTSTART;TZID=America/Chicago:20251210T130000
DTEND;TZID=America/Chicago:20251210T134500
DTSTAMP:20260419T190817
CREATED:20251111T073423Z
LAST-MODIFIED:20251206T004903Z
UID:10003144-1765371600-1765374300@reenaseniorliving.com
SUMMARY:Spark - Leg Bike and Quiz
DESCRIPTION:
URL:https://reenaseniorliving.com/event-calendar/spark-leg-bike-and-quiz-5/
LOCATION:Activity Room
CATEGORIES:Legacy Court
END:VEVENT
BEGIN:VEVENT
DTSTART;TZID=America/Chicago:20251210T130000
DTEND;TZID=America/Chicago:20251210T134500
DTSTAMP:20260419T190817
CREATED:20251111T073423Z
LAST-MODIFIED:20251210T010410Z
UID:10003145-1765371600-1765374300@reenaseniorliving.com
SUMMARY:Records with Dorothy
DESCRIPTION:
URL:https://reenaseniorliving.com/event-calendar/records-with-dorothy-13/
LOCATION:Activity Room
CATEGORIES:Legacy Court
END:VEVENT
BEGIN:VEVENT
DTSTART;TZID=America/Chicago:20251210T135500
DTEND;TZID=America/Chicago:20251210T141000
DTSTAMP:20260419T190817
CREATED:20251111T073423Z
LAST-MODIFIED:20251210T010410Z
UID:10003146-1765374900-1765375800@reenaseniorliving.com
SUMMARY:Reading by: Volunteer Dorothy
DESCRIPTION:
URL:https://reenaseniorliving.com/event-calendar/book-the-sunsets-of-miss-olivia-wiggins-read-by-dorothy-6/
LOCATION:Activity Room
CATEGORIES:Legacy Court
END:VEVENT
BEGIN:VEVENT
DTSTART;TZID=America/Chicago:20251210T141500
DTEND;TZID=America/Chicago:20251210T143000
DTSTAMP:20260419T190817
CREATED:20251111T073423Z
LAST-MODIFIED:20251206T004903Z
UID:10003147-1765376100-1765377000@reenaseniorliving.com
SUMMARY:Oshibori
DESCRIPTION:
URL:https://reenaseniorliving.com/event-calendar/oshibori-91/
LOCATION:LC Activity Room
CATEGORIES:Legacy Court
END:VEVENT
BEGIN:VEVENT
DTSTART;TZID=America/Chicago:20251210T142000
DTEND;TZID=America/Chicago:20251210T144500
DTSTAMP:20260419T190817
CREATED:20251111T073423Z
LAST-MODIFIED:20251210T010410Z
UID:10003148-1765376400-1765377900@reenaseniorliving.com
SUMMARY:Snack Delight and Social Time - Activity Room
DESCRIPTION:
URL:https://reenaseniorliving.com/event-calendar/snack-delight-and-social-time-activity-room-210/
LOCATION:LC Activity Room
CATEGORIES:Legacy Court
END:VEVENT
BEGIN:VEVENT
DTSTART;TZID=America/Chicago:20251210T150000
DTEND;TZID=America/Chicago:20251210T160000
DTSTAMP:20260419T190817
CREATED:20251207T004933Z
LAST-MODIFIED:20251210T010410Z
UID:10003464-1765378800-1765382400@reenaseniorliving.com
SUMMARY:Nails with Laurie
DESCRIPTION:
URL:https://reenaseniorliving.com/event-calendar/nails-with-laurie-15/
LOCATION:Grandma’s Garden
CATEGORIES:Legacy Court
END:VEVENT
BEGIN:VEVENT
DTSTART;TZID=America/Chicago:20251210T160000
DTEND;TZID=America/Chicago:20251210T162000
DTSTAMP:20260419T190817
CREATED:20251111T073423Z
LAST-MODIFIED:20251210T010409Z
UID:10003150-1765382400-1765383600@reenaseniorliving.com
SUMMARY:Walking Group Time - Healthy Movement\, Healthy Body
DESCRIPTION:
URL:https://reenaseniorliving.com/event-calendar/walking-group-time-healthy-movement-healthy-body-41/
LOCATION:Legacy Court
CATEGORIES:Legacy Court
END:VEVENT
BEGIN:VEVENT
DTSTART;TZID=America/Chicago:20251210T160000
DTEND;TZID=America/Chicago:20251210T162000
DTSTAMP:20260419T190817
CREATED:20251111T073424Z
LAST-MODIFIED:20251206T004903Z
UID:10003152-1765382400-1765383600@reenaseniorliving.com
SUMMARY:Walking with Anne! Find the pond view; have a seat and reminisce.
DESCRIPTION:
URL:https://reenaseniorliving.com/event-calendar/walking-with-anne-find-the-pond-view-have-a-seat-and-reminisce-7/
LOCATION:Activity Room
CATEGORIES:Legacy Court
END:VEVENT
END:VCALENDAR