BEGIN:VCALENDAR
VERSION:2.0
PRODID:-//Reena Senior Living - ECPv6.11.2.1//NONSGML v1.0//EN
CALSCALE:GREGORIAN
METHOD:PUBLISH
X-ORIGINAL-URL:https://reenaseniorliving.com
X-WR-CALDESC:Events for Reena Senior Living
REFRESH-INTERVAL;VALUE=DURATION:PT1H
X-Robots-Tag:noindex
X-PUBLISHED-TTL:PT1H
BEGIN:VTIMEZONE
TZID:America/Chicago
BEGIN:DAYLIGHT
TZOFFSETFROM:-0600
TZOFFSETTO:-0500
TZNAME:CDT
DTSTART:20250309T080000
END:DAYLIGHT
BEGIN:STANDARD
TZOFFSETFROM:-0500
TZOFFSETTO:-0600
TZNAME:CST
DTSTART:20251102T070000
END:STANDARD
END:VTIMEZONE
BEGIN:VEVENT
DTSTART;TZID=America/Chicago:20251214T142000
DTEND;TZID=America/Chicago:20251214T144500
DTSTAMP:20260419T190949
CREATED:20251115T074911Z
LAST-MODIFIED:20251214T013402Z
UID:10003205-1765722000-1765723500@reenaseniorliving.com
SUMMARY:Snack Delight and Social Time - Activity Room
DESCRIPTION:
URL:https://reenaseniorliving.com/event-calendar/snack-delight-and-social-time-activity-room-214/
LOCATION:LC Activity Room
CATEGORIES:Legacy Court
END:VEVENT
BEGIN:VEVENT
DTSTART;TZID=America/Chicago:20251214T152500
DTEND;TZID=America/Chicago:20251214T182500
DTSTAMP:20260419T190949
CREATED:20251212T003401Z
LAST-MODIFIED:20251214T013402Z
UID:10003544-1765725900-1765736700@reenaseniorliving.com
SUMMARY:Packers vs. Broncos!
DESCRIPTION:
URL:https://reenaseniorliving.com/event-calendar/packers-vs-broncos/
LOCATION:TV
CATEGORIES:Assisted Living,Legacy Court
END:VEVENT
END:VCALENDAR