BEGIN:VCALENDAR
VERSION:2.0
PRODID:-//Reena Senior Living - ECPv6.11.2.1//NONSGML v1.0//EN
CALSCALE:GREGORIAN
METHOD:PUBLISH
X-ORIGINAL-URL:https://reenaseniorliving.com
X-WR-CALDESC:Events for Reena Senior Living
REFRESH-INTERVAL;VALUE=DURATION:PT1H
X-Robots-Tag:noindex
X-PUBLISHED-TTL:PT1H
BEGIN:VTIMEZONE
TZID:America/Chicago
BEGIN:DAYLIGHT
TZOFFSETFROM:-0600
TZOFFSETTO:-0500
TZNAME:CDT
DTSTART:20250309T080000
END:DAYLIGHT
BEGIN:STANDARD
TZOFFSETFROM:-0500
TZOFFSETTO:-0600
TZNAME:CST
DTSTART:20251102T070000
END:STANDARD
END:VTIMEZONE
BEGIN:VEVENT
DTSTART;TZID=America/Chicago:20251215T091500
DTEND;TZID=America/Chicago:20251215T094500
DTSTAMP:20260419T191700
CREATED:20251116T074911Z
LAST-MODIFIED:20251212T013444Z
UID:10003207-1765790100-1765791900@reenaseniorliving.com
SUMMARY:Movement Class
DESCRIPTION:
URL:https://reenaseniorliving.com/event-calendar/movement-class-78/
LOCATION:Living Room
CATEGORIES:Legacy Court
END:VEVENT
BEGIN:VEVENT
DTSTART;TZID=America/Chicago:20251215T093000
DTEND;TZID=America/Chicago:20251215T100000
DTSTAMP:20260419T191700
CREATED:20251213T013407Z
LAST-MODIFIED:20251215T013402Z
UID:10003550-1765791000-1765792800@reenaseniorliving.com
SUMMARY:Can we make snow balls? What's the weather like? Tell us your favorite stories about Winter.
DESCRIPTION:
URL:https://reenaseniorliving.com/event-calendar/can-we-make-snow-balls-whats-the-weather-like-tell-us-your-favorite-stories-about-winter/
LOCATION:Grandma’s Garden
CATEGORIES:Legacy Court
END:VEVENT
BEGIN:VEVENT
DTSTART;TZID=America/Chicago:20251215T101500
DTEND;TZID=America/Chicago:20251215T111500
DTSTAMP:20260419T191700
CREATED:20251213T013407Z
LAST-MODIFIED:20251215T013402Z
UID:10003551-1765793700-1765797300@reenaseniorliving.com
SUMMARY:Christmas Decorations Walk.
DESCRIPTION:
URL:https://reenaseniorliving.com/event-calendar/christmas-decorations-walk/
LOCATION:Legacy Court
CATEGORIES:Legacy Court
END:VEVENT
BEGIN:VEVENT
DTSTART;TZID=America/Chicago:20251215T112000
DTEND;TZID=America/Chicago:20251215T112500
DTSTAMP:20260419T191700
CREATED:20251116T074911Z
LAST-MODIFIED:20251215T013402Z
UID:10003208-1765797600-1765797900@reenaseniorliving.com
SUMMARY:Prayer
DESCRIPTION:
URL:https://reenaseniorliving.com/event-calendar/prayer-125/
LOCATION:Dining Room
CATEGORIES:Legacy Court
END:VEVENT
BEGIN:VEVENT
DTSTART;TZID=America/Chicago:20251215T120000
DTEND;TZID=America/Chicago:20251215T121500
DTSTAMP:20260419T191700
CREATED:20251116T074911Z
LAST-MODIFIED:20251215T013402Z
UID:10003209-1765800000-1765800900@reenaseniorliving.com
SUMMARY:TV off this afternoon
DESCRIPTION:
URL:https://reenaseniorliving.com/event-calendar/tv-off-this-afternoon-13/
CATEGORIES:Legacy Court
END:VEVENT
BEGIN:VEVENT
DTSTART;TZID=America/Chicago:20251215T123000
DTEND;TZID=America/Chicago:20251215T130000
DTSTAMP:20260419T191700
CREATED:20251116T074912Z
LAST-MODIFIED:20251212T013444Z
UID:10003210-1765801800-1765803600@reenaseniorliving.com
SUMMARY:Walking Group Time - Healthy Movement\, Healthy Body
DESCRIPTION:
URL:https://reenaseniorliving.com/event-calendar/walking-group-time-healthy-movement-healthy-body-42/
LOCATION:Activity Room LC
CATEGORIES:Legacy Court
END:VEVENT
BEGIN:VEVENT
DTSTART;TZID=America/Chicago:20251215T130000
DTEND;TZID=America/Chicago:20251215T134500
DTSTAMP:20260419T191700
CREATED:20251116T074912Z
LAST-MODIFIED:20251215T013402Z
UID:10003211-1765803600-1765806300@reenaseniorliving.com
SUMMARY:Bingo
DESCRIPTION:
URL:https://reenaseniorliving.com/event-calendar/bingo-61/
LOCATION:LC AR
CATEGORIES:Legacy Court
END:VEVENT
BEGIN:VEVENT
DTSTART;TZID=America/Chicago:20251215T134500
DTEND;TZID=America/Chicago:20251215T140000
DTSTAMP:20260419T191700
CREATED:20251116T074912Z
LAST-MODIFIED:20251215T013402Z
UID:10003212-1765806300-1765807200@reenaseniorliving.com
SUMMARY:Jerry Apps - Great Storyteller Book Reading and Discussion
DESCRIPTION:Jerry Apps and Other Authors that reflect days gone by. Lessons and Reminiscing Fun!
URL:https://reenaseniorliving.com/event-calendar/jerry-apps-great-storyteller-book-reading-and-discussion-30/
LOCATION:Legacy Court
CATEGORIES:Legacy Court
END:VEVENT
BEGIN:VEVENT
DTSTART;TZID=America/Chicago:20251215T141000
DTEND;TZID=America/Chicago:20251215T143500
DTSTAMP:20260419T191700
CREATED:20251116T074912Z
LAST-MODIFIED:20251215T013402Z
UID:10003213-1765807800-1765809300@reenaseniorliving.com
SUMMARY:Snack Delight and Social Time - Activity Room
DESCRIPTION:
URL:https://reenaseniorliving.com/event-calendar/snack-delight-and-social-time-activity-room-215/
LOCATION:LC Activity Room
CATEGORIES:Legacy Court
END:VEVENT
BEGIN:VEVENT
DTSTART;TZID=America/Chicago:20251215T144500
DTEND;TZID=America/Chicago:20251215T150000
DTSTAMP:20260419T191700
CREATED:20251116T074912Z
LAST-MODIFIED:20251215T013402Z
UID:10003214-1765809900-1765810800@reenaseniorliving.com
SUMMARY:Breath and Relaxation
DESCRIPTION:
URL:https://reenaseniorliving.com/event-calendar/breath-and-relaxation-23/
LOCATION:Legacy Court
CATEGORIES:Legacy Court
END:VEVENT
BEGIN:VEVENT
DTSTART;TZID=America/Chicago:20251215T151500
DTEND;TZID=America/Chicago:20251215T154000
DTSTAMP:20260419T191700
CREATED:20251116T074912Z
LAST-MODIFIED:20251215T013403Z
UID:10003215-1765811700-1765813200@reenaseniorliving.com
SUMMARY:Movement with Balls\, Noodles\, & Weights.
DESCRIPTION:
URL:https://reenaseniorliving.com/event-calendar/movement-with-balls-noodles-weights-17/
LOCATION:Activity Room
CATEGORIES:Legacy Court
END:VEVENT
BEGIN:VEVENT
DTSTART;TZID=America/Chicago:20251215T173000
DTEND;TZID=America/Chicago:20251215T183000
DTSTAMP:20260419T191700
CREATED:20251116T074912Z
LAST-MODIFIED:20251215T013403Z
UID:10003216-1765819800-1765823400@reenaseniorliving.com
SUMMARY:Game Shows on TV
DESCRIPTION:
URL:https://reenaseniorliving.com/event-calendar/game-shows-on-tv-32/
LOCATION:Legacy Court
CATEGORIES:Legacy Court
END:VEVENT
END:VCALENDAR