BEGIN:VCALENDAR
VERSION:2.0
PRODID:-//Reena Senior Living - ECPv6.11.2.1//NONSGML v1.0//EN
CALSCALE:GREGORIAN
METHOD:PUBLISH
X-WR-CALNAME:Reena Senior Living
X-ORIGINAL-URL:https://reenaseniorliving.com
X-WR-CALDESC:Events for Reena Senior Living
REFRESH-INTERVAL;VALUE=DURATION:PT1H
X-Robots-Tag:noindex
X-PUBLISHED-TTL:PT1H
BEGIN:VTIMEZONE
TZID:America/Chicago
BEGIN:DAYLIGHT
TZOFFSETFROM:-0600
TZOFFSETTO:-0500
TZNAME:CDT
DTSTART:20250309T080000
END:DAYLIGHT
BEGIN:STANDARD
TZOFFSETFROM:-0500
TZOFFSETTO:-0600
TZNAME:CST
DTSTART:20251102T070000
END:STANDARD
END:VTIMEZONE
BEGIN:VEVENT
DTSTART;TZID=America/Chicago:20251217T100000
DTEND;TZID=America/Chicago:20251217T101500
DTSTAMP:20260419T190809
CREATED:20251118T074939Z
LAST-MODIFIED:20251217T013403Z
UID:10003236-1765965600-1765966500@reenaseniorliving.com
SUMMARY:Sing along before Catholic Service.
DESCRIPTION:We will assist you to go next door.
URL:https://reenaseniorliving.com/event-calendar/sing-along-before-catholic-service-29/
LOCATION:Legacy Court
CATEGORIES:Assisted Living,Legacy Court
END:VEVENT
BEGIN:VEVENT
DTSTART;TZID=America/Chicago:20251217T101500
DTEND;TZID=America/Chicago:20251217T111500
DTSTAMP:20260419T190809
CREATED:20251118T074939Z
LAST-MODIFIED:20251217T013403Z
UID:10003235-1765966500-1765970100@reenaseniorliving.com
SUMMARY:* Christmas Service with Father John (Catholic)
DESCRIPTION:
URL:https://reenaseniorliving.com/event-calendar/catholic-service-at-legacy-court-6/
LOCATION:Legacy Court
CATEGORIES:Assisted Living,Legacy Court
END:VEVENT
BEGIN:VEVENT
DTSTART;TZID=America/Chicago:20251217T112500
DTEND;TZID=America/Chicago:20251217T113000
DTSTAMP:20260419T190809
CREATED:20251118T074939Z
LAST-MODIFIED:20251212T013445Z
UID:10003237-1765970700-1765971000@reenaseniorliving.com
SUMMARY:Pledge of Allegiance
DESCRIPTION:
URL:https://reenaseniorliving.com/event-calendar/pledge-of-allegiance-23/
LOCATION:Legacy Court
CATEGORIES:Legacy Court
END:VEVENT
BEGIN:VEVENT
DTSTART;TZID=America/Chicago:20251217T120000
DTEND;TZID=America/Chicago:20251217T121500
DTSTAMP:20260419T190809
CREATED:20251118T074939Z
LAST-MODIFIED:20251217T013403Z
UID:10003238-1765972800-1765973700@reenaseniorliving.com
SUMMARY:TV off this afternoon
DESCRIPTION:
URL:https://reenaseniorliving.com/event-calendar/tv-off-this-afternoon-14/
CATEGORIES:Legacy Court
END:VEVENT
BEGIN:VEVENT
DTSTART;TZID=America/Chicago:20251217T130000
DTEND;TZID=America/Chicago:20251217T133000
DTSTAMP:20260419T190809
CREATED:20251118T074940Z
LAST-MODIFIED:20251217T013403Z
UID:10003245-1765976400-1765978200@reenaseniorliving.com
SUMMARY:Spiritual Time with Chaplain Lee
DESCRIPTION:
URL:https://reenaseniorliving.com/event-calendar/spiritual-time-with-chaplain-lee-29/
LOCATION:Legacy Court
CATEGORIES:Legacy Court
END:VEVENT
BEGIN:VEVENT
DTSTART;TZID=America/Chicago:20251217T130000
DTEND;TZID=America/Chicago:20251217T134500
DTSTAMP:20260419T190809
CREATED:20251118T074939Z
LAST-MODIFIED:20251212T013445Z
UID:10003239-1765976400-1765979100@reenaseniorliving.com
SUMMARY:Spark - Leg Bike and Quiz
DESCRIPTION:
URL:https://reenaseniorliving.com/event-calendar/spark-leg-bike-and-quiz-6/
LOCATION:Activity Room
CATEGORIES:Legacy Court
END:VEVENT
BEGIN:VEVENT
DTSTART;TZID=America/Chicago:20251217T133000
DTEND;TZID=America/Chicago:20251217T135500
DTSTAMP:20260419T190809
CREATED:20251118T074939Z
LAST-MODIFIED:20251217T013403Z
UID:10003244-1765978200-1765979700@reenaseniorliving.com
SUMMARY:Snack Delight and Social Time - Activity Room
DESCRIPTION:
URL:https://reenaseniorliving.com/event-calendar/snack-delight-and-social-time-activity-room-217/
LOCATION:LC Activity Room
CATEGORIES:Legacy Court
END:VEVENT
BEGIN:VEVENT
DTSTART;TZID=America/Chicago:20251217T133000
DTEND;TZID=America/Chicago:20251217T143000
DTSTAMP:20260419T190809
CREATED:20251118T074939Z
LAST-MODIFIED:20251212T013445Z
UID:10003240-1765978200-1765981800@reenaseniorliving.com
SUMMARY:Records with Dorothy
DESCRIPTION:
URL:https://reenaseniorliving.com/event-calendar/records-with-dorothy-14/
LOCATION:Activity Room
CATEGORIES:Legacy Court
END:VEVENT
BEGIN:VEVENT
DTSTART;TZID=America/Chicago:20251217T140000
DTEND;TZID=America/Chicago:20251217T142500
DTSTAMP:20260419T190809
CREATED:20251118T074939Z
LAST-MODIFIED:20251212T013445Z
UID:10003242-1765980000-1765981500@reenaseniorliving.com
SUMMARY:Book: The Sunsets of Miss Olivia Wiggins - Read by: Dorothy
DESCRIPTION:
URL:https://reenaseniorliving.com/event-calendar/book-the-sunsets-of-miss-olivia-wiggins-read-by-dorothy-7/
LOCATION:Activity Room
CATEGORIES:Legacy Court
END:VEVENT
BEGIN:VEVENT
DTSTART;TZID=America/Chicago:20251217T140000
DTEND;TZID=America/Chicago:20251217T145000
DTSTAMP:20260419T190809
CREATED:20251118T074939Z
LAST-MODIFIED:20251217T013403Z
UID:10003241-1765980000-1765983000@reenaseniorliving.com
SUMMARY:* St. Paul's Lutheran Service - Legacy Court
DESCRIPTION:
URL:https://reenaseniorliving.com/event-calendar/st-pauls-lutheran-service-legacy-court-2/
LOCATION:Legacy Court
CATEGORIES:Assisted Living,Legacy Court
END:VEVENT
BEGIN:VEVENT
DTSTART;TZID=America/Chicago:20251217T141500
DTEND;TZID=America/Chicago:20251217T143000
DTSTAMP:20260419T190809
CREATED:20251118T074939Z
LAST-MODIFIED:20251212T013445Z
UID:10003243-1765980900-1765981800@reenaseniorliving.com
SUMMARY:Oshibori
DESCRIPTION:
URL:https://reenaseniorliving.com/event-calendar/oshibori-93/
LOCATION:LC Activity Room
CATEGORIES:Legacy Court
END:VEVENT
BEGIN:VEVENT
DTSTART;TZID=America/Chicago:20251217T151500
DTEND;TZID=America/Chicago:20251217T154000
DTSTAMP:20260419T190809
CREATED:20251118T074940Z
LAST-MODIFIED:20251217T013403Z
UID:10003247-1765984500-1765986000@reenaseniorliving.com
SUMMARY:Movement with Balls\, Noodles\, & Weights.
DESCRIPTION:
URL:https://reenaseniorliving.com/event-calendar/movement-with-balls-noodles-weights-19/
LOCATION:Activity Room
CATEGORIES:Legacy Court
END:VEVENT
BEGIN:VEVENT
DTSTART;TZID=America/Chicago:20251217T154500
DTEND;TZID=America/Chicago:20251217T160500
DTSTAMP:20260419T190809
CREATED:20251118T074940Z
LAST-MODIFIED:20251217T013403Z
UID:10003246-1765986300-1765987500@reenaseniorliving.com
SUMMARY:Walking Group Time - Healthy Movement\, Healthy Body
DESCRIPTION:
URL:https://reenaseniorliving.com/event-calendar/walking-group-time-healthy-movement-healthy-body-43/
LOCATION:Legacy Court
CATEGORIES:Legacy Court
END:VEVENT
BEGIN:VEVENT
DTSTART;TZID=America/Chicago:20251217T160000
DTEND;TZID=America/Chicago:20251217T162000
DTSTAMP:20260419T190809
CREATED:20251118T074940Z
LAST-MODIFIED:20251206T004906Z
UID:10003248-1765987200-1765988400@reenaseniorliving.com
SUMMARY:Walking with Anne! Find the pond view; have a seat and reminisce.
DESCRIPTION:
URL:https://reenaseniorliving.com/event-calendar/walking-with-anne-find-the-pond-view-have-a-seat-and-reminisce-8/
LOCATION:Activity Room
CATEGORIES:Legacy Court
END:VEVENT
BEGIN:VEVENT
DTSTART;TZID=America/Chicago:20251217T180000
DTEND;TZID=America/Chicago:20251217T183000
DTSTAMP:20260419T190809
CREATED:20251118T074940Z
LAST-MODIFIED:20251217T013403Z
UID:10003249-1765994400-1765996200@reenaseniorliving.com
SUMMARY:St. Joe's Christmas Carolers
DESCRIPTION:
URL:https://reenaseniorliving.com/event-calendar/st-joes-christmas-carolers/
LOCATION:Activity Room
CATEGORIES:Legacy Court
END:VEVENT
END:VCALENDAR