BEGIN:VCALENDAR
VERSION:2.0
PRODID:-//Reena Senior Living - ECPv6.11.2.1//NONSGML v1.0//EN
CALSCALE:GREGORIAN
METHOD:PUBLISH
X-ORIGINAL-URL:https://reenaseniorliving.com
X-WR-CALDESC:Events for Reena Senior Living
REFRESH-INTERVAL;VALUE=DURATION:PT1H
X-Robots-Tag:noindex
X-PUBLISHED-TTL:PT1H
BEGIN:VTIMEZONE
TZID:America/Chicago
BEGIN:DAYLIGHT
TZOFFSETFROM:-0600
TZOFFSETTO:-0500
TZNAME:CDT
DTSTART:20250309T080000
END:DAYLIGHT
BEGIN:STANDARD
TZOFFSETFROM:-0500
TZOFFSETTO:-0600
TZNAME:CST
DTSTART:20251102T070000
END:STANDARD
END:VTIMEZONE
BEGIN:VEVENT
DTSTART;TZID=America/Chicago:20251219T090000
DTEND;TZID=America/Chicago:20251219T092000
DTSTAMP:20260419T190948
CREATED:20251213T013408Z
LAST-MODIFIED:20251219T014902Z
UID:10003556-1766134800-1766136000@reenaseniorliving.com
SUMMARY:Grandma's Garden Social Time
DESCRIPTION:
URL:https://reenaseniorliving.com/event-calendar/grandmas-garden-social-time-6/
LOCATION:Legacy Court
CATEGORIES:Legacy Court
END:VEVENT
BEGIN:VEVENT
DTSTART;TZID=America/Chicago:20251219T090000
DTEND;TZID=America/Chicago:20251219T093000
DTSTAMP:20260419T190948
CREATED:20251120T074915Z
LAST-MODIFIED:20251212T013446Z
UID:10003278-1766134800-1766136600@reenaseniorliving.com
SUMMARY:Linked Senior History\, Slideshow\, & Music
DESCRIPTION:
URL:https://reenaseniorliving.com/event-calendar/linked-senior-history-slideshow-music-3/
LOCATION:Legacy Court
CATEGORIES:Legacy Court
END:VEVENT
BEGIN:VEVENT
DTSTART;TZID=America/Chicago:20251219T100000
DTEND;TZID=America/Chicago:20251219T111500
DTSTAMP:20260419T190948
CREATED:20251213T013408Z
LAST-MODIFIED:20251219T014902Z
UID:10003557-1766138400-1766142900@reenaseniorliving.com
SUMMARY:Decorate Memorial Tree - Festive Time Together
DESCRIPTION:
URL:https://reenaseniorliving.com/event-calendar/decorate-memorial-tree-festive-time-together/
LOCATION:Activity Room
CATEGORIES:Legacy Court
END:VEVENT
BEGIN:VEVENT
DTSTART;TZID=America/Chicago:20251219T112000
DTEND;TZID=America/Chicago:20251219T112500
DTSTAMP:20260419T190948
CREATED:20251120T074915Z
LAST-MODIFIED:20251219T014902Z
UID:10003279-1766143200-1766143500@reenaseniorliving.com
SUMMARY:Prayer
DESCRIPTION:
URL:https://reenaseniorliving.com/event-calendar/prayer-128/
LOCATION:Dining Room
CATEGORIES:Legacy Court
END:VEVENT
BEGIN:VEVENT
DTSTART;TZID=America/Chicago:20251219T123000
DTEND;TZID=America/Chicago:20251219T131500
DTSTAMP:20260419T190948
CREATED:20251207T004938Z
LAST-MODIFIED:20251219T014903Z
UID:10003475-1766147400-1766150100@reenaseniorliving.com
SUMMARY:Group Movement Class - Strength and Mobility
DESCRIPTION:
URL:https://reenaseniorliving.com/event-calendar/group-movement-class-strength-and-mobility-2/
LOCATION:Activity Room
CATEGORIES:Legacy Court
END:VEVENT
BEGIN:VEVENT
DTSTART;TZID=America/Chicago:20251219T131500
DTEND;TZID=America/Chicago:20251219T141000
DTSTAMP:20260419T190948
CREATED:20251120T074915Z
LAST-MODIFIED:20251219T014903Z
UID:10003280-1766150100-1766153400@reenaseniorliving.com
SUMMARY:Creative Color and Poems
DESCRIPTION:
URL:https://reenaseniorliving.com/event-calendar/creative-color-and-poems-19/
LOCATION:Legacy Court
CATEGORIES:Legacy Court
END:VEVENT
BEGIN:VEVENT
DTSTART;TZID=America/Chicago:20251219T141000
DTEND;TZID=America/Chicago:20251219T143500
DTSTAMP:20260419T190949
CREATED:20251120T074916Z
LAST-MODIFIED:20251219T014903Z
UID:10003281-1766153400-1766154900@reenaseniorliving.com
SUMMARY:Snack Delight and Social Time - Activity Room
DESCRIPTION:
URL:https://reenaseniorliving.com/event-calendar/snack-delight-and-social-time-activity-room-219/
LOCATION:LC Activity Room
CATEGORIES:Legacy Court
END:VEVENT
BEGIN:VEVENT
DTSTART;TZID=America/Chicago:20251219T173000
DTEND;TZID=America/Chicago:20251219T175000
DTSTAMP:20260419T190949
CREATED:20251120T074916Z
LAST-MODIFIED:20251219T014903Z
UID:10003282-1766165400-1766166600@reenaseniorliving.com
SUMMARY:Live Cello and Violin after Supper.
DESCRIPTION:
URL:https://reenaseniorliving.com/event-calendar/live-cello-and-violin-after-supper/
LOCATION:Activity Room LC
CATEGORIES:Legacy Court
END:VEVENT
END:VCALENDAR