BEGIN:VCALENDAR
VERSION:2.0
PRODID:-//Reena Senior Living - ECPv6.11.2.1//NONSGML v1.0//EN
CALSCALE:GREGORIAN
METHOD:PUBLISH
X-ORIGINAL-URL:https://reenaseniorliving.com
X-WR-CALDESC:Events for Reena Senior Living
REFRESH-INTERVAL;VALUE=DURATION:PT1H
X-Robots-Tag:noindex
X-PUBLISHED-TTL:PT1H
BEGIN:VTIMEZONE
TZID:America/Chicago
BEGIN:DAYLIGHT
TZOFFSETFROM:-0600
TZOFFSETTO:-0500
TZNAME:CDT
DTSTART:20250309T080000
END:DAYLIGHT
BEGIN:STANDARD
TZOFFSETFROM:-0500
TZOFFSETTO:-0600
TZNAME:CST
DTSTART:20251102T070000
END:STANDARD
END:VTIMEZONE
BEGIN:VEVENT
DTSTART;TZID=America/Chicago:20251227T123000
DTEND;TZID=America/Chicago:20251227T124500
DTSTAMP:20260419T190544
CREATED:20251128T121913Z
LAST-MODIFIED:20251227T021906Z
UID:10003368-1766838600-1766839500@reenaseniorliving.com
SUMMARY:Walking Group
DESCRIPTION:
URL:https://reenaseniorliving.com/event-calendar/walking-group-43/
LOCATION:Legacy Court
CATEGORIES:Legacy Court
END:VEVENT
BEGIN:VEVENT
DTSTART;TZID=America/Chicago:20251227T130000
DTEND;TZID=America/Chicago:20251227T133000
DTSTAMP:20260419T190544
CREATED:20251215T013413Z
LAST-MODIFIED:20251227T021906Z
UID:10003594-1766840400-1766842200@reenaseniorliving.com
SUMMARY:Movement Fun with Kayla!
DESCRIPTION:
URL:https://reenaseniorliving.com/event-calendar/movement-fun-with-kayla-2/
LOCATION:Activity Room
CATEGORIES:Legacy Court
END:VEVENT
BEGIN:VEVENT
DTSTART;TZID=America/Chicago:20251227T133000
DTEND;TZID=America/Chicago:20251227T143000
DTSTAMP:20260419T190544
CREATED:20251215T013413Z
LAST-MODIFIED:20251227T021906Z
UID:10003595-1766842200-1766845800@reenaseniorliving.com
SUMMARY:Balance and Strength with Kayla
DESCRIPTION:
URL:https://reenaseniorliving.com/event-calendar/balance-and-strength-with-kayla/
LOCATION:Activity Room
CATEGORIES:Legacy Court
END:VEVENT
BEGIN:VEVENT
DTSTART;TZID=America/Chicago:20251227T141000
DTEND;TZID=America/Chicago:20251227T143500
DTSTAMP:20260419T190544
CREATED:20251128T121913Z
LAST-MODIFIED:20251227T021906Z
UID:10003369-1766844600-1766846100@reenaseniorliving.com
SUMMARY:Snack Delight and Social Time - Activity Room
DESCRIPTION:
URL:https://reenaseniorliving.com/event-calendar/snack-delight-and-social-time-activity-room-227/
LOCATION:LC Activity Room
CATEGORIES:Legacy Court
END:VEVENT
BEGIN:VEVENT
DTSTART;TZID=America/Chicago:20251227T190000
DTEND;TZID=America/Chicago:20251227T220000
DTSTAMP:20260419T190544
CREATED:20251215T003413Z
LAST-MODIFIED:20251228T021901Z
UID:10003575-1766862000-1766872800@reenaseniorliving.com
SUMMARY:Packers vs Ravens
DESCRIPTION:
URL:https://reenaseniorliving.com/event-calendar/packers-vs-ravens/
LOCATION:TV
CATEGORIES:Assisted Living,Legacy Court
END:VEVENT
END:VCALENDAR