BEGIN:VCALENDAR
VERSION:2.0
PRODID:-//Reena Senior Living - ECPv6.11.2.1//NONSGML v1.0//EN
CALSCALE:GREGORIAN
METHOD:PUBLISH
X-WR-CALNAME:Reena Senior Living
X-ORIGINAL-URL:https://reenaseniorliving.com
X-WR-CALDESC:Events for Reena Senior Living
REFRESH-INTERVAL;VALUE=DURATION:PT1H
X-Robots-Tag:noindex
X-PUBLISHED-TTL:PT1H
BEGIN:VTIMEZONE
TZID:America/Chicago
BEGIN:DAYLIGHT
TZOFFSETFROM:-0600
TZOFFSETTO:-0500
TZNAME:CDT
DTSTART:20260308T080000
END:DAYLIGHT
BEGIN:STANDARD
TZOFFSETFROM:-0500
TZOFFSETTO:-0600
TZNAME:CST
DTSTART:20261101T070000
END:STANDARD
END:VTIMEZONE
BEGIN:VEVENT
DTSTART;TZID=America/Chicago:20260109T090000
DTEND;TZID=America/Chicago:20260109T093000
DTSTAMP:20260419T174902
CREATED:20251211T010418Z
LAST-MODIFIED:20251230T023410Z
UID:10003539-1767949200-1767951000@reenaseniorliving.com
SUMMARY:Linked Senior History\, Slideshow\, & Music
DESCRIPTION:
URL:https://reenaseniorliving.com/event-calendar/linked-senior-history-slideshow-music-7/
LOCATION:Legacy Court
CATEGORIES:Legacy Court
END:VEVENT
BEGIN:VEVENT
DTSTART;TZID=America/Chicago:20260109T100000
DTEND;TZID=America/Chicago:20260109T104500
DTSTAMP:20260419T174902
CREATED:20251211T010418Z
LAST-MODIFIED:20260109T030401Z
UID:10003541-1767952800-1767955500@reenaseniorliving.com
SUMMARY:Group Movement Class - Strength and Mobility
DESCRIPTION:
URL:https://reenaseniorliving.com/event-calendar/group-movement-class-strength-and-mobility-5/
LOCATION:Activity Room
CATEGORIES:Legacy Court
END:VEVENT
BEGIN:VEVENT
DTSTART;TZID=America/Chicago:20260109T112000
DTEND;TZID=America/Chicago:20260109T112500
DTSTAMP:20260419T174902
CREATED:20251211T010418Z
LAST-MODIFIED:20251230T023411Z
UID:10003540-1767957600-1767957900@reenaseniorliving.com
SUMMARY:Prayer
DESCRIPTION:
URL:https://reenaseniorliving.com/event-calendar/prayer-140/
LOCATION:Dining Room
CATEGORIES:Legacy Court
END:VEVENT
BEGIN:VEVENT
DTSTART;TZID=America/Chicago:20260109T113000
DTEND;TZID=America/Chicago:20260109T115000
DTSTAMP:20260419T174902
CREATED:20251231T023407Z
LAST-MODIFIED:20260109T030401Z
UID:10003838-1767958200-1767959400@reenaseniorliving.com
SUMMARY:Grandma's Garden Social Time
DESCRIPTION:
URL:https://reenaseniorliving.com/event-calendar/grandmas-garden-social-time-9/
LOCATION:Legacy Court
CATEGORIES:Legacy Court
END:VEVENT
BEGIN:VEVENT
DTSTART;TZID=America/Chicago:20260109T121500
DTEND;TZID=America/Chicago:20260109T124500
DTSTAMP:20260419T174902
CREATED:20251231T023407Z
LAST-MODIFIED:20260109T030401Z
UID:10003839-1767960900-1767962700@reenaseniorliving.com
SUMMARY:Music Appreciation - Radio or Records
DESCRIPTION:Records or 50’s and 60’s variety this month\nTV OFF
URL:https://reenaseniorliving.com/event-calendar/music-appreciation-radio-or-records-31/
LOCATION:Legacy Court
CATEGORIES:Legacy Court
END:VEVENT
BEGIN:VEVENT
DTSTART;TZID=America/Chicago:20260109T124500
DTEND;TZID=America/Chicago:20260109T133000
DTSTAMP:20260419T174902
CREATED:20251231T023407Z
LAST-MODIFIED:20260109T030401Z
UID:10003840-1767962700-1767965400@reenaseniorliving.com
SUMMARY:Crafting with Kayla - Valentines
DESCRIPTION:
URL:https://reenaseniorliving.com/event-calendar/crafting-with-kayla-valentines/
LOCATION:Activity Room
CATEGORIES:Legacy Court
END:VEVENT
BEGIN:VEVENT
DTSTART;TZID=America/Chicago:20260109T131500
DTEND;TZID=America/Chicago:20260109T141000
DTSTAMP:20260419T174902
CREATED:20251211T010419Z
LAST-MODIFIED:20251226T020407Z
UID:10003542-1767964500-1767967800@reenaseniorliving.com
SUMMARY:Creative Color and Poems
DESCRIPTION:
URL:https://reenaseniorliving.com/event-calendar/creative-color-and-poems-22/
LOCATION:Legacy Court
CATEGORIES:Legacy Court
END:VEVENT
BEGIN:VEVENT
DTSTART;TZID=America/Chicago:20260109T140000
DTEND;TZID=America/Chicago:20260109T143000
DTSTAMP:20260419T174902
CREATED:20251227T010408Z
LAST-MODIFIED:20260109T030401Z
UID:10003745-1767967200-1767969000@reenaseniorliving.com
SUMMARY:Cardio Drumming
DESCRIPTION:
URL:https://reenaseniorliving.com/event-calendar/cardio-drumming/
LOCATION:Activity Room
CATEGORIES:Assisted Living,Legacy Court
END:VEVENT
BEGIN:VEVENT
DTSTART;TZID=America/Chicago:20260109T141500
DTEND;TZID=America/Chicago:20260109T144500
DTSTAMP:20260419T174902
CREATED:20251211T010419Z
LAST-MODIFIED:20260109T030401Z
UID:10003543-1767968100-1767969900@reenaseniorliving.com
SUMMARY:Snack Delight and Social Time - Activity Room
DESCRIPTION:
URL:https://reenaseniorliving.com/event-calendar/snack-delight-and-social-time-activity-room-240/
LOCATION:LC Activity Room
CATEGORIES:Legacy Court
END:VEVENT
END:VCALENDAR