BEGIN:VCALENDAR
VERSION:2.0
PRODID:-//Reena Senior Living - ECPv6.11.2.1//NONSGML v1.0//EN
CALSCALE:GREGORIAN
METHOD:PUBLISH
X-ORIGINAL-URL:https://reenaseniorliving.com
X-WR-CALDESC:Events for Reena Senior Living
REFRESH-INTERVAL;VALUE=DURATION:PT1H
X-Robots-Tag:noindex
X-PUBLISHED-TTL:PT1H
BEGIN:VTIMEZONE
TZID:America/Chicago
BEGIN:DAYLIGHT
TZOFFSETFROM:-0600
TZOFFSETTO:-0500
TZNAME:CDT
DTSTART:20260308T080000
END:DAYLIGHT
BEGIN:STANDARD
TZOFFSETFROM:-0500
TZOFFSETTO:-0600
TZNAME:CST
DTSTART:20261101T070000
END:STANDARD
END:VTIMEZONE
BEGIN:VEVENT
DTSTART;TZID=America/Chicago:20260113T093000
DTEND;TZID=America/Chicago:20260113T100000
DTSTAMP:20260419T174737
CREATED:20251215T013433Z
LAST-MODIFIED:20260113T033408Z
UID:10003605-1768296600-1768298400@reenaseniorliving.com
SUMMARY:Linked Senior Fun with Laurie
DESCRIPTION:linked senior
URL:https://reenaseniorliving.com/event-calendar/linked-senior-fun-with-laurie-18/
LOCATION:Living Room
CATEGORIES:Legacy Court
END:VEVENT
BEGIN:VEVENT
DTSTART;TZID=America/Chicago:20260113T100000
DTEND;TZID=America/Chicago:20260113T103000
DTSTAMP:20260419T174737
CREATED:20251215T013434Z
LAST-MODIFIED:20260113T033408Z
UID:10003608-1768298400-1768300200@reenaseniorliving.com
SUMMARY:Walking and Wheeling Group! TV OFF TIME
DESCRIPTION:
URL:https://reenaseniorliving.com/event-calendar/walking-and-wheeling-group-tv-off-time-13/
LOCATION:Legacy Court
CATEGORIES:Legacy Court
END:VEVENT
BEGIN:VEVENT
DTSTART;TZID=America/Chicago:20260113T103000
DTEND;TZID=America/Chicago:20260113T113000
DTSTAMP:20260419T174737
CREATED:20260110T031910Z
LAST-MODIFIED:20260113T033409Z
UID:10003952-1768300200-1768303800@reenaseniorliving.com
SUMMARY:Let's Make Bingo Prizes! Wrapping Rolls with Tissue Paper
DESCRIPTION:
URL:https://reenaseniorliving.com/event-calendar/lets-make-bingo-prizes-wrapping-rolls-with-tissue-paper/
LOCATION:Grandma’s Garden
CATEGORIES:Legacy Court
END:VEVENT
BEGIN:VEVENT
DTSTART;TZID=America/Chicago:20260113T120000
DTEND;TZID=America/Chicago:20260113T123000
DTSTAMP:20260419T174737
CREATED:20251215T013433Z
LAST-MODIFIED:20260113T033409Z
UID:10003607-1768305600-1768307400@reenaseniorliving.com
SUMMARY:Games Shows - TV off remainder of afternoon
DESCRIPTION:
URL:https://reenaseniorliving.com/event-calendar/games-shows-tv-off-remainder-of-afternoon-2/
LOCATION:Legacy Court
CATEGORIES:Legacy Court
END:VEVENT
BEGIN:VEVENT
DTSTART;TZID=America/Chicago:20260113T125000
DTEND;TZID=America/Chicago:20260113T135000
DTSTAMP:20260419T174737
CREATED:20251215T003415Z
LAST-MODIFIED:20260113T033409Z
UID:10003582-1768308600-1768312200@reenaseniorliving.com
SUMMARY:TRYathlon Scrimmage. Join in on the fun!
DESCRIPTION:
URL:https://reenaseniorliving.com/event-calendar/tryathlon-scrimmage-join-in-on-the-fun/
LOCATION:Activity Room
CATEGORIES:Assisted Living,Legacy Court
END:VEVENT
BEGIN:VEVENT
DTSTART;TZID=America/Chicago:20260113T140000
DTEND;TZID=America/Chicago:20260113T142500
DTSTAMP:20260419T174737
CREATED:20251215T013434Z
LAST-MODIFIED:20251230T023412Z
UID:10003609-1768312800-1768314300@reenaseniorliving.com
SUMMARY:Balance Training with Kayla - Hallway near Activity Room
DESCRIPTION:
URL:https://reenaseniorliving.com/event-calendar/balance-training-with-kayla-hallway-near-activity-room-11/
LOCATION:Activity Room
CATEGORIES:Legacy Court
END:VEVENT
BEGIN:VEVENT
DTSTART;TZID=America/Chicago:20260113T141000
DTEND;TZID=America/Chicago:20260113T143500
DTSTAMP:20260419T174737
CREATED:20251215T013434Z
LAST-MODIFIED:20260113T033409Z
UID:10003610-1768313400-1768314900@reenaseniorliving.com
SUMMARY:Snack Delight and Social Time
DESCRIPTION:
URL:https://reenaseniorliving.com/event-calendar/snack-delight-and-social-time-activity-room-244/
LOCATION:LC Activity Room
CATEGORIES:Legacy Court
END:VEVENT
BEGIN:VEVENT
DTSTART;TZID=America/Chicago:20260113T142000
DTEND;TZID=America/Chicago:20260113T142500
DTSTAMP:20260419T174737
CREATED:20251215T013433Z
LAST-MODIFIED:20260113T033409Z
UID:10003606-1768314000-1768314300@reenaseniorliving.com
SUMMARY:Prayer
DESCRIPTION:
URL:https://reenaseniorliving.com/event-calendar/prayer-142/
LOCATION:Dining Room
CATEGORIES:Legacy Court
END:VEVENT
BEGIN:VEVENT
DTSTART;TZID=America/Chicago:20260113T143000
DTEND;TZID=America/Chicago:20260113T144500
DTSTAMP:20260419T174737
CREATED:20251215T013434Z
LAST-MODIFIED:20260113T033409Z
UID:10003611-1768314600-1768315500@reenaseniorliving.com
SUMMARY:Oshibori
DESCRIPTION:Soothing and Tactile Pleasure.
URL:https://reenaseniorliving.com/event-calendar/oshibori-102/
LOCATION:LC Activity Room
CATEGORIES:Legacy Court
END:VEVENT
BEGIN:VEVENT
DTSTART;TZID=America/Chicago:20260113T151500
DTEND;TZID=America/Chicago:20260113T154000
DTSTAMP:20260419T174737
CREATED:20251215T013434Z
LAST-MODIFIED:20260113T033410Z
UID:10003612-1768317300-1768318800@reenaseniorliving.com
SUMMARY:Movement with Balls\, Noodles\, & Weights.
DESCRIPTION:
URL:https://reenaseniorliving.com/event-calendar/movement-with-balls-noodles-weights-31/
LOCATION:Activity Room
CATEGORIES:Legacy Court
END:VEVENT
BEGIN:VEVENT
DTSTART;TZID=America/Chicago:20260113T170000
DTEND;TZID=America/Chicago:20260113T190000
DTSTAMP:20260419T174737
CREATED:20251215T013435Z
LAST-MODIFIED:20260109T030401Z
UID:10003613-1768323600-1768330800@reenaseniorliving.com
SUMMARY:Nails (polish or fingernail trim)
DESCRIPTION:
URL:https://reenaseniorliving.com/event-calendar/nails-polish-or-fingernail-trim-27/
LOCATION:Living Room
CATEGORIES:Legacy Court
END:VEVENT
BEGIN:VEVENT
DTSTART;TZID=America/Chicago:20260113T173000
DTEND;TZID=America/Chicago:20260113T183000
DTSTAMP:20260419T174737
CREATED:20260110T031910Z
LAST-MODIFIED:20260113T033410Z
UID:10003953-1768325400-1768329000@reenaseniorliving.com
SUMMARY:Game Shows
DESCRIPTION:
URL:https://reenaseniorliving.com/event-calendar/game-shows-13/
LOCATION:Living Room
CATEGORIES:Legacy Court
END:VEVENT
END:VCALENDAR