BEGIN:VCALENDAR
VERSION:2.0
PRODID:-//Reena Senior Living - ECPv6.11.2.1//NONSGML v1.0//EN
CALSCALE:GREGORIAN
METHOD:PUBLISH
X-WR-CALNAME:Reena Senior Living
X-ORIGINAL-URL:https://reenaseniorliving.com
X-WR-CALDESC:Events for Reena Senior Living
REFRESH-INTERVAL;VALUE=DURATION:PT1H
X-Robots-Tag:noindex
X-PUBLISHED-TTL:PT1H
BEGIN:VTIMEZONE
TZID:America/Chicago
BEGIN:DAYLIGHT
TZOFFSETFROM:-0600
TZOFFSETTO:-0500
TZNAME:CDT
DTSTART:20260308T080000
END:DAYLIGHT
BEGIN:STANDARD
TZOFFSETFROM:-0500
TZOFFSETTO:-0600
TZNAME:CST
DTSTART:20261101T070000
END:STANDARD
END:VTIMEZONE
BEGIN:VEVENT
DTSTART;TZID=America/Chicago:20260117T104500
DTEND;TZID=America/Chicago:20260117T111000
DTSTAMP:20260419T174605
CREATED:20260110T031912Z
LAST-MODIFIED:20260117T034908Z
UID:10003965-1768646700-1768648200@reenaseniorliving.com
SUMMARY:Balloon Volleyball
DESCRIPTION:
URL:https://reenaseniorliving.com/event-calendar/balloon-volleyball-5/
LOCATION:Activity Room
CATEGORIES:Legacy Court
END:VEVENT
BEGIN:VEVENT
DTSTART;TZID=America/Chicago:20260117T111500
DTEND;TZID=America/Chicago:20260117T113000
DTSTAMP:20260419T174605
CREATED:20260110T031912Z
LAST-MODIFIED:20260117T034908Z
UID:10003966-1768648500-1768649400@reenaseniorliving.com
SUMMARY:Walking Group!
DESCRIPTION:
URL:https://reenaseniorliving.com/event-calendar/walking-group-45/
CATEGORIES:Legacy Court
END:VEVENT
BEGIN:VEVENT
DTSTART;TZID=America/Chicago:20260117T141000
DTEND;TZID=America/Chicago:20260117T143500
DTSTAMP:20260419T174605
CREATED:20251219T014928Z
LAST-MODIFIED:20260117T034909Z
UID:10003652-1768659000-1768660500@reenaseniorliving.com
SUMMARY:Snack Delight and Social Time
DESCRIPTION:
URL:https://reenaseniorliving.com/event-calendar/snack-delight-and-social-time-activity-room-248/
LOCATION:LC Activity Room
CATEGORIES:Legacy Court
END:VEVENT
BEGIN:VEVENT
DTSTART;TZID=America/Chicago:20260117T150000
DTEND;TZID=America/Chicago:20260117T153000
DTSTAMP:20260419T174605
CREATED:20260110T031912Z
LAST-MODIFIED:20260117T034909Z
UID:10003967-1768662000-1768663800@reenaseniorliving.com
SUMMARY:Biking Group.
DESCRIPTION:
URL:https://reenaseniorliving.com/event-calendar/biking-group/
LOCATION:Activity Room
CATEGORIES:Legacy Court
END:VEVENT
BEGIN:VEVENT
DTSTART;TZID=America/Chicago:20260117T153000
DTEND;TZID=America/Chicago:20260117T160000
DTSTAMP:20260419T174605
CREATED:20260110T031912Z
LAST-MODIFIED:20260117T034909Z
UID:10003968-1768663800-1768665600@reenaseniorliving.com
SUMMARY:Walking Group!
DESCRIPTION:
URL:https://reenaseniorliving.com/event-calendar/walking-group-46/
CATEGORIES:Legacy Court
END:VEVENT
END:VCALENDAR