BEGIN:VCALENDAR
VERSION:2.0
PRODID:-//Reena Senior Living - ECPv6.11.2.1//NONSGML v1.0//EN
CALSCALE:GREGORIAN
METHOD:PUBLISH
X-WR-CALNAME:Reena Senior Living
X-ORIGINAL-URL:https://reenaseniorliving.com
X-WR-CALDESC:Events for Reena Senior Living
REFRESH-INTERVAL;VALUE=DURATION:PT1H
X-Robots-Tag:noindex
X-PUBLISHED-TTL:PT1H
BEGIN:VTIMEZONE
TZID:America/Chicago
BEGIN:DAYLIGHT
TZOFFSETFROM:-0600
TZOFFSETTO:-0500
TZNAME:CDT
DTSTART:20260308T080000
END:DAYLIGHT
BEGIN:STANDARD
TZOFFSETFROM:-0500
TZOFFSETTO:-0600
TZNAME:CST
DTSTART:20261101T070000
END:STANDARD
END:VTIMEZONE
BEGIN:VEVENT
DTSTART;TZID=America/Chicago:20260213T090000
DTEND;TZID=America/Chicago:20260213T093000
DTSTAMP:20260419T165251
CREATED:20260115T033422Z
LAST-MODIFIED:20260205T044930Z
UID:10004036-1770973200-1770975000@reenaseniorliving.com
SUMMARY:Linked Senior History\, Slideshow\, & Music
DESCRIPTION:
URL:https://reenaseniorliving.com/event-calendar/linked-senior-history-slideshow-music-14/
LOCATION:Legacy Court
CATEGORIES:Legacy Court
END:VEVENT
BEGIN:VEVENT
DTSTART;TZID=America/Chicago:20260213T091500
DTEND;TZID=America/Chicago:20260213T100000
DTSTAMP:20260419T165251
CREATED:20260115T033423Z
LAST-MODIFIED:20260213T050414Z
UID:10004037-1770974100-1770976800@reenaseniorliving.com
SUMMARY:Group Movement Class - Strength and Mobility
DESCRIPTION:
URL:https://reenaseniorliving.com/event-calendar/group-movement-class-strength-and-mobility-10/
LOCATION:Activity Room
CATEGORIES:Legacy Court
END:VEVENT
BEGIN:VEVENT
DTSTART;TZID=America/Chicago:20260213T100500
DTEND;TZID=America/Chicago:20260213T110500
DTSTAMP:20260419T165251
CREATED:20260206T044910Z
LAST-MODIFIED:20260213T050414Z
UID:10004356-1770977100-1770980700@reenaseniorliving.com
SUMMARY:Finishing Paper Artful Expressions
DESCRIPTION:
URL:https://reenaseniorliving.com/event-calendar/finishing-paper-artful-expressions/
LOCATION:Activity Room
CATEGORIES:Legacy Court
END:VEVENT
BEGIN:VEVENT
DTSTART;TZID=America/Chicago:20260213T112000
DTEND;TZID=America/Chicago:20260213T112500
DTSTAMP:20260419T165251
CREATED:20260115T033424Z
LAST-MODIFIED:20260213T050414Z
UID:10004040-1770981600-1770981900@reenaseniorliving.com
SUMMARY:Prayer
DESCRIPTION:
URL:https://reenaseniorliving.com/event-calendar/prayer-161/
LOCATION:Dining Room
CATEGORIES:Legacy Court
END:VEVENT
BEGIN:VEVENT
DTSTART;TZID=America/Chicago:20260213T124500
DTEND;TZID=America/Chicago:20260213T134000
DTSTAMP:20260419T165251
CREATED:20260115T033423Z
LAST-MODIFIED:20260209T044914Z
UID:10004038-1770986700-1770990000@reenaseniorliving.com
SUMMARY:Creative Color and Poems
DESCRIPTION:
URL:https://reenaseniorliving.com/event-calendar/creative-color-and-poems-28/
LOCATION:Legacy Court
CATEGORIES:Legacy Court
END:VEVENT
BEGIN:VEVENT
DTSTART;TZID=America/Chicago:20260213T130000
DTEND;TZID=America/Chicago:20260213T132500
DTSTAMP:20260419T165251
CREATED:20260210T050409Z
LAST-MODIFIED:20260213T050414Z
UID:10004400-1770987600-1770989100@reenaseniorliving.com
SUMMARY:Reading Poetry and Rhymes Together.
DESCRIPTION:
URL:https://reenaseniorliving.com/event-calendar/reading-poetry-and-rhymes-together-11/
LOCATION:Activity Room
CATEGORIES:Legacy Court
END:VEVENT
BEGIN:VEVENT
DTSTART;TZID=America/Chicago:20260213T134000
DTEND;TZID=America/Chicago:20260213T140000
DTSTAMP:20260419T165251
CREATED:20260210T050409Z
LAST-MODIFIED:20260213T050415Z
UID:10004401-1770990000-1770991200@reenaseniorliving.com
SUMMARY:Tambourin Fun and Instrument Fun!
DESCRIPTION:
URL:https://reenaseniorliving.com/event-calendar/tambourin-fun-and-instrument-fun/
LOCATION:Activity Room
CATEGORIES:Legacy Court
END:VEVENT
BEGIN:VEVENT
DTSTART;TZID=America/Chicago:20260213T140000
DTEND;TZID=America/Chicago:20260213T142500
DTSTAMP:20260419T165251
CREATED:20260115T033423Z
LAST-MODIFIED:20260213T050415Z
UID:10004039-1770991200-1770992700@reenaseniorliving.com
SUMMARY:Snack Delight and Social Time
DESCRIPTION:
URL:https://reenaseniorliving.com/event-calendar/snack-delight-and-social-time-15/
LOCATION:LC Activity Room
CATEGORIES:Legacy Court
END:VEVENT
BEGIN:VEVENT
DTSTART;TZID=America/Chicago:20260213T150000
DTEND;TZID=America/Chicago:20260213T154500
DTSTAMP:20260419T165251
CREATED:20260206T044910Z
LAST-MODIFIED:20260213T050415Z
UID:10004357-1770994800-1770997500@reenaseniorliving.com
SUMMARY:Game Shows with Tactile Time
DESCRIPTION:
URL:https://reenaseniorliving.com/event-calendar/game-shows-with-tactile-time/
LOCATION:Living Room
CATEGORIES:Legacy Court
END:VEVENT
END:VCALENDAR