BEGIN:VCALENDAR
VERSION:2.0
PRODID:-//Reena Senior Living - ECPv6.11.2.1//NONSGML v1.0//EN
CALSCALE:GREGORIAN
METHOD:PUBLISH
X-ORIGINAL-URL:https://reenaseniorliving.com
X-WR-CALDESC:Events for Reena Senior Living
REFRESH-INTERVAL;VALUE=DURATION:PT1H
X-Robots-Tag:noindex
X-PUBLISHED-TTL:PT1H
BEGIN:VTIMEZONE
TZID:America/Chicago
BEGIN:DAYLIGHT
TZOFFSETFROM:-0600
TZOFFSETTO:-0500
TZNAME:CDT
DTSTART:20260308T080000
END:DAYLIGHT
BEGIN:STANDARD
TZOFFSETFROM:-0500
TZOFFSETTO:-0600
TZNAME:CST
DTSTART:20261101T070000
END:STANDARD
END:VTIMEZONE
BEGIN:VEVENT
DTSTART;TZID=America/Chicago:20260214T090000
DTEND;TZID=America/Chicago:20260214T094000
DTSTAMP:20260419T164141
CREATED:20260206T044910Z
LAST-MODIFIED:20260214T050426Z
UID:10004358-1771059600-1771062000@reenaseniorliving.com
SUMMARY:Valentine's Day - Linked Senior History\, Slideshow\, & Music
DESCRIPTION:
URL:https://reenaseniorliving.com/event-calendar/linked-senior-history-slideshow-music-18/
LOCATION:Legacy Court
CATEGORIES:Legacy Court
END:VEVENT
BEGIN:VEVENT
DTSTART;TZID=America/Chicago:20260214T095000
DTEND;TZID=America/Chicago:20260214T103000
DTSTAMP:20260419T164141
CREATED:20260206T044910Z
LAST-MODIFIED:20260214T050426Z
UID:10004359-1771062600-1771065000@reenaseniorliving.com
SUMMARY:Biking
DESCRIPTION:
URL:https://reenaseniorliving.com/event-calendar/biking-62/
LOCATION:Activity Room
CATEGORIES:Legacy Court
END:VEVENT
BEGIN:VEVENT
DTSTART;TZID=America/Chicago:20260214T110000
DTEND;TZID=America/Chicago:20260214T112000
DTSTAMP:20260419T164141
CREATED:20260206T044910Z
LAST-MODIFIED:20260214T050427Z
UID:10004361-1771066800-1771068000@reenaseniorliving.com
SUMMARY:Relaxation and Restorative Breath Work
DESCRIPTION:
URL:https://reenaseniorliving.com/event-calendar/relaxation-and-restorative-breath-work/
LOCATION:Living Room
CATEGORIES:Legacy Court
END:VEVENT
BEGIN:VEVENT
DTSTART;TZID=America/Chicago:20260214T112000
DTEND;TZID=America/Chicago:20260214T112500
DTSTAMP:20260419T164141
CREATED:20260206T044910Z
LAST-MODIFIED:20260214T050428Z
UID:10004360-1771068000-1771068300@reenaseniorliving.com
SUMMARY:Prayer
DESCRIPTION:
URL:https://reenaseniorliving.com/event-calendar/prayer-174/
LOCATION:Dining Room
CATEGORIES:Legacy Court
END:VEVENT
BEGIN:VEVENT
DTSTART;TZID=America/Chicago:20260214T140000
DTEND;TZID=America/Chicago:20260214T142500
DTSTAMP:20260419T164141
CREATED:20260116T033415Z
LAST-MODIFIED:20260214T050428Z
UID:10004063-1771077600-1771079100@reenaseniorliving.com
SUMMARY:Snack Delight and Social Time
DESCRIPTION:
URL:https://reenaseniorliving.com/event-calendar/snack-delight-and-social-time-16/
LOCATION:LC Activity Room
CATEGORIES:Legacy Court
END:VEVENT
END:VCALENDAR