BEGIN:VCALENDAR
VERSION:2.0
PRODID:-//Reena Senior Living - ECPv6.11.2.1//NONSGML v1.0//EN
CALSCALE:GREGORIAN
METHOD:PUBLISH
X-ORIGINAL-URL:https://reenaseniorliving.com
X-WR-CALDESC:Events for Reena Senior Living
REFRESH-INTERVAL;VALUE=DURATION:PT1H
X-Robots-Tag:noindex
X-PUBLISHED-TTL:PT1H
BEGIN:VTIMEZONE
TZID:America/Chicago
BEGIN:DAYLIGHT
TZOFFSETFROM:-0600
TZOFFSETTO:-0500
TZNAME:CDT
DTSTART:20260308T080000
END:DAYLIGHT
BEGIN:STANDARD
TZOFFSETFROM:-0500
TZOFFSETTO:-0600
TZNAME:CST
DTSTART:20261101T070000
END:STANDARD
END:VTIMEZONE
BEGIN:VEVENT
DTSTART;TZID=America/Chicago:20260215T090000
DTEND;TZID=America/Chicago:20260215T113000
DTSTAMP:20260419T164139
CREATED:20260212T050409Z
LAST-MODIFIED:20260215T051921Z
UID:10004435-1771146000-1771155000@reenaseniorliving.com
SUMMARY:Nail Spa Day
DESCRIPTION:
URL:https://reenaseniorliving.com/event-calendar/nail-spa-day-8/
LOCATION:Grandma’s Garden
CATEGORIES:Legacy Court
END:VEVENT
BEGIN:VEVENT
DTSTART;TZID=America/Chicago:20260215T123000
DTEND;TZID=America/Chicago:20260215T130000
DTSTAMP:20260419T164139
CREATED:20260212T050410Z
LAST-MODIFIED:20260215T051921Z
UID:10004436-1771158600-1771160400@reenaseniorliving.com
SUMMARY:Let's go Walking and Wheel!
DESCRIPTION:
URL:https://reenaseniorliving.com/event-calendar/lets-go-walking-and-wheel/
CATEGORIES:Legacy Court
END:VEVENT
BEGIN:VEVENT
DTSTART;TZID=America/Chicago:20260215T130000
DTEND;TZID=America/Chicago:20260215T140000
DTSTAMP:20260419T164139
CREATED:20260117T034921Z
LAST-MODIFIED:20260215T051921Z
UID:10004068-1771160400-1771164000@reenaseniorliving.com
SUMMARY:Communion (Catholic Rounds from Andy or Tom)
DESCRIPTION:Volunteer makes rounds to all those who wish to receive communion.
URL:https://reenaseniorliving.com/event-calendar/communion-catholic-rounds-from-andy-or-tom-38/
LOCATION:Reena
CATEGORIES:Legacy Court
END:VEVENT
BEGIN:VEVENT
DTSTART;TZID=America/Chicago:20260215T133000
DTEND;TZID=America/Chicago:20260215T140000
DTSTAMP:20260419T164139
CREATED:20260212T050411Z
LAST-MODIFIED:20260215T051921Z
UID:10004437-1771162200-1771164000@reenaseniorliving.com
SUMMARY:Movement Class with Laurie!
DESCRIPTION:
URL:https://reenaseniorliving.com/event-calendar/movement-class-with-laurie-2/
LOCATION:Activity Room
CATEGORIES:Legacy Court
END:VEVENT
BEGIN:VEVENT
DTSTART;TZID=America/Chicago:20260215T140000
DTEND;TZID=America/Chicago:20260215T142500
DTSTAMP:20260419T164139
CREATED:20260117T034921Z
LAST-MODIFIED:20260215T051921Z
UID:10004069-1771164000-1771165500@reenaseniorliving.com
SUMMARY:Snack Delight and Social Time
DESCRIPTION:
URL:https://reenaseniorliving.com/event-calendar/snack-delight-and-social-time-17/
LOCATION:LC Activity Room
CATEGORIES:Legacy Court
END:VEVENT
BEGIN:VEVENT
DTSTART;TZID=America/Chicago:20260215T150000
DTEND;TZID=America/Chicago:20260215T153000
DTSTAMP:20260419T164139
CREATED:20260212T050412Z
LAST-MODIFIED:20260215T051921Z
UID:10004439-1771167600-1771169400@reenaseniorliving.com
SUMMARY:Hymn Sing-a-long with Laurie
DESCRIPTION:
URL:https://reenaseniorliving.com/event-calendar/hymn-sing-a-long-with-laurie/
LOCATION:Living Room
CATEGORIES:Legacy Court
END:VEVENT
BEGIN:VEVENT
DTSTART;TZID=America/Chicago:20260215T153000
DTEND;TZID=America/Chicago:20260215T160000
DTSTAMP:20260419T164139
CREATED:20260212T050411Z
LAST-MODIFIED:20260215T051922Z
UID:10004438-1771169400-1771171200@reenaseniorliving.com
SUMMARY:Linked Senior with Laurie - Game & Slideshow Baby Animals
DESCRIPTION:
URL:https://reenaseniorliving.com/event-calendar/linked-senior-with-laurie-game-slideshow-baby-animals/
LOCATION:Legacy Court
CATEGORIES:Legacy Court
END:VEVENT
END:VCALENDAR