BEGIN:VCALENDAR
VERSION:2.0
PRODID:-//Reena Senior Living - ECPv6.11.2.1//NONSGML v1.0//EN
CALSCALE:GREGORIAN
METHOD:PUBLISH
X-ORIGINAL-URL:https://reenaseniorliving.com
X-WR-CALDESC:Events for Reena Senior Living
REFRESH-INTERVAL;VALUE=DURATION:PT1H
X-Robots-Tag:noindex
X-PUBLISHED-TTL:PT1H
BEGIN:VTIMEZONE
TZID:America/Chicago
BEGIN:DAYLIGHT
TZOFFSETFROM:-0600
TZOFFSETTO:-0500
TZNAME:CDT
DTSTART:20260308T080000
END:DAYLIGHT
BEGIN:STANDARD
TZOFFSETFROM:-0500
TZOFFSETTO:-0600
TZNAME:CST
DTSTART:20261101T070000
END:STANDARD
END:VTIMEZONE
BEGIN:VEVENT
DTSTART;TZID=America/Chicago:20260219T090000
DTEND;TZID=America/Chicago:20260219T091500
DTSTAMP:20260419T165439
CREATED:20260121T040416Z
LAST-MODIFIED:20260219T054908Z
UID:10004145-1771491600-1771492500@reenaseniorliving.com
SUMMARY:Folding Oshibori Clothes or Grandma's Basket
DESCRIPTION:
URL:https://reenaseniorliving.com/event-calendar/folding-oshibori-clothes-or-grandmas-basket-6/
LOCATION:Legacy Court
CATEGORIES:Legacy Court
END:VEVENT
BEGIN:VEVENT
DTSTART;TZID=America/Chicago:20260219T093000
DTEND;TZID=America/Chicago:20260219T095500
DTSTAMP:20260419T165439
CREATED:20260212T050426Z
LAST-MODIFIED:20260219T054908Z
UID:10004452-1771493400-1771494900@reenaseniorliving.com
SUMMARY:Reading Poetry and Rhymes Together.
DESCRIPTION:
URL:https://reenaseniorliving.com/event-calendar/reading-poetry-and-rhymes-together-13/
LOCATION:Legacy Court
CATEGORIES:Legacy Court
END:VEVENT
BEGIN:VEVENT
DTSTART;TZID=America/Chicago:20260219T100000
DTEND;TZID=America/Chicago:20260219T103000
DTSTAMP:20260419T165439
CREATED:20260121T040417Z
LAST-MODIFIED:20260219T054908Z
UID:10004151-1771495200-1771497000@reenaseniorliving.com
SUMMARY:Grandma's Garden Social Time & Basket Exploration
DESCRIPTION:
URL:https://reenaseniorliving.com/event-calendar/grandmas-garden-social-time-14/
LOCATION:Legacy Court
CATEGORIES:Legacy Court
END:VEVENT
BEGIN:VEVENT
DTSTART;TZID=America/Chicago:20260219T103000
DTEND;TZID=America/Chicago:20260219T110000
DTSTAMP:20260419T165439
CREATED:20260212T050427Z
LAST-MODIFIED:20260219T054908Z
UID:10004453-1771497000-1771498800@reenaseniorliving.com
SUMMARY:Reminisce about Easter and Spring Fun!
DESCRIPTION:
URL:https://reenaseniorliving.com/event-calendar/reminisce-about-easter-and-spring-fun/
LOCATION:Grandma’s Garden
CATEGORIES:Legacy Court
END:VEVENT
BEGIN:VEVENT
DTSTART;TZID=America/Chicago:20260219T112000
DTEND;TZID=America/Chicago:20260219T112500
DTSTAMP:20260419T165439
CREATED:20260121T040416Z
LAST-MODIFIED:20260219T054909Z
UID:10004149-1771500000-1771500300@reenaseniorliving.com
SUMMARY:Prayer
DESCRIPTION:
URL:https://reenaseniorliving.com/event-calendar/prayer-164/
LOCATION:Dining Room
CATEGORIES:Legacy Court
END:VEVENT
BEGIN:VEVENT
DTSTART;TZID=America/Chicago:20260219T123000
DTEND;TZID=America/Chicago:20260219T124500
DTSTAMP:20260419T165439
CREATED:20260121T040416Z
LAST-MODIFIED:20260219T054909Z
UID:10004146-1771504200-1771505100@reenaseniorliving.com
SUMMARY:Group Walking for Good Health
DESCRIPTION:
URL:https://reenaseniorliving.com/event-calendar/group-walking-for-good-health-21/
LOCATION:Legacy Court
CATEGORIES:Legacy Court
END:VEVENT
BEGIN:VEVENT
DTSTART;TZID=America/Chicago:20260219T125500
DTEND;TZID=America/Chicago:20260219T135500
DTSTAMP:20260419T165439
CREATED:20260121T020413Z
LAST-MODIFIED:20260219T054909Z
UID:10004128-1771505700-1771509300@reenaseniorliving.com
SUMMARY:TRYathlon Scrimmage Day! Arm Crank or Leg Crank!
DESCRIPTION:
URL:https://reenaseniorliving.com/event-calendar/tryathlon-scrimmage-day-arm-crank-or-leg-crank/
LOCATION:Activity Room
CATEGORIES:Assisted Living,Legacy Court
END:VEVENT
BEGIN:VEVENT
DTSTART;TZID=America/Chicago:20260219T140000
DTEND;TZID=America/Chicago:20260219T142500
DTSTAMP:20260419T165439
CREATED:20260121T040416Z
LAST-MODIFIED:20260219T054909Z
UID:10004147-1771509600-1771511100@reenaseniorliving.com
SUMMARY:Snack Delight and Social Time
DESCRIPTION:
URL:https://reenaseniorliving.com/event-calendar/snack-delight-and-social-time-21/
LOCATION:LC Activity Room
CATEGORIES:Legacy Court
END:VEVENT
BEGIN:VEVENT
DTSTART;TZID=America/Chicago:20260219T141500
DTEND;TZID=America/Chicago:20260219T143000
DTSTAMP:20260419T165439
CREATED:20260121T040416Z
LAST-MODIFIED:20260219T054909Z
UID:10004148-1771510500-1771511400@reenaseniorliving.com
SUMMARY:Cedar is visiting! Pet Therapy
DESCRIPTION:
URL:https://reenaseniorliving.com/event-calendar/cedar-is-visiting-pet-therapy-11/
LOCATION:Legacy Court
CATEGORIES:Legacy Court
END:VEVENT
BEGIN:VEVENT
DTSTART;TZID=America/Chicago:20260219T144500
DTEND;TZID=America/Chicago:20260219T151500
DTSTAMP:20260419T165439
CREATED:20260121T040416Z
LAST-MODIFIED:20260211T050433Z
UID:10004150-1771512300-1771514100@reenaseniorliving.com
SUMMARY:Music Appreciation - Radio or Records
DESCRIPTION:Records or 50’s and 60’s variety this month\nTV OFF
URL:https://reenaseniorliving.com/event-calendar/music-appreciation-radio-or-records-36/
LOCATION:Legacy Court
CATEGORIES:Legacy Court
END:VEVENT
BEGIN:VEVENT
DTSTART;TZID=America/Chicago:20260219T150000
DTEND;TZID=America/Chicago:20260219T160000
DTSTAMP:20260419T165439
CREATED:20260212T050429Z
LAST-MODIFIED:20260219T054910Z
UID:10004454-1771513200-1771516800@reenaseniorliving.com
SUMMARY:Group Exercise and Biking
DESCRIPTION:
URL:https://reenaseniorliving.com/event-calendar/group-exercise-and-biking/
LOCATION:Legacy Court
CATEGORIES:Legacy Court
END:VEVENT
BEGIN:VEVENT
DTSTART;TZID=America/Chicago:20260219T173000
DTEND;TZID=America/Chicago:20260219T203000
DTSTAMP:20260419T165439
CREATED:20260212T050430Z
LAST-MODIFIED:20260219T054910Z
UID:10004455-1771522200-1771533000@reenaseniorliving.com
SUMMARY:Olympics!
DESCRIPTION:
URL:https://reenaseniorliving.com/event-calendar/olympics-4/
LOCATION:TV
CATEGORIES:Legacy Court
END:VEVENT
END:VCALENDAR