BEGIN:VCALENDAR
VERSION:2.0
PRODID:-//Reena Senior Living - ECPv6.11.2.1//NONSGML v1.0//EN
CALSCALE:GREGORIAN
METHOD:PUBLISH
X-WR-CALNAME:Reena Senior Living
X-ORIGINAL-URL:https://reenaseniorliving.com
X-WR-CALDESC:Events for Reena Senior Living
REFRESH-INTERVAL;VALUE=DURATION:PT1H
X-Robots-Tag:noindex
X-PUBLISHED-TTL:PT1H
BEGIN:VTIMEZONE
TZID:America/Chicago
BEGIN:DAYLIGHT
TZOFFSETFROM:-0600
TZOFFSETTO:-0500
TZNAME:CDT
DTSTART:20260308T080000
END:DAYLIGHT
BEGIN:STANDARD
TZOFFSETFROM:-0500
TZOFFSETTO:-0600
TZNAME:CST
DTSTART:20261101T070000
END:STANDARD
END:VTIMEZONE
BEGIN:VEVENT
DTSTART;TZID=America/Chicago:20260220T101500
DTEND;TZID=America/Chicago:20260220T105500
DTSTAMP:20260419T164019
CREATED:20260212T050430Z
LAST-MODIFIED:20260220T060503Z
UID:10004456-1771582500-1771584900@reenaseniorliving.com
SUMMARY:Let's Play Corn Hole!
DESCRIPTION:
URL:https://reenaseniorliving.com/event-calendar/lets-play-corn-hole/
LOCATION:Activity Room
CATEGORIES:Legacy Court
END:VEVENT
BEGIN:VEVENT
DTSTART;TZID=America/Chicago:20260220T110000
DTEND;TZID=America/Chicago:20260220T113000
DTSTAMP:20260419T164019
CREATED:20260122T040417Z
LAST-MODIFIED:20260220T060503Z
UID:10004158-1771585200-1771587000@reenaseniorliving.com
SUMMARY:Linked Senior History\, Slideshow\, & Music
DESCRIPTION:
URL:https://reenaseniorliving.com/event-calendar/linked-senior-history-slideshow-music-15/
LOCATION:Legacy Court
CATEGORIES:Legacy Court
END:VEVENT
BEGIN:VEVENT
DTSTART;TZID=America/Chicago:20260220T123000
DTEND;TZID=America/Chicago:20260220T131500
DTSTAMP:20260419T164019
CREATED:20260122T040417Z
LAST-MODIFIED:20260220T060503Z
UID:10004159-1771590600-1771593300@reenaseniorliving.com
SUMMARY:Group Movement Class - Strength and Mobility
DESCRIPTION:
URL:https://reenaseniorliving.com/event-calendar/group-movement-class-strength-and-mobility-11/
LOCATION:Activity Room
CATEGORIES:Legacy Court
END:VEVENT
BEGIN:VEVENT
DTSTART;TZID=America/Chicago:20260220T131500
DTEND;TZID=America/Chicago:20260220T141000
DTSTAMP:20260419T164019
CREATED:20260122T040417Z
LAST-MODIFIED:20260220T060503Z
UID:10004160-1771593300-1771596600@reenaseniorliving.com
SUMMARY:Creative Color and Poems
DESCRIPTION:
URL:https://reenaseniorliving.com/event-calendar/creative-color-and-poems-29/
LOCATION:Legacy Court
CATEGORIES:Legacy Court
END:VEVENT
BEGIN:VEVENT
DTSTART;TZID=America/Chicago:20260220T140000
DTEND;TZID=America/Chicago:20260220T142500
DTSTAMP:20260419T164019
CREATED:20260122T040417Z
LAST-MODIFIED:20260220T060503Z
UID:10004161-1771596000-1771597500@reenaseniorliving.com
SUMMARY:Snack Delight and Social Time
DESCRIPTION:
URL:https://reenaseniorliving.com/event-calendar/snack-delight-and-social-time-22/
LOCATION:LC Activity Room
CATEGORIES:Legacy Court
END:VEVENT
BEGIN:VEVENT
DTSTART;TZID=America/Chicago:20260220T142000
DTEND;TZID=America/Chicago:20260220T142500
DTSTAMP:20260419T164019
CREATED:20260122T040417Z
LAST-MODIFIED:20260220T060503Z
UID:10004162-1771597200-1771597500@reenaseniorliving.com
SUMMARY:Prayer
DESCRIPTION:
URL:https://reenaseniorliving.com/event-calendar/prayer-165/
LOCATION:Dining Room
CATEGORIES:Legacy Court
END:VEVENT
BEGIN:VEVENT
DTSTART;TZID=America/Chicago:20260220T173000
DTEND;TZID=America/Chicago:20260220T203000
DTSTAMP:20260419T164019
CREATED:20260212T050433Z
LAST-MODIFIED:20260220T060504Z
UID:10004457-1771608600-1771619400@reenaseniorliving.com
SUMMARY:Olympics!
DESCRIPTION:
URL:https://reenaseniorliving.com/event-calendar/olympics-5/
LOCATION:TV
CATEGORIES:Legacy Court
END:VEVENT
END:VCALENDAR