BEGIN:VCALENDAR
VERSION:2.0
PRODID:-//Reena Senior Living - ECPv6.11.2.1//NONSGML v1.0//EN
CALSCALE:GREGORIAN
METHOD:PUBLISH
X-ORIGINAL-URL:https://reenaseniorliving.com
X-WR-CALDESC:Events for Reena Senior Living
REFRESH-INTERVAL;VALUE=DURATION:PT1H
X-Robots-Tag:noindex
X-PUBLISHED-TTL:PT1H
BEGIN:VTIMEZONE
TZID:America/Chicago
BEGIN:DAYLIGHT
TZOFFSETFROM:-0600
TZOFFSETTO:-0500
TZNAME:CDT
DTSTART:20260308T080000
END:DAYLIGHT
BEGIN:STANDARD
TZOFFSETFROM:-0500
TZOFFSETTO:-0600
TZNAME:CST
DTSTART:20261101T070000
END:STANDARD
END:VTIMEZONE
BEGIN:VEVENT
DTSTART;TZID=America/Chicago:20260224T090000
DTEND;TZID=America/Chicago:20260224T094500
DTSTAMP:20260419T164141
CREATED:20260222T061904Z
LAST-MODIFIED:20260224T061902Z
UID:10004546-1771923600-1771926300@reenaseniorliving.com
SUMMARY:Painting Time: In a bag tactile fun.
DESCRIPTION:
URL:https://reenaseniorliving.com/event-calendar/painting-time-in-a-bag-tactile-fun/
LOCATION:Activity Room
CATEGORIES:Legacy Court
END:VEVENT
BEGIN:VEVENT
DTSTART;TZID=America/Chicago:20260224T101500
DTEND;TZID=America/Chicago:20260224T104500
DTSTAMP:20260419T164141
CREATED:20260126T040414Z
LAST-MODIFIED:20260224T061902Z
UID:10004194-1771928100-1771929900@reenaseniorliving.com
SUMMARY:Linked Senior Fun with Laurie
DESCRIPTION:linked senior
URL:https://reenaseniorliving.com/event-calendar/linked-senior-fun-with-laurie-24/
LOCATION:Living Room
CATEGORIES:Legacy Court
END:VEVENT
BEGIN:VEVENT
DTSTART;TZID=America/Chicago:20260224T110000
DTEND;TZID=America/Chicago:20260224T112000
DTSTAMP:20260419T164141
CREATED:20260222T061905Z
LAST-MODIFIED:20260224T061902Z
UID:10004547-1771930800-1771932000@reenaseniorliving.com
SUMMARY:Walking and Wheeling Together.
DESCRIPTION:
URL:https://reenaseniorliving.com/event-calendar/walking-and-wheeling-together-2/
CATEGORIES:Legacy Court
END:VEVENT
BEGIN:VEVENT
DTSTART;TZID=America/Chicago:20260224T112500
DTEND;TZID=America/Chicago:20260224T113000
DTSTAMP:20260419T164141
CREATED:20260222T061905Z
LAST-MODIFIED:20260224T061902Z
UID:10004548-1771932300-1771932600@reenaseniorliving.com
SUMMARY:Pledge of Allegiance
DESCRIPTION:
URL:https://reenaseniorliving.com/event-calendar/pledge-of-allegiance-37/
LOCATION:Legacy Court
CATEGORIES:Legacy Court
END:VEVENT
BEGIN:VEVENT
DTSTART;TZID=America/Chicago:20260224T120000
DTEND;TZID=America/Chicago:20260224T123000
DTSTAMP:20260419T164141
CREATED:20260126T040414Z
LAST-MODIFIED:20260130T043412Z
UID:10004195-1771934400-1771936200@reenaseniorliving.com
SUMMARY:Games Shows - TV off remainder of afternoon
DESCRIPTION:
URL:https://reenaseniorliving.com/event-calendar/games-shows-tv-off-remainder-of-afternoon-8/
LOCATION:Legacy Court
CATEGORIES:Legacy Court
END:VEVENT
BEGIN:VEVENT
DTSTART;TZID=America/Chicago:20260224T125500
DTEND;TZID=America/Chicago:20260224T134500
DTSTAMP:20260419T164141
CREATED:20260126T020429Z
LAST-MODIFIED:20260224T061902Z
UID:10004190-1771937700-1771940700@reenaseniorliving.com
SUMMARY:TRYathlon Day. Walking or Seated March. Come cheer them on!
DESCRIPTION:
URL:https://reenaseniorliving.com/event-calendar/tryathlon-day-join-in-on-the-fun-walking-or-seated-march-2/
LOCATION:Activity Room
CATEGORIES:Assisted Living,Legacy Court
END:VEVENT
BEGIN:VEVENT
DTSTART;TZID=America/Chicago:20260224T133000
DTEND;TZID=America/Chicago:20260224T140000
DTSTAMP:20260419T164141
CREATED:20260126T040415Z
LAST-MODIFIED:20260221T060436Z
UID:10004196-1771939800-1771941600@reenaseniorliving.com
SUMMARY:Walking and Wheeling Group! TV OFF TIME
DESCRIPTION:
URL:https://reenaseniorliving.com/event-calendar/walking-and-wheeling-group-tv-off-time-19/
LOCATION:Legacy Court
CATEGORIES:Legacy Court
END:VEVENT
BEGIN:VEVENT
DTSTART;TZID=America/Chicago:20260224T141500
DTEND;TZID=America/Chicago:20260224T144000
DTSTAMP:20260419T164141
CREATED:20260126T040415Z
LAST-MODIFIED:20260224T061903Z
UID:10004197-1771942500-1771944000@reenaseniorliving.com
SUMMARY:Snack Delight and Social Time
DESCRIPTION:
URL:https://reenaseniorliving.com/event-calendar/snack-delight-and-social-time-26/
LOCATION:LC Activity Room
CATEGORIES:Legacy Court
END:VEVENT
BEGIN:VEVENT
DTSTART;TZID=America/Chicago:20260224T142000
DTEND;TZID=America/Chicago:20260224T142500
DTSTAMP:20260419T164141
CREATED:20260126T040415Z
LAST-MODIFIED:20260224T061903Z
UID:10004198-1771942800-1771943100@reenaseniorliving.com
SUMMARY:Prayer
DESCRIPTION:
URL:https://reenaseniorliving.com/event-calendar/prayer-167/
LOCATION:Dining Room
CATEGORIES:Legacy Court
END:VEVENT
BEGIN:VEVENT
DTSTART;TZID=America/Chicago:20260224T143000
DTEND;TZID=America/Chicago:20260224T144500
DTSTAMP:20260419T164141
CREATED:20260126T040415Z
LAST-MODIFIED:20260224T061903Z
UID:10004199-1771943400-1771944300@reenaseniorliving.com
SUMMARY:Oshibori
DESCRIPTION:Soothing and Tactile Pleasure.
URL:https://reenaseniorliving.com/event-calendar/oshibori-114/
LOCATION:LC Activity Room
CATEGORIES:Legacy Court
END:VEVENT
BEGIN:VEVENT
DTSTART;TZID=America/Chicago:20260224T150500
DTEND;TZID=America/Chicago:20260224T153000
DTSTAMP:20260419T164141
CREATED:20260126T040415Z
LAST-MODIFIED:20260224T061903Z
UID:10004200-1771945500-1771947000@reenaseniorliving.com
SUMMARY:Movement with Balls\, Noodles\, & Weights.
DESCRIPTION:
URL:https://reenaseniorliving.com/event-calendar/movement-with-balls-noodles-weights-49/
LOCATION:Sunroom
CATEGORIES:Legacy Court
END:VEVENT
BEGIN:VEVENT
DTSTART;TZID=America/Chicago:20260224T173000
DTEND;TZID=America/Chicago:20260224T183000
DTSTAMP:20260419T164141
CREATED:20260222T061906Z
LAST-MODIFIED:20260224T061903Z
UID:10004549-1771954200-1771957800@reenaseniorliving.com
SUMMARY:Game Shows on TV
DESCRIPTION:
URL:https://reenaseniorliving.com/event-calendar/game-shows-on-tv-49/
LOCATION:Legacy Court
CATEGORIES:Legacy Court
END:VEVENT
BEGIN:VEVENT
DTSTART;TZID=America/Chicago:20260224T174500
DTEND;TZID=America/Chicago:20260224T184500
DTSTAMP:20260419T164141
CREATED:20260126T040415Z
LAST-MODIFIED:20260213T050459Z
UID:10004201-1771955100-1771958700@reenaseniorliving.com
SUMMARY:Nails (polish or fingernail trim)
DESCRIPTION:
URL:https://reenaseniorliving.com/event-calendar/nails-polish-or-fingernail-trim-31/
LOCATION:Living Room
CATEGORIES:Legacy Court
END:VEVENT
END:VCALENDAR