BEGIN:VCALENDAR
VERSION:2.0
PRODID:-//Reena Senior Living - ECPv6.11.2.1//NONSGML v1.0//EN
CALSCALE:GREGORIAN
METHOD:PUBLISH
X-ORIGINAL-URL:https://reenaseniorliving.com
X-WR-CALDESC:Events for Reena Senior Living
REFRESH-INTERVAL;VALUE=DURATION:PT1H
X-Robots-Tag:noindex
X-PUBLISHED-TTL:PT1H
BEGIN:VTIMEZONE
TZID:America/Chicago
BEGIN:DAYLIGHT
TZOFFSETFROM:-0600
TZOFFSETTO:-0500
TZNAME:CDT
DTSTART:20260308T080000
END:DAYLIGHT
BEGIN:STANDARD
TZOFFSETFROM:-0500
TZOFFSETTO:-0600
TZNAME:CST
DTSTART:20261101T070000
END:STANDARD
END:VTIMEZONE
BEGIN:VEVENT
DTSTART;TZID=America/Chicago:20260227T093000
DTEND;TZID=America/Chicago:20260227T101500
DTSTAMP:20260419T164140
CREATED:20260129T043512Z
LAST-MODIFIED:20260227T064905Z
UID:10004262-1772184600-1772187300@reenaseniorliving.com
SUMMARY:Group Movement Class - Strength and Mobility
DESCRIPTION:
URL:https://reenaseniorliving.com/event-calendar/group-movement-class-strength-and-mobility-12/
LOCATION:Activity Room
CATEGORIES:Legacy Court
END:VEVENT
BEGIN:VEVENT
DTSTART;TZID=America/Chicago:20260227T103000
DTEND;TZID=America/Chicago:20260227T110000
DTSTAMP:20260419T164140
CREATED:20260129T043512Z
LAST-MODIFIED:20260227T064905Z
UID:10004261-1772188200-1772190000@reenaseniorliving.com
SUMMARY:Linked Senior History\, Slideshow\, & Music
DESCRIPTION:
URL:https://reenaseniorliving.com/event-calendar/linked-senior-history-slideshow-music-16/
LOCATION:Legacy Court
CATEGORIES:Legacy Court
END:VEVENT
BEGIN:VEVENT
DTSTART;TZID=America/Chicago:20260227T110000
DTEND;TZID=America/Chicago:20260227T112000
DTSTAMP:20260419T164140
CREATED:20260222T061911Z
LAST-MODIFIED:20260227T064905Z
UID:10004556-1772190000-1772191200@reenaseniorliving.com
SUMMARY:Walking and Wheeling Together.
DESCRIPTION:
URL:https://reenaseniorliving.com/event-calendar/walking-and-wheeling-together-3/
CATEGORIES:Legacy Court
END:VEVENT
BEGIN:VEVENT
DTSTART;TZID=America/Chicago:20260227T131500
DTEND;TZID=America/Chicago:20260227T141000
DTSTAMP:20260419T164140
CREATED:20260129T043512Z
LAST-MODIFIED:20260227T064905Z
UID:10004263-1772198100-1772201400@reenaseniorliving.com
SUMMARY:Creative Color
DESCRIPTION:
URL:https://reenaseniorliving.com/event-calendar/creative-color-and-poems-30/
LOCATION:Legacy Court
CATEGORIES:Legacy Court
END:VEVENT
BEGIN:VEVENT
DTSTART;TZID=America/Chicago:20260227T141500
DTEND;TZID=America/Chicago:20260227T144000
DTSTAMP:20260419T164140
CREATED:20260129T043513Z
LAST-MODIFIED:20260227T064905Z
UID:10004264-1772201700-1772203200@reenaseniorliving.com
SUMMARY:Snack Delight and Social Time
DESCRIPTION:
URL:https://reenaseniorliving.com/event-calendar/snack-delight-and-social-time-29/
LOCATION:LC Activity Room
CATEGORIES:Legacy Court
END:VEVENT
BEGIN:VEVENT
DTSTART;TZID=America/Chicago:20260227T142000
DTEND;TZID=America/Chicago:20260227T142500
DTSTAMP:20260419T164140
CREATED:20260129T043513Z
LAST-MODIFIED:20260227T064905Z
UID:10004265-1772202000-1772202300@reenaseniorliving.com
SUMMARY:Prayer
DESCRIPTION:
URL:https://reenaseniorliving.com/event-calendar/prayer-169/
LOCATION:Dining Room
CATEGORIES:Legacy Court
END:VEVENT
END:VCALENDAR