BEGIN:VCALENDAR
VERSION:2.0
PRODID:-//Reena Senior Living - ECPv6.11.2.1//NONSGML v1.0//EN
CALSCALE:GREGORIAN
METHOD:PUBLISH
X-ORIGINAL-URL:https://reenaseniorliving.com
X-WR-CALDESC:Events for Reena Senior Living
REFRESH-INTERVAL;VALUE=DURATION:PT1H
X-Robots-Tag:noindex
X-PUBLISHED-TTL:PT1H
BEGIN:VTIMEZONE
TZID:America/Chicago
BEGIN:DAYLIGHT
TZOFFSETFROM:-0600
TZOFFSETTO:-0500
TZNAME:CDT
DTSTART:20260308T080000
END:DAYLIGHT
BEGIN:STANDARD
TZOFFSETFROM:-0500
TZOFFSETTO:-0600
TZNAME:CST
DTSTART:20261101T070000
END:STANDARD
END:VTIMEZONE
BEGIN:VEVENT
DTSTART;TZID=America/Chicago:20260302T090000
DTEND;TZID=America/Chicago:20260302T093000
DTSTAMP:20260419T153626
CREATED:20260201T043410Z
LAST-MODIFIED:20260302T071908Z
UID:10004286-1772442000-1772443800@reenaseniorliving.com
SUMMARY:Social Time - Linked Senior Events\, News\, & Reminisce
DESCRIPTION:
URL:https://reenaseniorliving.com/event-calendar/social-time-events-news-reminisce-6/
LOCATION:Activity Room
CATEGORIES:Legacy Court
END:VEVENT
BEGIN:VEVENT
DTSTART;TZID=America/Chicago:20260302T091500
DTEND;TZID=America/Chicago:20260302T094500
DTSTAMP:20260419T153626
CREATED:20260201T043410Z
LAST-MODIFIED:20260227T064918Z
UID:10004287-1772442900-1772444700@reenaseniorliving.com
SUMMARY:Movement Class
DESCRIPTION:
URL:https://reenaseniorliving.com/event-calendar/movement-class-89/
LOCATION:Living Room
CATEGORIES:Legacy Court
END:VEVENT
BEGIN:VEVENT
DTSTART;TZID=America/Chicago:20260302T093000
DTEND;TZID=America/Chicago:20260302T101000
DTSTAMP:20260419T153626
CREATED:20260201T043410Z
LAST-MODIFIED:20260302T071909Z
UID:10004288-1772443800-1772446200@reenaseniorliving.com
SUMMARY:Games!
DESCRIPTION:
URL:https://reenaseniorliving.com/event-calendar/games/
LOCATION:Activity Room
CATEGORIES:Legacy Court
END:VEVENT
BEGIN:VEVENT
DTSTART;TZID=America/Chicago:20260302T103000
DTEND;TZID=America/Chicago:20260302T105000
DTSTAMP:20260419T153626
CREATED:20260201T043410Z
LAST-MODIFIED:20260227T064918Z
UID:10004289-1772447400-1772448600@reenaseniorliving.com
SUMMARY:Balance Training with Kayla - Hallway near Activity Room
DESCRIPTION:
URL:https://reenaseniorliving.com/event-calendar/balance-training-with-kayla-hallway-near-activity-room-22/
LOCATION:Activity Room
CATEGORIES:Legacy Court
END:VEVENT
BEGIN:VEVENT
DTSTART;TZID=America/Chicago:20260302T110000
DTEND;TZID=America/Chicago:20260302T112000
DTSTAMP:20260419T153626
CREATED:20260222T061912Z
LAST-MODIFIED:20260302T071909Z
UID:10004559-1772449200-1772450400@reenaseniorliving.com
SUMMARY:Walking and Wheeling Together.
DESCRIPTION:
URL:https://reenaseniorliving.com/event-calendar/walking-and-wheeling-together-4/
CATEGORIES:Legacy Court
END:VEVENT
BEGIN:VEVENT
DTSTART;TZID=America/Chicago:20260302T130000
DTEND;TZID=America/Chicago:20260302T134500
DTSTAMP:20260419T153626
CREATED:20260201T043410Z
LAST-MODIFIED:20260302T071909Z
UID:10004290-1772456400-1772459100@reenaseniorliving.com
SUMMARY:Bingo
DESCRIPTION:
URL:https://reenaseniorliving.com/event-calendar/bingo-79/
LOCATION:LC AR
CATEGORIES:Legacy Court
END:VEVENT
BEGIN:VEVENT
DTSTART;TZID=America/Chicago:20260302T134500
DTEND;TZID=America/Chicago:20260302T140000
DTSTAMP:20260419T153626
CREATED:20260201T043410Z
LAST-MODIFIED:20260302T071909Z
UID:10004291-1772459100-1772460000@reenaseniorliving.com
SUMMARY:Jerry Apps - Great Storyteller Book Reading and Discussion
DESCRIPTION:Jerry Apps and Other Authors that reflect days gone by. Lessons and Reminiscing Fun!
URL:https://reenaseniorliving.com/event-calendar/jerry-apps-great-storyteller-book-reading-and-discussion-43/
LOCATION:Legacy Court
CATEGORIES:Legacy Court
END:VEVENT
BEGIN:VEVENT
DTSTART;TZID=America/Chicago:20260302T141500
DTEND;TZID=America/Chicago:20260302T144000
DTSTAMP:20260419T153626
CREATED:20260201T043411Z
LAST-MODIFIED:20260302T071910Z
UID:10004292-1772460900-1772462400@reenaseniorliving.com
SUMMARY:Snack Delight and Social Time
DESCRIPTION:
URL:https://reenaseniorliving.com/event-calendar/snack-delight-and-social-time-32/
LOCATION:LC Activity Room
CATEGORIES:Legacy Court
END:VEVENT
BEGIN:VEVENT
DTSTART;TZID=America/Chicago:20260302T142000
DTEND;TZID=America/Chicago:20260302T142500
DTSTAMP:20260419T153626
CREATED:20260201T043411Z
LAST-MODIFIED:20260302T071910Z
UID:10004293-1772461200-1772461500@reenaseniorliving.com
SUMMARY:Prayer
DESCRIPTION:
URL:https://reenaseniorliving.com/event-calendar/prayer-170/
LOCATION:Dining Room
CATEGORIES:Legacy Court
END:VEVENT
BEGIN:VEVENT
DTSTART;TZID=America/Chicago:20260302T150500
DTEND;TZID=America/Chicago:20260302T153000
DTSTAMP:20260419T153626
CREATED:20260201T043411Z
LAST-MODIFIED:20260302T071910Z
UID:10004294-1772463900-1772465400@reenaseniorliving.com
SUMMARY:Movement with Balls\, Noodles\, & Weights.
DESCRIPTION:
URL:https://reenaseniorliving.com/event-calendar/movement-with-balls-noodles-weights-51/
LOCATION:Sunroom
CATEGORIES:Legacy Court
END:VEVENT
BEGIN:VEVENT
DTSTART;TZID=America/Chicago:20260302T151500
DTEND;TZID=America/Chicago:20260302T153000
DTSTAMP:20260419T153626
CREATED:20260201T043411Z
LAST-MODIFIED:20260302T071910Z
UID:10004295-1772464500-1772465400@reenaseniorliving.com
SUMMARY:Breath and Relaxation
DESCRIPTION:
URL:https://reenaseniorliving.com/event-calendar/breath-and-relaxation-34/
LOCATION:Legacy Court
CATEGORIES:Legacy Court
END:VEVENT
BEGIN:VEVENT
DTSTART;TZID=America/Chicago:20260302T173000
DTEND;TZID=America/Chicago:20260302T183000
DTSTAMP:20260419T153626
CREATED:20260201T043411Z
LAST-MODIFIED:20260302T071910Z
UID:10004296-1772472600-1772476200@reenaseniorliving.com
SUMMARY:Game Shows on TV
DESCRIPTION:
URL:https://reenaseniorliving.com/event-calendar/game-shows-on-tv-46/
LOCATION:Legacy Court
CATEGORIES:Legacy Court
END:VEVENT
END:VCALENDAR