BEGIN:VCALENDAR
VERSION:2.0
PRODID:-//Reena Senior Living - ECPv6.11.2.1//NONSGML v1.0//EN
CALSCALE:GREGORIAN
METHOD:PUBLISH
X-WR-CALNAME:Reena Senior Living
X-ORIGINAL-URL:https://reenaseniorliving.com
X-WR-CALDESC:Events for Reena Senior Living
REFRESH-INTERVAL;VALUE=DURATION:PT1H
X-Robots-Tag:noindex
X-PUBLISHED-TTL:PT1H
BEGIN:VTIMEZONE
TZID:America/Chicago
BEGIN:DAYLIGHT
TZOFFSETFROM:-0600
TZOFFSETTO:-0500
TZNAME:CDT
DTSTART:20260308T080000
END:DAYLIGHT
BEGIN:STANDARD
TZOFFSETFROM:-0500
TZOFFSETTO:-0600
TZNAME:CST
DTSTART:20261101T070000
END:STANDARD
END:VTIMEZONE
BEGIN:VEVENT
DTSTART;TZID=America/Chicago:20260303T093000
DTEND;TZID=America/Chicago:20260303T100000
DTSTAMP:20260419T153156
CREATED:20260202T043414Z
LAST-MODIFIED:20260303T073402Z
UID:10004302-1772530200-1772532000@reenaseniorliving.com
SUMMARY:Let's Make Bread!
DESCRIPTION:linked senior
URL:https://reenaseniorliving.com/event-calendar/linked-senior-fun-with-laurie-25/
LOCATION:Living Room
CATEGORIES:Legacy Court
END:VEVENT
BEGIN:VEVENT
DTSTART;TZID=America/Chicago:20260303T102000
DTEND;TZID=America/Chicago:20260303T104500
DTSTAMP:20260419T153156
CREATED:20260228T064917Z
LAST-MODIFIED:20260303T073402Z
UID:10004653-1772533200-1772534700@reenaseniorliving.com
SUMMARY:Parachute Fun!
DESCRIPTION:
URL:https://reenaseniorliving.com/event-calendar/parachute-fun-7/
LOCATION:Activity Room
CATEGORIES:Legacy Court
END:VEVENT
BEGIN:VEVENT
DTSTART;TZID=America/Chicago:20260303T110000
DTEND;TZID=America/Chicago:20260303T112000
DTSTAMP:20260419T153156
CREATED:20260222T061913Z
LAST-MODIFIED:20260303T073402Z
UID:10004560-1772535600-1772536800@reenaseniorliving.com
SUMMARY:Walking and Wheeling Together.
DESCRIPTION:
URL:https://reenaseniorliving.com/event-calendar/walking-and-wheeling-together-5/
CATEGORIES:Legacy Court
END:VEVENT
BEGIN:VEVENT
DTSTART;TZID=America/Chicago:20260303T125500
DTEND;TZID=America/Chicago:20260303T135500
DTSTAMP:20260419T153156
CREATED:20260202T023425Z
LAST-MODIFIED:20260303T073402Z
UID:10004300-1772542500-1772546100@reenaseniorliving.com
SUMMARY:TRYathlon Day. Join in on the fun! Walking or Seated March.
DESCRIPTION:
URL:https://reenaseniorliving.com/event-calendar/tryathlon-day-join-in-on-the-fun-walking-or-seated-march-3/
LOCATION:Activity Room
CATEGORIES:Assisted Living,Legacy Court
END:VEVENT
BEGIN:VEVENT
DTSTART;TZID=America/Chicago:20260303T135000
DTEND;TZID=America/Chicago:20260303T142000
DTSTAMP:20260419T153156
CREATED:20260202T043414Z
LAST-MODIFIED:20260303T073402Z
UID:10004303-1772545800-1772547600@reenaseniorliving.com
SUMMARY:Walking and Wheeling Group!
DESCRIPTION:
URL:https://reenaseniorliving.com/event-calendar/walking-and-wheeling-group-tv-off-time-20/
LOCATION:Legacy Court
CATEGORIES:Legacy Court
END:VEVENT
BEGIN:VEVENT
DTSTART;TZID=America/Chicago:20260303T141000
DTEND;TZID=America/Chicago:20260303T142500
DTSTAMP:20260419T153156
CREATED:20260202T043415Z
LAST-MODIFIED:20260303T073403Z
UID:10004306-1772547000-1772547900@reenaseniorliving.com
SUMMARY:Oshibori
DESCRIPTION:Soothing and Tactile Pleasure.
URL:https://reenaseniorliving.com/event-calendar/oshibori-116/
LOCATION:LC Activity Room
CATEGORIES:Legacy Court
END:VEVENT
BEGIN:VEVENT
DTSTART;TZID=America/Chicago:20260303T141500
DTEND;TZID=America/Chicago:20260303T144000
DTSTAMP:20260419T153156
CREATED:20260202T043414Z
LAST-MODIFIED:20260303T073403Z
UID:10004304-1772547300-1772548800@reenaseniorliving.com
SUMMARY:Snack Delight and Social Time
DESCRIPTION:
URL:https://reenaseniorliving.com/event-calendar/snack-delight-and-social-time-33/
LOCATION:LC Activity Room
CATEGORIES:Legacy Court
END:VEVENT
BEGIN:VEVENT
DTSTART;TZID=America/Chicago:20260303T142000
DTEND;TZID=America/Chicago:20260303T142500
DTSTAMP:20260419T153156
CREATED:20260202T043415Z
LAST-MODIFIED:20260303T073403Z
UID:10004305-1772547600-1772547900@reenaseniorliving.com
SUMMARY:Prayer
DESCRIPTION:
URL:https://reenaseniorliving.com/event-calendar/prayer-171/
LOCATION:Dining Room
CATEGORIES:Legacy Court
END:VEVENT
BEGIN:VEVENT
DTSTART;TZID=America/Chicago:20260303T150500
DTEND;TZID=America/Chicago:20260303T153000
DTSTAMP:20260419T153156
CREATED:20260202T043415Z
LAST-MODIFIED:20260303T073403Z
UID:10004307-1772550300-1772551800@reenaseniorliving.com
SUMMARY:Movement with Balls\, Noodles\, & Weights.
DESCRIPTION:
URL:https://reenaseniorliving.com/event-calendar/movement-with-balls-noodles-weights-52/
LOCATION:Sunroom
CATEGORIES:Legacy Court
END:VEVENT
BEGIN:VEVENT
DTSTART;TZID=America/Chicago:20260303T173000
DTEND;TZID=America/Chicago:20260303T183000
DTSTAMP:20260419T153156
CREATED:20260228T064931Z
LAST-MODIFIED:20260303T073404Z
UID:10004654-1772559000-1772562600@reenaseniorliving.com
SUMMARY:Game Shows on TV
DESCRIPTION:
URL:https://reenaseniorliving.com/event-calendar/game-shows-on-tv-51/
LOCATION:Legacy Court
CATEGORIES:Legacy Court
END:VEVENT
END:VCALENDAR