BEGIN:VCALENDAR
VERSION:2.0
PRODID:-//Reena Senior Living - ECPv6.11.2.1//NONSGML v1.0//EN
CALSCALE:GREGORIAN
METHOD:PUBLISH
X-ORIGINAL-URL:https://reenaseniorliving.com
X-WR-CALDESC:Events for Reena Senior Living
REFRESH-INTERVAL;VALUE=DURATION:PT1H
X-Robots-Tag:noindex
X-PUBLISHED-TTL:PT1H
BEGIN:VTIMEZONE
TZID:America/Chicago
BEGIN:DAYLIGHT
TZOFFSETFROM:-0600
TZOFFSETTO:-0500
TZNAME:CDT
DTSTART:20260308T080000
END:DAYLIGHT
BEGIN:STANDARD
TZOFFSETFROM:-0500
TZOFFSETTO:-0600
TZNAME:CST
DTSTART:20261101T070000
END:STANDARD
END:VTIMEZONE
BEGIN:VEVENT
DTSTART;TZID=America/Chicago:20260304T091000
DTEND;TZID=America/Chicago:20260304T093000
DTSTAMP:20260419T153626
CREATED:20260203T043425Z
LAST-MODIFIED:20260304T073514Z
UID:10004321-1772615400-1772616600@reenaseniorliving.com
SUMMARY:Walking Group Time - Healthy Movement\, Healthy Body
DESCRIPTION:
URL:https://reenaseniorliving.com/event-calendar/walking-group-time-healthy-movement-healthy-body-56/
LOCATION:Legacy Court
CATEGORIES:Legacy Court
END:VEVENT
BEGIN:VEVENT
DTSTART;TZID=America/Chicago:20260304T100000
DTEND;TZID=America/Chicago:20260304T101500
DTSTAMP:20260419T153626
CREATED:20260212T050500Z
LAST-MODIFIED:20260304T073514Z
UID:10004461-1772618400-1772619300@reenaseniorliving.com
SUMMARY:Sing-a-long before Catholic Church Service - All are Welcome
DESCRIPTION:
URL:https://reenaseniorliving.com/event-calendar/sing-a-long-before-catholic-church-service-all-are-welcome-3/
LOCATION:Activity Room
CATEGORIES:Legacy Court
END:VEVENT
BEGIN:VEVENT
DTSTART;TZID=America/Chicago:20260304T101500
DTEND;TZID=America/Chicago:20260304T111500
DTSTAMP:20260419T153626
CREATED:20260203T023442Z
LAST-MODIFIED:20260304T073515Z
UID:10004313-1772619300-1772622900@reenaseniorliving.com
SUMMARY:Catholic Service at Legacy Court
DESCRIPTION:
URL:https://reenaseniorliving.com/event-calendar/catholic-service-at-legacy-court-17/
LOCATION:Legacy Court
CATEGORIES:Assisted Living,Legacy Court
END:VEVENT
BEGIN:VEVENT
DTSTART;TZID=America/Chicago:20260304T112500
DTEND;TZID=America/Chicago:20260304T113000
DTSTAMP:20260419T153626
CREATED:20260203T043424Z
LAST-MODIFIED:20260304T073515Z
UID:10004315-1772623500-1772623800@reenaseniorliving.com
SUMMARY:Pledge of Allegiance
DESCRIPTION:
URL:https://reenaseniorliving.com/event-calendar/pledge-of-allegiance-34/
LOCATION:Legacy Court
CATEGORIES:Legacy Court
END:VEVENT
BEGIN:VEVENT
DTSTART;TZID=America/Chicago:20260304T130000
DTEND;TZID=America/Chicago:20260304T132000
DTSTAMP:20260419T153626
CREATED:20260222T061914Z
LAST-MODIFIED:20260304T073515Z
UID:10004561-1772629200-1772630400@reenaseniorliving.com
SUMMARY:Guided Relaxation
DESCRIPTION:
URL:https://reenaseniorliving.com/event-calendar/guided-relaxation-2/
LOCATION:Activity Room
CATEGORIES:Legacy Court
END:VEVENT
BEGIN:VEVENT
DTSTART;TZID=America/Chicago:20260304T133000
DTEND;TZID=America/Chicago:20260304T140000
DTSTAMP:20260419T153626
CREATED:20260203T043424Z
LAST-MODIFIED:20260304T073516Z
UID:10004316-1772631000-1772632800@reenaseniorliving.com
SUMMARY:Records with Dorothy
DESCRIPTION:
URL:https://reenaseniorliving.com/event-calendar/records-with-dorothy-25/
LOCATION:Activity Room
CATEGORIES:Legacy Court
END:VEVENT
BEGIN:VEVENT
DTSTART;TZID=America/Chicago:20260304T140000
DTEND;TZID=America/Chicago:20260304T142500
DTSTAMP:20260419T153626
CREATED:20260203T043424Z
LAST-MODIFIED:20260227T064948Z
UID:10004317-1772632800-1772634300@reenaseniorliving.com
SUMMARY:Reading Poetry and Rhymes Together.
DESCRIPTION:
URL:https://reenaseniorliving.com/event-calendar/reading-poetry-and-rhymes-together-10/
LOCATION:Activity Room
CATEGORIES:Legacy Court
END:VEVENT
BEGIN:VEVENT
DTSTART;TZID=America/Chicago:20260304T140500
DTEND;TZID=America/Chicago:20260304T141500
DTSTAMP:20260419T153626
CREATED:20260203T043424Z
LAST-MODIFIED:20260227T064947Z
UID:10004318-1772633100-1772633700@reenaseniorliving.com
SUMMARY:Oshibori
DESCRIPTION:
URL:https://reenaseniorliving.com/event-calendar/oshibori-117/
LOCATION:LC Activity Room
CATEGORIES:Legacy Court
END:VEVENT
BEGIN:VEVENT
DTSTART;TZID=America/Chicago:20260304T141500
DTEND;TZID=America/Chicago:20260304T144000
DTSTAMP:20260419T153626
CREATED:20260203T043425Z
LAST-MODIFIED:20260304T073516Z
UID:10004319-1772633700-1772635200@reenaseniorliving.com
SUMMARY:Snack Delight and Social Time
DESCRIPTION:
URL:https://reenaseniorliving.com/event-calendar/snack-delight-and-social-time-34/
LOCATION:LC Activity Room
CATEGORIES:Legacy Court
END:VEVENT
BEGIN:VEVENT
DTSTART;TZID=America/Chicago:20260304T143000
DTEND;TZID=America/Chicago:20260304T145000
DTSTAMP:20260419T153626
CREATED:20260228T064948Z
LAST-MODIFIED:20260304T073516Z
UID:10004655-1772634600-1772635800@reenaseniorliving.com
SUMMARY:Chaplain Ann Visit
DESCRIPTION:
URL:https://reenaseniorliving.com/event-calendar/chaplain-ann-visit-2/
LOCATION:Activity Room
CATEGORIES:Legacy Court
END:VEVENT
BEGIN:VEVENT
DTSTART;TZID=America/Chicago:20260304T150000
DTEND;TZID=America/Chicago:20260304T152000
DTSTAMP:20260419T153626
CREATED:20260228T064948Z
LAST-MODIFIED:20260304T073517Z
UID:10004656-1772636400-1772637600@reenaseniorliving.com
SUMMARY:Sing along with Laurie
DESCRIPTION:
URL:https://reenaseniorliving.com/event-calendar/sing-along-with-laurie-2/
LOCATION:Activity Room
CATEGORIES:Legacy Court
END:VEVENT
BEGIN:VEVENT
DTSTART;TZID=America/Chicago:20260304T153500
DTEND;TZID=America/Chicago:20260304T160000
DTSTAMP:20260419T153626
CREATED:20260203T043425Z
LAST-MODIFIED:20260304T073517Z
UID:10004320-1772638500-1772640000@reenaseniorliving.com
SUMMARY:Movement with Balls\, Noodles\, & Weights.
DESCRIPTION:
URL:https://reenaseniorliving.com/event-calendar/movement-with-balls-noodles-weights-53/
LOCATION:Sunroom
CATEGORIES:Legacy Court
END:VEVENT
BEGIN:VEVENT
DTSTART;TZID=America/Chicago:20260304T174000
DTEND;TZID=America/Chicago:20260304T182000
DTSTAMP:20260419T153626
CREATED:20260228T064950Z
LAST-MODIFIED:20260304T073531Z
UID:10004657-1772646000-1772648400@reenaseniorliving.com
SUMMARY:Biking and Movement Fun with Kayla
DESCRIPTION:
URL:https://reenaseniorliving.com/event-calendar/biking-and-movement-fun-with-kayla/
LOCATION:Activity Room
CATEGORIES:Legacy Court
END:VEVENT
END:VCALENDAR