BEGIN:VCALENDAR
VERSION:2.0
PRODID:-//Reena Senior Living - ECPv6.11.2.1//NONSGML v1.0//EN
CALSCALE:GREGORIAN
METHOD:PUBLISH
X-ORIGINAL-URL:https://reenaseniorliving.com
X-WR-CALDESC:Events for Reena Senior Living
REFRESH-INTERVAL;VALUE=DURATION:PT1H
X-Robots-Tag:noindex
X-PUBLISHED-TTL:PT1H
BEGIN:VTIMEZONE
TZID:America/Chicago
BEGIN:DAYLIGHT
TZOFFSETFROM:-0600
TZOFFSETTO:-0500
TZNAME:CDT
DTSTART:20260308T080000
END:DAYLIGHT
BEGIN:STANDARD
TZOFFSETFROM:-0500
TZOFFSETTO:-0600
TZNAME:CST
DTSTART:20261101T070000
END:STANDARD
END:VTIMEZONE
BEGIN:VEVENT
DTSTART;TZID=America/Chicago:20260306T090000
DTEND;TZID=America/Chicago:20260306T093000
DTSTAMP:20260419T153342
CREATED:20260205T045007Z
LAST-MODIFIED:20260227T065003Z
UID:10004337-1772787600-1772789400@reenaseniorliving.com
SUMMARY:Linked Senior History\, Slideshow\, & Music
DESCRIPTION:
URL:https://reenaseniorliving.com/event-calendar/linked-senior-history-slideshow-music-17/
LOCATION:Legacy Court
CATEGORIES:Legacy Court
END:VEVENT
BEGIN:VEVENT
DTSTART;TZID=America/Chicago:20260306T100500
DTEND;TZID=America/Chicago:20260306T102500
DTSTAMP:20260419T153342
CREATED:20260205T045007Z
LAST-MODIFIED:20260306T075030Z
UID:10004338-1772791500-1772792700@reenaseniorliving.com
SUMMARY:Group Movement Class - Strength and Mobility with Kayla and Mary
DESCRIPTION:
URL:https://reenaseniorliving.com/event-calendar/group-movement-class-strength-and-mobility-13/
LOCATION:Activity Room
CATEGORIES:Legacy Court
END:VEVENT
BEGIN:VEVENT
DTSTART;TZID=America/Chicago:20260306T103000
DTEND;TZID=America/Chicago:20260306T111000
DTSTAMP:20260419T153342
CREATED:20260205T045008Z
LAST-MODIFIED:20260306T075031Z
UID:10004339-1772793000-1772795400@reenaseniorliving.com
SUMMARY:Creative Color and Poems
DESCRIPTION:
URL:https://reenaseniorliving.com/event-calendar/creative-color-and-poems-31/
LOCATION:Legacy Court
CATEGORIES:Legacy Court
END:VEVENT
BEGIN:VEVENT
DTSTART;TZID=America/Chicago:20260306T123000
DTEND;TZID=America/Chicago:20260306T125000
DTSTAMP:20260419T153342
CREATED:20260222T061916Z
LAST-MODIFIED:20260306T075031Z
UID:10004562-1772800200-1772801400@reenaseniorliving.com
SUMMARY:Walking and Wheeling Together.
DESCRIPTION:
URL:https://reenaseniorliving.com/event-calendar/walking-and-wheeling-together-6/
CATEGORIES:Legacy Court
END:VEVENT
BEGIN:VEVENT
DTSTART;TZID=America/Chicago:20260306T130000
DTEND;TZID=America/Chicago:20260306T132500
DTSTAMP:20260419T153342
CREATED:20260228T065023Z
LAST-MODIFIED:20260306T075031Z
UID:10004660-1772802000-1772803500@reenaseniorliving.com
SUMMARY:Reminisce with Mary - Our Favorite Times
DESCRIPTION:
URL:https://reenaseniorliving.com/event-calendar/reminisce-with-mary-our-favorite-times/
LOCATION:Grandma’s Garden
CATEGORIES:Legacy Court
END:VEVENT
BEGIN:VEVENT
DTSTART;TZID=America/Chicago:20260306T133500
DTEND;TZID=America/Chicago:20260306T140000
DTSTAMP:20260419T153342
CREATED:20260228T065023Z
LAST-MODIFIED:20260306T075031Z
UID:10004661-1772804100-1772805600@reenaseniorliving.com
SUMMARY:Grandma's Basket - Let's talk about clothes lines and how we did our laundry.
DESCRIPTION:
URL:https://reenaseniorliving.com/event-calendar/grandmas-basket-lets-talk-about-clothes-lines-and-how-we-did-our-laundry/
LOCATION:Grandma’s Garden
CATEGORIES:Legacy Court
END:VEVENT
BEGIN:VEVENT
DTSTART;TZID=America/Chicago:20260306T140000
DTEND;TZID=America/Chicago:20260306T143500
DTSTAMP:20260419T153342
CREATED:20260205T023416Z
LAST-MODIFIED:20260306T075031Z
UID:10004335-1772805600-1772807700@reenaseniorliving.com
SUMMARY:Drumming and sing-along with Jen!
DESCRIPTION:
URL:https://reenaseniorliving.com/event-calendar/drumming-and-sing-along-with-jen/
LOCATION:Activity Room
CATEGORIES:Assisted Living,Legacy Court
END:VEVENT
BEGIN:VEVENT
DTSTART;TZID=America/Chicago:20260306T141500
DTEND;TZID=America/Chicago:20260306T144000
DTSTAMP:20260419T153342
CREATED:20260205T045008Z
LAST-MODIFIED:20260306T075031Z
UID:10004340-1772806500-1772808000@reenaseniorliving.com
SUMMARY:Snack Delight and Social Time
DESCRIPTION:
URL:https://reenaseniorliving.com/event-calendar/snack-delight-and-social-time-36/
LOCATION:LC Activity Room
CATEGORIES:Legacy Court
END:VEVENT
BEGIN:VEVENT
DTSTART;TZID=America/Chicago:20260306T142000
DTEND;TZID=America/Chicago:20260306T142500
DTSTAMP:20260419T153342
CREATED:20260205T045008Z
LAST-MODIFIED:20260306T075031Z
UID:10004341-1772806800-1772807100@reenaseniorliving.com
SUMMARY:Prayer
DESCRIPTION:
URL:https://reenaseniorliving.com/event-calendar/prayer-173/
LOCATION:Dining Room
CATEGORIES:Legacy Court
END:VEVENT
BEGIN:VEVENT
DTSTART;TZID=America/Chicago:20260306T180000
DTEND;TZID=America/Chicago:20260306T193000
DTSTAMP:20260419T153342
CREATED:20260228T065023Z
LAST-MODIFIED:20260306T075031Z
UID:10004662-1772820000-1772825400@reenaseniorliving.com
SUMMARY:Classic Movie - Feel good kind.
DESCRIPTION:
URL:https://reenaseniorliving.com/event-calendar/classic-movie-feel-good-kind-2/
LOCATION:Activity Room
CATEGORIES:Legacy Court
END:VEVENT
END:VCALENDAR