BEGIN:VCALENDAR
VERSION:2.0
PRODID:-//Reena Senior Living - ECPv6.11.2.1//NONSGML v1.0//EN
CALSCALE:GREGORIAN
METHOD:PUBLISH
X-WR-CALNAME:Reena Senior Living
X-ORIGINAL-URL:https://reenaseniorliving.com
X-WR-CALDESC:Events for Reena Senior Living
REFRESH-INTERVAL;VALUE=DURATION:PT1H
X-Robots-Tag:noindex
X-PUBLISHED-TTL:PT1H
BEGIN:VTIMEZONE
TZID:America/Chicago
BEGIN:DAYLIGHT
TZOFFSETFROM:-0600
TZOFFSETTO:-0500
TZNAME:CDT
DTSTART:20260308T080000
END:DAYLIGHT
BEGIN:STANDARD
TZOFFSETFROM:-0500
TZOFFSETTO:-0600
TZNAME:CST
DTSTART:20261101T070000
END:STANDARD
END:VTIMEZONE
BEGIN:VEVENT
DTSTART;TZID=America/Chicago:20260313T103000
DTEND;TZID=America/Chicago:20260313T105000
DTSTAMP:20260419T153506
CREATED:20260222T061924Z
LAST-MODIFIED:20260313T083447Z
UID:10004566-1773397800-1773399000@reenaseniorliving.com
SUMMARY:Walking and Wheeling Together.
DESCRIPTION:
URL:https://reenaseniorliving.com/event-calendar/walking-and-wheeling-together-9/
CATEGORIES:Legacy Court
END:VEVENT
BEGIN:VEVENT
DTSTART;TZID=America/Chicago:20260313T110000
DTEND;TZID=America/Chicago:20260313T113000
DTSTAMP:20260419T153506
CREATED:20260212T050516Z
LAST-MODIFIED:20260313T083448Z
UID:10004464-1773399600-1773401400@reenaseniorliving.com
SUMMARY:Group Movement Class - Strength and Mobility
DESCRIPTION:
URL:https://reenaseniorliving.com/event-calendar/group-movement-class-strength-and-mobility-14/
LOCATION:Activity Room
CATEGORIES:Legacy Court
END:VEVENT
BEGIN:VEVENT
DTSTART;TZID=America/Chicago:20260313T123000
DTEND;TZID=America/Chicago:20260313T125000
DTSTAMP:20260419T153506
CREATED:20260212T050516Z
LAST-MODIFIED:20260313T083448Z
UID:10004463-1773405000-1773406200@reenaseniorliving.com
SUMMARY:Linked Senior History\, Slideshow\, & Music
DESCRIPTION:
URL:https://reenaseniorliving.com/event-calendar/linked-senior-history-slideshow-music-19/
LOCATION:Legacy Court
CATEGORIES:Legacy Court
END:VEVENT
BEGIN:VEVENT
DTSTART;TZID=America/Chicago:20260313T130000
DTEND;TZID=America/Chicago:20260313T140000
DTSTAMP:20260419T153506
CREATED:20260306T075035Z
LAST-MODIFIED:20260313T083449Z
UID:10004781-1773406800-1773410400@reenaseniorliving.com
SUMMARY:Bingo!
DESCRIPTION:
URL:https://reenaseniorliving.com/event-calendar/bingo-84/
LOCATION:Activity Room
CATEGORIES:Legacy Court
END:VEVENT
BEGIN:VEVENT
DTSTART;TZID=America/Chicago:20260313T131500
DTEND;TZID=America/Chicago:20260313T141000
DTSTAMP:20260419T153506
CREATED:20260212T050516Z
LAST-MODIFIED:20260305T074908Z
UID:10004465-1773407700-1773411000@reenaseniorliving.com
SUMMARY:Creative Color and Poems
DESCRIPTION:
URL:https://reenaseniorliving.com/event-calendar/creative-color-and-poems-32/
LOCATION:Legacy Court
CATEGORIES:Legacy Court
END:VEVENT
BEGIN:VEVENT
DTSTART;TZID=America/Chicago:20260313T142000
DTEND;TZID=America/Chicago:20260313T142500
DTSTAMP:20260419T153506
CREATED:20260212T050516Z
LAST-MODIFIED:20260313T083449Z
UID:10004467-1773411600-1773411900@reenaseniorliving.com
SUMMARY:Prayer
DESCRIPTION:
URL:https://reenaseniorliving.com/event-calendar/prayer-179/
LOCATION:Dining Room
CATEGORIES:Legacy Court
END:VEVENT
BEGIN:VEVENT
DTSTART;TZID=America/Chicago:20260313T143000
DTEND;TZID=America/Chicago:20260313T145500
DTSTAMP:20260419T153506
CREATED:20260212T050516Z
LAST-MODIFIED:20260313T083450Z
UID:10004466-1773412200-1773413700@reenaseniorliving.com
SUMMARY:Snack Delight and Social Time
DESCRIPTION:
URL:https://reenaseniorliving.com/event-calendar/snack-delight-and-social-time-43/
LOCATION:LC Activity Room
CATEGORIES:Legacy Court
END:VEVENT
BEGIN:VEVENT
DTSTART;TZID=America/Chicago:20260313T173000
DTEND;TZID=America/Chicago:20260313T183000
DTSTAMP:20260419T153506
CREATED:20260228T065137Z
LAST-MODIFIED:20260313T083450Z
UID:10004670-1773423000-1773426600@reenaseniorliving.com
SUMMARY:Calm Time- TV - Feel good kind.
DESCRIPTION:
URL:https://reenaseniorliving.com/event-calendar/classic-movie-feel-good-kind-4/
LOCATION:Activity Room
CATEGORIES:Legacy Court
END:VEVENT
END:VCALENDAR