BEGIN:VCALENDAR
VERSION:2.0
PRODID:-//Reena Senior Living - ECPv6.11.2.1//NONSGML v1.0//EN
CALSCALE:GREGORIAN
METHOD:PUBLISH
X-ORIGINAL-URL:https://reenaseniorliving.com
X-WR-CALDESC:Events for Reena Senior Living
REFRESH-INTERVAL;VALUE=DURATION:PT1H
X-Robots-Tag:noindex
X-PUBLISHED-TTL:PT1H
BEGIN:VTIMEZONE
TZID:America/Chicago
BEGIN:DAYLIGHT
TZOFFSETFROM:-0600
TZOFFSETTO:-0500
TZNAME:CDT
DTSTART:20260308T080000
END:DAYLIGHT
BEGIN:STANDARD
TZOFFSETFROM:-0500
TZOFFSETTO:-0600
TZNAME:CST
DTSTART:20261101T070000
END:STANDARD
END:VTIMEZONE
BEGIN:VEVENT
DTSTART;TZID=America/Chicago:20260314T123000
DTEND;TZID=America/Chicago:20260314T130000
DTSTAMP:20260419T153341
CREATED:20260306T075035Z
LAST-MODIFIED:20260314T084925Z
UID:10004782-1773491400-1773493200@reenaseniorliving.com
SUMMARY:Walking for our Health!
DESCRIPTION:
URL:https://reenaseniorliving.com/event-calendar/walking-for-our-health-4/
CATEGORIES:Legacy Court
END:VEVENT
BEGIN:VEVENT
DTSTART;TZID=America/Chicago:20260314T130000
DTEND;TZID=America/Chicago:20260314T141500
DTSTAMP:20260419T153341
CREATED:20260306T075036Z
LAST-MODIFIED:20260314T084925Z
UID:10004783-1773493200-1773497700@reenaseniorliving.com
SUMMARY:Linked Senior! Wheel of Fortune; Spin and Solve.
DESCRIPTION:
URL:https://reenaseniorliving.com/event-calendar/linked-senior-wheel-of-fortune-spin-and-solve/
LOCATION:Grandma’s Garden
CATEGORIES:Legacy Court
END:VEVENT
BEGIN:VEVENT
DTSTART;TZID=America/Chicago:20260314T143000
DTEND;TZID=America/Chicago:20260314T145500
DTSTAMP:20260419T153341
CREATED:20260213T050536Z
LAST-MODIFIED:20260314T084926Z
UID:10004469-1773498600-1773500100@reenaseniorliving.com
SUMMARY:Snack Delight and Social Time
DESCRIPTION:
URL:https://reenaseniorliving.com/event-calendar/snack-delight-and-social-time-44/
LOCATION:LC Activity Room
CATEGORIES:Legacy Court
END:VEVENT
BEGIN:VEVENT
DTSTART;TZID=America/Chicago:20260314T173000
DTEND;TZID=America/Chicago:20260314T183000
DTSTAMP:20260419T153341
CREATED:20260228T065150Z
LAST-MODIFIED:20260314T084926Z
UID:10004671-1773509400-1773513000@reenaseniorliving.com
SUMMARY:Game Shows on TV
DESCRIPTION:
URL:https://reenaseniorliving.com/event-calendar/game-shows-on-tv-54/
LOCATION:Legacy Court
CATEGORIES:Legacy Court
END:VEVENT
END:VCALENDAR