BEGIN:VCALENDAR
VERSION:2.0
PRODID:-//Reena Senior Living - ECPv6.11.2.1//NONSGML v1.0//EN
CALSCALE:GREGORIAN
METHOD:PUBLISH
X-ORIGINAL-URL:https://reenaseniorliving.com
X-WR-CALDESC:Events for Reena Senior Living
REFRESH-INTERVAL;VALUE=DURATION:PT1H
X-Robots-Tag:noindex
X-PUBLISHED-TTL:PT1H
BEGIN:VTIMEZONE
TZID:America/Chicago
BEGIN:DAYLIGHT
TZOFFSETFROM:-0600
TZOFFSETTO:-0500
TZNAME:CDT
DTSTART:20260308T080000
END:DAYLIGHT
BEGIN:STANDARD
TZOFFSETFROM:-0500
TZOFFSETTO:-0600
TZNAME:CST
DTSTART:20261101T070000
END:STANDARD
END:VTIMEZONE
BEGIN:VEVENT
DTSTART;TZID=America/Chicago:20260317T093000
DTEND;TZID=America/Chicago:20260317T100000
DTSTAMP:20260419T153305
CREATED:20260216T052007Z
LAST-MODIFIED:20260317T091907Z
UID:10004493-1773739800-1773741600@reenaseniorliving.com
SUMMARY:Linked Senior Fun with Laurie
DESCRIPTION:linked senior
URL:https://reenaseniorliving.com/event-calendar/linked-senior-fun-with-laurie-28/
LOCATION:Living Room
CATEGORIES:Legacy Court
END:VEVENT
BEGIN:VEVENT
DTSTART;TZID=America/Chicago:20260317T100000
DTEND;TZID=America/Chicago:20260317T110000
DTSTAMP:20260419T153305
CREATED:20260314T084928Z
LAST-MODIFIED:20260317T091907Z
UID:10004871-1773741600-1773745200@reenaseniorliving.com
SUMMARY:Hummingbird Documentary - Youtube
DESCRIPTION:
URL:https://reenaseniorliving.com/event-calendar/hummingbird-documentary-youtube/
LOCATION:Activity Room
CATEGORIES:Legacy Court
END:VEVENT
BEGIN:VEVENT
DTSTART;TZID=America/Chicago:20260317T110000
DTEND;TZID=America/Chicago:20260317T112000
DTSTAMP:20260419T153305
CREATED:20260222T061926Z
LAST-MODIFIED:20260317T091907Z
UID:10004568-1773745200-1773746400@reenaseniorliving.com
SUMMARY:Walking and Wheeling Together.
DESCRIPTION:
URL:https://reenaseniorliving.com/event-calendar/walking-and-wheeling-together-11/
CATEGORIES:Legacy Court
END:VEVENT
BEGIN:VEVENT
DTSTART;TZID=America/Chicago:20260317T112000
DTEND;TZID=America/Chicago:20260317T112500
DTSTAMP:20260419T153305
CREATED:20260216T052009Z
LAST-MODIFIED:20260317T091907Z
UID:10004496-1773746400-1773746700@reenaseniorliving.com
SUMMARY:Prayer
DESCRIPTION:
URL:https://reenaseniorliving.com/event-calendar/prayer-181/
LOCATION:Dining Room
CATEGORIES:Legacy Court
END:VEVENT
BEGIN:VEVENT
DTSTART;TZID=America/Chicago:20260317T125500
DTEND;TZID=America/Chicago:20260317T135500
DTSTAMP:20260419T153305
CREATED:20260216T024952Z
LAST-MODIFIED:20260223T062015Z
UID:10004491-1773752100-1773755700@reenaseniorliving.com
SUMMARY:TRYathlon Day. Join in on the fun! Walking or Seated March.
DESCRIPTION:
URL:https://reenaseniorliving.com/event-calendar/tryathlon-day-join-in-on-the-fun-walking-or-seated-march-5/
LOCATION:Activity Room
CATEGORIES:Assisted Living,Legacy Court
END:VEVENT
BEGIN:VEVENT
DTSTART;TZID=America/Chicago:20260317T133000
DTEND;TZID=America/Chicago:20260317T143000
DTSTAMP:20260419T153305
CREATED:20260304T032140Z
LAST-MODIFIED:20260317T091907Z
UID:10004731-1773754200-1773757800@reenaseniorliving.com
SUMMARY:St. Patty's Social!
DESCRIPTION:
URL:https://reenaseniorliving.com/event-calendar/st-pattys-party-na-beer-or-grasshoppers/
LOCATION:Activity Room
CATEGORIES:Assisted Living,Legacy Court
END:VEVENT
BEGIN:VEVENT
DTSTART;TZID=America/Chicago:20260317T141000
DTEND;TZID=America/Chicago:20260317T142500
DTSTAMP:20260419T153305
CREATED:20260216T052009Z
LAST-MODIFIED:20260313T083533Z
UID:10004497-1773756600-1773757500@reenaseniorliving.com
SUMMARY:Oshibori
DESCRIPTION:Soothing and Tactile Pleasure.
URL:https://reenaseniorliving.com/event-calendar/oshibori-120/
LOCATION:LC Activity Room
CATEGORIES:Legacy Court
END:VEVENT
BEGIN:VEVENT
DTSTART;TZID=America/Chicago:20260317T143000
DTEND;TZID=America/Chicago:20260317T145500
DTSTAMP:20260419T153305
CREATED:20260216T052008Z
LAST-MODIFIED:20260317T091907Z
UID:10004495-1773757800-1773759300@reenaseniorliving.com
SUMMARY:Snack Delight and Social Time
DESCRIPTION:
URL:https://reenaseniorliving.com/event-calendar/snack-delight-and-social-time-47/
LOCATION:LC Activity Room
CATEGORIES:Legacy Court
END:VEVENT
BEGIN:VEVENT
DTSTART;TZID=America/Chicago:20260317T150500
DTEND;TZID=America/Chicago:20260317T153000
DTSTAMP:20260419T153305
CREATED:20260216T052012Z
LAST-MODIFIED:20260317T091908Z
UID:10004498-1773759900-1773761400@reenaseniorliving.com
SUMMARY:Movement with Balls\, Noodles\, & Weights.
DESCRIPTION:
URL:https://reenaseniorliving.com/event-calendar/movement-with-balls-noodles-weights-58/
LOCATION:Sunroom
CATEGORIES:Legacy Court
END:VEVENT
BEGIN:VEVENT
DTSTART;TZID=America/Chicago:20260317T155000
DTEND;TZID=America/Chicago:20260317T162000
DTSTAMP:20260419T153305
CREATED:20260216T052008Z
LAST-MODIFIED:20260317T091908Z
UID:10004494-1773762600-1773764400@reenaseniorliving.com
SUMMARY:Walking and Wheeling Group!
DESCRIPTION:
URL:https://reenaseniorliving.com/event-calendar/walking-and-wheeling-group-tv-off-time-22/
LOCATION:Legacy Court
CATEGORIES:Legacy Court
END:VEVENT
BEGIN:VEVENT
DTSTART;TZID=America/Chicago:20260317T173000
DTEND;TZID=America/Chicago:20260317T183000
DTSTAMP:20260419T153305
CREATED:20260228T065220Z
LAST-MODIFIED:20260317T091908Z
UID:10004672-1773768600-1773772200@reenaseniorliving.com
SUMMARY:Game Shows on TV
DESCRIPTION:
URL:https://reenaseniorliving.com/event-calendar/game-shows-on-tv-55/
LOCATION:Legacy Court
CATEGORIES:Legacy Court
END:VEVENT
END:VCALENDAR