BEGIN:VCALENDAR
VERSION:2.0
PRODID:-//Reena Senior Living - ECPv6.11.2.1//NONSGML v1.0//EN
CALSCALE:GREGORIAN
METHOD:PUBLISH
X-ORIGINAL-URL:https://reenaseniorliving.com
X-WR-CALDESC:Events for Reena Senior Living
REFRESH-INTERVAL;VALUE=DURATION:PT1H
X-Robots-Tag:noindex
X-PUBLISHED-TTL:PT1H
BEGIN:VTIMEZONE
TZID:America/Chicago
BEGIN:DAYLIGHT
TZOFFSETFROM:-0600
TZOFFSETTO:-0500
TZNAME:CDT
DTSTART:20260308T080000
END:DAYLIGHT
BEGIN:STANDARD
TZOFFSETFROM:-0500
TZOFFSETTO:-0600
TZNAME:CST
DTSTART:20261101T070000
END:STANDARD
END:VTIMEZONE
BEGIN:VEVENT
DTSTART;TZID=America/Chicago:20260506T100000
DTEND;TZID=America/Chicago:20260506T101500
DTSTAMP:20260424T104444
CREATED:20260417T135024Z
LAST-MODIFIED:20260424T153544Z
UID:10005274-1778061600-1778062500@reenaseniorliving.com
SUMMARY:Sing-a-long before Catholic Church Service - All are Welcome
DESCRIPTION:
URL:https://reenaseniorliving.com/event-calendar/sing-a-long-before-catholic-church-service-all-are-welcome-12/
LOCATION:Activity Room
CATEGORIES:Legacy Court
END:VEVENT
BEGIN:VEVENT
DTSTART;TZID=America/Chicago:20260506T101500
DTEND;TZID=America/Chicago:20260506T111500
DTSTAMP:20260424T104444
CREATED:20260407T060512Z
LAST-MODIFIED:20260424T153544Z
UID:10005114-1778062500-1778066100@reenaseniorliving.com
SUMMARY:Catholic Service at Legacy Court
DESCRIPTION:
URL:https://reenaseniorliving.com/event-calendar/catholic-service-at-legacy-court-26/
LOCATION:Legacy Court
CATEGORIES:Assisted Living,Legacy Court
END:VEVENT
BEGIN:VEVENT
DTSTART;TZID=America/Chicago:20260506T112500
DTEND;TZID=America/Chicago:20260506T113000
DTSTAMP:20260424T104444
CREATED:20260417T135025Z
LAST-MODIFIED:20260424T153544Z
UID:10005275-1778066700-1778067000@reenaseniorliving.com
SUMMARY:Pledge of Allegiance
DESCRIPTION:
URL:https://reenaseniorliving.com/event-calendar/pledge-of-allegiance-44/
LOCATION:Legacy Court
CATEGORIES:Legacy Court
END:VEVENT
BEGIN:VEVENT
DTSTART;TZID=America/Chicago:20260506T123000
DTEND;TZID=America/Chicago:20260506T125000
DTSTAMP:20260424T104444
CREATED:20260417T135025Z
LAST-MODIFIED:20260424T153545Z
UID:10005276-1778070600-1778071800@reenaseniorliving.com
SUMMARY:Spin and Solve - Linked Senior
DESCRIPTION:
URL:https://reenaseniorliving.com/event-calendar/spin-and-solve-linked-senior-3/
LOCATION:Activity Room
CATEGORIES:Legacy Court
END:VEVENT
BEGIN:VEVENT
DTSTART;TZID=America/Chicago:20260506T130000
DTEND;TZID=America/Chicago:20260506T132000
DTSTAMP:20260424T104444
CREATED:20260417T135025Z
LAST-MODIFIED:20260424T153545Z
UID:10005277-1778072400-1778073600@reenaseniorliving.com
SUMMARY:Guided Relaxation
DESCRIPTION:
URL:https://reenaseniorliving.com/event-calendar/guided-relaxation-11/
LOCATION:Activity Room
CATEGORIES:Legacy Court
END:VEVENT
BEGIN:VEVENT
DTSTART;TZID=America/Chicago:20260506T132500
DTEND;TZID=America/Chicago:20260506T134500
DTSTAMP:20260424T104444
CREATED:20260417T135025Z
LAST-MODIFIED:20260424T153545Z
UID:10005278-1778073900-1778075100@reenaseniorliving.com
SUMMARY:Records with Dorothy
DESCRIPTION:
URL:https://reenaseniorliving.com/event-calendar/records-with-dorothy-34/
LOCATION:Activity Room
CATEGORIES:Legacy Court
END:VEVENT
BEGIN:VEVENT
DTSTART;TZID=America/Chicago:20260506T141500
DTEND;TZID=America/Chicago:20260506T144000
DTSTAMP:20260424T104444
CREATED:20260417T135025Z
LAST-MODIFIED:20260424T153545Z
UID:10005279-1778076900-1778078400@reenaseniorliving.com
SUMMARY:Snack Delight and Social Time
DESCRIPTION:
URL:https://reenaseniorliving.com/event-calendar/snack-delight-and-social-time-97/
LOCATION:LC Activity Room
CATEGORIES:Legacy Court
END:VEVENT
BEGIN:VEVENT
DTSTART;TZID=America/Chicago:20260506T150000
DTEND;TZID=America/Chicago:20260506T152500
DTSTAMP:20260424T104444
CREATED:20260417T135025Z
LAST-MODIFIED:20260424T153546Z
UID:10005280-1778079600-1778081100@reenaseniorliving.com
SUMMARY:Movement with Balls\, Noodles\, & Weights.
DESCRIPTION:
URL:https://reenaseniorliving.com/event-calendar/movement-with-balls-noodles-weights-80/
LOCATION:Sunroom
CATEGORIES:Legacy Court
END:VEVENT
BEGIN:VEVENT
DTSTART;TZID=America/Chicago:20260506T161500
DTEND;TZID=America/Chicago:20260506T163000
DTSTAMP:20260424T104444
CREATED:20260417T135025Z
LAST-MODIFIED:20260424T153546Z
UID:10005281-1778084100-1778085000@reenaseniorliving.com
SUMMARY:Walking Group Time - Healthy Movement\, Healthy Body
DESCRIPTION:
URL:https://reenaseniorliving.com/event-calendar/walking-group-time-healthy-movement-healthy-body-65/
LOCATION:Legacy Court
CATEGORIES:Legacy Court
END:VEVENT
END:VCALENDAR