BEGIN:VCALENDAR
VERSION:2.0
PRODID:-//Reena Senior Living - ECPv6.11.2.1//NONSGML v1.0//EN
CALSCALE:GREGORIAN
METHOD:PUBLISH
X-ORIGINAL-URL:https://reenaseniorliving.com
X-WR-CALDESC:Events for Reena Senior Living
REFRESH-INTERVAL;VALUE=DURATION:PT1H
X-Robots-Tag:noindex
X-PUBLISHED-TTL:PT1H
BEGIN:VTIMEZONE
TZID:America/Chicago
BEGIN:DAYLIGHT
TZOFFSETFROM:-0600
TZOFFSETTO:-0500
TZNAME:CDT
DTSTART:20260308T080000
END:DAYLIGHT
BEGIN:STANDARD
TZOFFSETFROM:-0500
TZOFFSETTO:-0600
TZNAME:CST
DTSTART:20261101T070000
END:STANDARD
END:VTIMEZONE
BEGIN:VEVENT
DTSTART;TZID=America/Chicago:20260507T123000
DTEND;TZID=America/Chicago:20260507T124500
DTSTAMP:20260424T104500
CREATED:20260417T135026Z
LAST-MODIFIED:20260424T153546Z
UID:10005282-1778157000-1778157900@reenaseniorliving.com
SUMMARY:Group Walking for Good Health
DESCRIPTION:
URL:https://reenaseniorliving.com/event-calendar/group-walking-for-good-health-32/
LOCATION:Legacy Court
CATEGORIES:Legacy Court
END:VEVENT
BEGIN:VEVENT
DTSTART;TZID=America/Chicago:20260507T130000
DTEND;TZID=America/Chicago:20260507T133000
DTSTAMP:20260424T104500
CREATED:20260417T135026Z
LAST-MODIFIED:20260424T153557Z
UID:10005283-1778158800-1778160600@reenaseniorliving.com
SUMMARY:Rhythm Time! Song "Happy" Cheer Team Prep
DESCRIPTION:
URL:https://reenaseniorliving.com/event-calendar/rhythm-time-song-happy-cheer-team-prep-8/
LOCATION:Activity Room
CATEGORIES:Legacy Court
END:VEVENT
BEGIN:VEVENT
DTSTART;TZID=America/Chicago:20260507T131500
DTEND;TZID=America/Chicago:20260507T141500
DTSTAMP:20260424T104500
CREATED:20260408T060419Z
LAST-MODIFIED:20260424T153557Z
UID:10005117-1778159700-1778163300@reenaseniorliving.com
SUMMARY:Bingo Bash with our 3rd grade friends!
DESCRIPTION:
URL:https://reenaseniorliving.com/event-calendar/bingo-bash-with-our-3rd-grade-friends/
LOCATION:Dining Room
CATEGORIES:Assisted Living,Legacy Court
END:VEVENT
BEGIN:VEVENT
DTSTART;TZID=America/Chicago:20260507T141500
DTEND;TZID=America/Chicago:20260507T144000
DTSTAMP:20260424T104500
CREATED:20260417T135027Z
LAST-MODIFIED:20260424T153558Z
UID:10005285-1778163300-1778164800@reenaseniorliving.com
SUMMARY:Snack Delight and Social Time
DESCRIPTION:
URL:https://reenaseniorliving.com/event-calendar/snack-delight-and-social-time-98/
LOCATION:LC Activity Room
CATEGORIES:Legacy Court
END:VEVENT
BEGIN:VEVENT
DTSTART;TZID=America/Chicago:20260507T141500
DTEND;TZID=America/Chicago:20260507T144500
DTSTAMP:20260424T104500
CREATED:20260417T135026Z
LAST-MODIFIED:20260424T153558Z
UID:10005284-1778163300-1778165100@reenaseniorliving.com
SUMMARY:Music Appreciation - Radio or Records
DESCRIPTION:Records or 50’s and 60’s variety this month\nTV OFF
URL:https://reenaseniorliving.com/event-calendar/music-appreciation-radio-or-records-47/
LOCATION:Legacy Court
CATEGORIES:Legacy Court
END:VEVENT
BEGIN:VEVENT
DTSTART;TZID=America/Chicago:20260507T143000
DTEND;TZID=America/Chicago:20260507T145000
DTSTAMP:20260424T104500
CREATED:20260417T135027Z
LAST-MODIFIED:20260424T153559Z
UID:10005286-1778164200-1778165400@reenaseniorliving.com
SUMMARY:Grandma's Garden Social Time
DESCRIPTION:
URL:https://reenaseniorliving.com/event-calendar/grandmas-garden-social-time-26/
LOCATION:Legacy Court
CATEGORIES:Legacy Court
END:VEVENT
BEGIN:VEVENT
DTSTART;TZID=America/Chicago:20260507T180000
DTEND;TZID=America/Chicago:20260507T190000
DTSTAMP:20260424T104500
CREATED:20260417T135027Z
LAST-MODIFIED:20260424T153559Z
UID:10005287-1778176800-1778180400@reenaseniorliving.com
SUMMARY:Calm Time- TV - Feel good kind.
DESCRIPTION:
URL:https://reenaseniorliving.com/event-calendar/calm-time-tv-feel-good-kind-14/
LOCATION:Activity Room
CATEGORIES:Legacy Court
END:VEVENT
END:VCALENDAR