BEGIN:VCALENDAR
VERSION:2.0
PRODID:-//Reena Senior Living - ECPv6.11.2.1//NONSGML v1.0//EN
CALSCALE:GREGORIAN
METHOD:PUBLISH
X-ORIGINAL-URL:https://reenaseniorliving.com
X-WR-CALDESC:Events for Reena Senior Living
REFRESH-INTERVAL;VALUE=DURATION:PT1H
X-Robots-Tag:noindex
X-PUBLISHED-TTL:PT1H
BEGIN:VTIMEZONE
TZID:America/Chicago
BEGIN:DAYLIGHT
TZOFFSETFROM:-0600
TZOFFSETTO:-0500
TZNAME:CDT
DTSTART:20260308T080000
END:DAYLIGHT
BEGIN:STANDARD
TZOFFSETFROM:-0500
TZOFFSETTO:-0600
TZNAME:CST
DTSTART:20261101T070000
END:STANDARD
END:VTIMEZONE
BEGIN:VEVENT
DTSTART;TZID=America/Chicago:20260508T110000
DTEND;TZID=America/Chicago:20260508T112000
DTSTAMP:20260424T104444
CREATED:20260417T135027Z
LAST-MODIFIED:20260424T153559Z
UID:10005288-1778238000-1778239200@reenaseniorliving.com
SUMMARY:Walking and Wheeling Together.
DESCRIPTION:
URL:https://reenaseniorliving.com/event-calendar/walking-and-wheeling-together-33/
CATEGORIES:Legacy Court
END:VEVENT
BEGIN:VEVENT
DTSTART;TZID=America/Chicago:20260508T123000
DTEND;TZID=America/Chicago:20260508T131500
DTSTAMP:20260424T104444
CREATED:20260417T135027Z
LAST-MODIFIED:20260424T153600Z
UID:10005289-1778243400-1778246100@reenaseniorliving.com
SUMMARY:Group Movement Class - Strength and Mobility
DESCRIPTION:
URL:https://reenaseniorliving.com/event-calendar/group-movement-class-strength-and-mobility-22/
LOCATION:Activity Room
CATEGORIES:Legacy Court
END:VEVENT
BEGIN:VEVENT
DTSTART;TZID=America/Chicago:20260508T131500
DTEND;TZID=America/Chicago:20260508T141000
DTSTAMP:20260424T104444
CREATED:20260417T135028Z
LAST-MODIFIED:20260424T153600Z
UID:10005290-1778246100-1778249400@reenaseniorliving.com
SUMMARY:Creative Color and Stamping Time.
DESCRIPTION:
URL:https://reenaseniorliving.com/event-calendar/creative-color-and-stamping-time-4/
LOCATION:Legacy Court
CATEGORIES:Legacy Court
END:VEVENT
BEGIN:VEVENT
DTSTART;TZID=America/Chicago:20260508T141500
DTEND;TZID=America/Chicago:20260508T144000
DTSTAMP:20260424T104444
CREATED:20260417T135028Z
LAST-MODIFIED:20260424T153600Z
UID:10005291-1778249700-1778251200@reenaseniorliving.com
SUMMARY:Snack Delight and Social Time
DESCRIPTION:
URL:https://reenaseniorliving.com/event-calendar/snack-delight-and-social-time-99/
LOCATION:LC Activity Room
CATEGORIES:Legacy Court
END:VEVENT
BEGIN:VEVENT
DTSTART;TZID=America/Chicago:20260508T180000
DTEND;TZID=America/Chicago:20260508T190000
DTSTAMP:20260424T104444
CREATED:20260417T135029Z
LAST-MODIFIED:20260424T153613Z
UID:10005292-1778263200-1778266800@reenaseniorliving.com
SUMMARY:Calm Time- TV - Feel good kind.
DESCRIPTION:
URL:https://reenaseniorliving.com/event-calendar/calm-time-tv-feel-good-kind-15/
LOCATION:Activity Room
CATEGORIES:Legacy Court
END:VEVENT
END:VCALENDAR