BEGIN:VCALENDAR
VERSION:2.0
PRODID:-//Reena Senior Living - ECPv6.11.2.1//NONSGML v1.0//EN
CALSCALE:GREGORIAN
METHOD:PUBLISH
X-WR-CALNAME:Reena Senior Living
X-ORIGINAL-URL:https://reenaseniorliving.com
X-WR-CALDESC:Events for Reena Senior Living
REFRESH-INTERVAL;VALUE=DURATION:PT1H
X-Robots-Tag:noindex
X-PUBLISHED-TTL:PT1H
BEGIN:VTIMEZONE
TZID:America/Chicago
BEGIN:DAYLIGHT
TZOFFSETFROM:-0600
TZOFFSETTO:-0500
TZNAME:CDT
DTSTART:20260308T080000
END:DAYLIGHT
BEGIN:STANDARD
TZOFFSETFROM:-0500
TZOFFSETTO:-0600
TZNAME:CST
DTSTART:20261101T070000
END:STANDARD
END:VTIMEZONE
BEGIN:VEVENT
DTSTART;TZID=America/Chicago:20260514T103000
DTEND;TZID=America/Chicago:20260514T111500
DTSTAMP:20260424T104426
CREATED:20260417T135037Z
LAST-MODIFIED:20260424T153638Z
UID:10005317-1778754600-1778757300@reenaseniorliving.com
SUMMARY:Let's Make Bread.
DESCRIPTION:
URL:https://reenaseniorliving.com/event-calendar/lets-make-bread-30/
LOCATION:Activity Room
CATEGORIES:Legacy Court
END:VEVENT
BEGIN:VEVENT
DTSTART;TZID=America/Chicago:20260514T123000
DTEND;TZID=America/Chicago:20260514T124500
DTSTAMP:20260424T104426
CREATED:20260417T135037Z
LAST-MODIFIED:20260424T153638Z
UID:10005318-1778761800-1778762700@reenaseniorliving.com
SUMMARY:Group Walking for Good Health
DESCRIPTION:
URL:https://reenaseniorliving.com/event-calendar/group-walking-for-good-health-33/
LOCATION:Legacy Court
CATEGORIES:Legacy Court
END:VEVENT
BEGIN:VEVENT
DTSTART;TZID=America/Chicago:20260514T130000
DTEND;TZID=America/Chicago:20260514T133000
DTSTAMP:20260424T104426
CREATED:20260417T135037Z
LAST-MODIFIED:20260424T153650Z
UID:10005319-1778763600-1778765400@reenaseniorliving.com
SUMMARY:Rhythm Time! Song "Happy" Cheer Team Prep
DESCRIPTION:
URL:https://reenaseniorliving.com/event-calendar/rhythm-time-song-happy-cheer-team-prep-9/
LOCATION:Activity Room
CATEGORIES:Legacy Court
END:VEVENT
BEGIN:VEVENT
DTSTART;TZID=America/Chicago:20260514T141500
DTEND;TZID=America/Chicago:20260514T144000
DTSTAMP:20260424T104426
CREATED:20260417T135037Z
LAST-MODIFIED:20260424T153650Z
UID:10005321-1778768100-1778769600@reenaseniorliving.com
SUMMARY:Snack Delight and Social Time
DESCRIPTION:
URL:https://reenaseniorliving.com/event-calendar/snack-delight-and-social-time-105/
LOCATION:LC Activity Room
CATEGORIES:Legacy Court
END:VEVENT
BEGIN:VEVENT
DTSTART;TZID=America/Chicago:20260514T141500
DTEND;TZID=America/Chicago:20260514T144500
DTSTAMP:20260424T104426
CREATED:20260417T135037Z
LAST-MODIFIED:20260424T153650Z
UID:10005320-1778768100-1778769900@reenaseniorliving.com
SUMMARY:Music Appreciation - Radio or Records
DESCRIPTION:Records or 50’s and 60’s variety this month\nTV OFF
URL:https://reenaseniorliving.com/event-calendar/music-appreciation-radio-or-records-48/
LOCATION:Legacy Court
CATEGORIES:Legacy Court
END:VEVENT
BEGIN:VEVENT
DTSTART;TZID=America/Chicago:20260514T143000
DTEND;TZID=America/Chicago:20260514T145000
DTSTAMP:20260424T104426
CREATED:20260417T135038Z
LAST-MODIFIED:20260424T153650Z
UID:10005322-1778769000-1778770200@reenaseniorliving.com
SUMMARY:Grandma's Garden Social Time
DESCRIPTION:
URL:https://reenaseniorliving.com/event-calendar/grandmas-garden-social-time-27/
LOCATION:Legacy Court
CATEGORIES:Legacy Court
END:VEVENT
BEGIN:VEVENT
DTSTART;TZID=America/Chicago:20260514T180000
DTEND;TZID=America/Chicago:20260514T190000
DTSTAMP:20260424T104426
CREATED:20260417T135038Z
LAST-MODIFIED:20260424T153650Z
UID:10005323-1778781600-1778785200@reenaseniorliving.com
SUMMARY:Calm Time- TV - Feel good kind.
DESCRIPTION:
URL:https://reenaseniorliving.com/event-calendar/calm-time-tv-feel-good-kind-16/
LOCATION:Activity Room
CATEGORIES:Legacy Court
END:VEVENT
END:VCALENDAR