BEGIN:VCALENDAR
VERSION:2.0
PRODID:-//Reena Senior Living - ECPv6.11.2.1//NONSGML v1.0//EN
CALSCALE:GREGORIAN
METHOD:PUBLISH
X-ORIGINAL-URL:https://reenaseniorliving.com
X-WR-CALDESC:Events for Reena Senior Living
REFRESH-INTERVAL;VALUE=DURATION:PT1H
X-Robots-Tag:noindex
X-PUBLISHED-TTL:PT1H
BEGIN:VTIMEZONE
TZID:America/Chicago
BEGIN:DAYLIGHT
TZOFFSETFROM:-0600
TZOFFSETTO:-0500
TZNAME:CDT
DTSTART:20260308T080000
END:DAYLIGHT
BEGIN:STANDARD
TZOFFSETFROM:-0500
TZOFFSETTO:-0600
TZNAME:CST
DTSTART:20261101T070000
END:STANDARD
END:VTIMEZONE
BEGIN:VEVENT
DTSTART;TZID=America/Chicago:20260518T090000
DTEND;TZID=America/Chicago:20260518T093000
DTSTAMP:20260424T105605
CREATED:20260418T150500Z
LAST-MODIFIED:20260423T153444Z
UID:10005332-1779094800-1779096600@reenaseniorliving.com
SUMMARY:Social Time - Linked Senior Events\, News\, & Reminisce
DESCRIPTION:
URL:https://reenaseniorliving.com/event-calendar/social-time-linked-senior-events-news-reminisce-9/
LOCATION:Activity Room
CATEGORIES:Legacy Court
END:VEVENT
BEGIN:VEVENT
DTSTART;TZID=America/Chicago:20260518T093000
DTEND;TZID=America/Chicago:20260518T101000
DTSTAMP:20260424T105605
CREATED:20260418T150501Z
LAST-MODIFIED:20260424T153703Z
UID:10005333-1779096600-1779099000@reenaseniorliving.com
SUMMARY:Biking Time
DESCRIPTION:
URL:https://reenaseniorliving.com/event-calendar/games-13/
LOCATION:LC Activity Room
CATEGORIES:Legacy Court
END:VEVENT
BEGIN:VEVENT
DTSTART;TZID=America/Chicago:20260518T110000
DTEND;TZID=America/Chicago:20260518T112000
DTSTAMP:20260424T105605
CREATED:20260419T152004Z
LAST-MODIFIED:20260424T153703Z
UID:10005339-1779102000-1779103200@reenaseniorliving.com
SUMMARY:Walking and Wheeling Together.
DESCRIPTION:
URL:https://reenaseniorliving.com/event-calendar/walking-and-wheeling-together-37/
CATEGORIES:Legacy Court
END:VEVENT
BEGIN:VEVENT
DTSTART;TZID=America/Chicago:20260518T123000
DTEND;TZID=America/Chicago:20260518T130000
DTSTAMP:20260424T105605
CREATED:20260424T153439Z
LAST-MODIFIED:20260424T153703Z
UID:10005408-1779107400-1779109200@reenaseniorliving.com
SUMMARY:Spiritual Time with Chaplain Ann
DESCRIPTION:
URL:https://reenaseniorliving.com/event-calendar/spiritual-time-with-chaplain-ann-4/
LOCATION:LC Activity Room
CATEGORIES:Legacy Court
END:VEVENT
BEGIN:VEVENT
DTSTART;TZID=America/Chicago:20260518T130000
DTEND;TZID=America/Chicago:20260518T134500
DTSTAMP:20260424T105605
CREATED:20260419T152004Z
LAST-MODIFIED:20260424T153704Z
UID:10005340-1779109200-1779111900@reenaseniorliving.com
SUMMARY:Bingo
DESCRIPTION:
URL:https://reenaseniorliving.com/event-calendar/bingo-91/
LOCATION:LC AR
CATEGORIES:Legacy Court
END:VEVENT
BEGIN:VEVENT
DTSTART;TZID=America/Chicago:20260518T134500
DTEND;TZID=America/Chicago:20260518T140000
DTSTAMP:20260424T105605
CREATED:20260419T152004Z
LAST-MODIFIED:20260424T153704Z
UID:10005341-1779111900-1779112800@reenaseniorliving.com
SUMMARY:Jerry Apps - Great Storyteller Book Reading and Discussion
DESCRIPTION:Jerry Apps and Other Authors that reflect days gone by. Lessons and Reminiscing Fun!
URL:https://reenaseniorliving.com/event-calendar/jerry-apps-great-storyteller-book-reading-and-discussion-54/
LOCATION:Legacy Court
CATEGORIES:Legacy Court
END:VEVENT
BEGIN:VEVENT
DTSTART;TZID=America/Chicago:20260518T141500
DTEND;TZID=America/Chicago:20260518T144000
DTSTAMP:20260424T105605
CREATED:20260419T152004Z
LAST-MODIFIED:20260424T153704Z
UID:10005342-1779113700-1779115200@reenaseniorliving.com
SUMMARY:Snack Delight and Social Time
DESCRIPTION:
URL:https://reenaseniorliving.com/event-calendar/snack-delight-and-social-time-109/
LOCATION:LC Activity Room
CATEGORIES:Legacy Court
END:VEVENT
BEGIN:VEVENT
DTSTART;TZID=America/Chicago:20260518T150000
DTEND;TZID=America/Chicago:20260518T152500
DTSTAMP:20260424T105605
CREATED:20260419T152004Z
LAST-MODIFIED:20260424T153704Z
UID:10005343-1779116400-1779117900@reenaseniorliving.com
SUMMARY:Movement with Balls\, Noodles\, & Weights.
DESCRIPTION:
URL:https://reenaseniorliving.com/event-calendar/movement-with-balls-noodles-weights-84/
LOCATION:Sunroom
CATEGORIES:Legacy Court
END:VEVENT
END:VCALENDAR