BEGIN:VCALENDAR
VERSION:2.0
PRODID:-//Reena Senior Living - ECPv6.11.2.1//NONSGML v1.0//EN
CALSCALE:GREGORIAN
METHOD:PUBLISH
X-WR-CALNAME:Reena Senior Living
X-ORIGINAL-URL:https://reenaseniorliving.com
X-WR-CALDESC:Events for Reena Senior Living
REFRESH-INTERVAL;VALUE=DURATION:PT1H
X-Robots-Tag:noindex
X-PUBLISHED-TTL:PT1H
BEGIN:VTIMEZONE
TZID:America/Chicago
BEGIN:DAYLIGHT
TZOFFSETFROM:-0600
TZOFFSETTO:-0500
TZNAME:CDT
DTSTART:20260308T080000
END:DAYLIGHT
BEGIN:STANDARD
TZOFFSETFROM:-0500
TZOFFSETTO:-0600
TZNAME:CST
DTSTART:20261101T070000
END:STANDARD
END:VTIMEZONE
BEGIN:VEVENT
DTSTART;TZID=America/Chicago:20260419T123000
DTEND;TZID=America/Chicago:20260419T130000
DTSTAMP:20260419T090941
CREATED:20260417T134919Z
LAST-MODIFIED:20260418T150424Z
UID:10005199-1776601800-1776603600@reenaseniorliving.com
SUMMARY:Day in the Life of a Small Farm
DESCRIPTION:
URL:https://reenaseniorliving.com/event-calendar/day-in-the-life-of-a-small-farm/
LOCATION:Activity Room
CATEGORIES:Legacy Court
END:VEVENT
BEGIN:VEVENT
DTSTART;TZID=America/Chicago:20260419T130000
DTEND;TZID=America/Chicago:20260419T133000
DTSTAMP:20260419T090941
CREATED:20260321T093423Z
LAST-MODIFIED:20260418T150424Z
UID:10004973-1776603600-1776605400@reenaseniorliving.com
SUMMARY:Communion (Catholic Rounds from Andy or Tom)
DESCRIPTION:Volunteer makes rounds to all those who wish to receive communion.
URL:https://reenaseniorliving.com/event-calendar/communion-catholic-rounds-from-andy-or-tom-47/
LOCATION:Reena
CATEGORIES:Legacy Court
END:VEVENT
BEGIN:VEVENT
DTSTART;TZID=America/Chicago:20260419T131500
DTEND;TZID=America/Chicago:20260419T134500
DTSTAMP:20260419T090941
CREATED:20260417T134919Z
LAST-MODIFIED:20260418T150424Z
UID:10005200-1776604500-1776606300@reenaseniorliving.com
SUMMARY:Free Flow Painting - For the Joy!
DESCRIPTION:
URL:https://reenaseniorliving.com/event-calendar/free-flow-painting-for-the-joy/
LOCATION:Activity Room
CATEGORIES:Legacy Court
END:VEVENT
BEGIN:VEVENT
DTSTART;TZID=America/Chicago:20260419T134500
DTEND;TZID=America/Chicago:20260419T141500
DTSTAMP:20260419T090941
CREATED:20260417T134919Z
LAST-MODIFIED:20260418T150424Z
UID:10005201-1776606300-1776608100@reenaseniorliving.com
SUMMARY:Morning Chores FARM TOUR! Meet All My Animals
DESCRIPTION:
URL:https://reenaseniorliving.com/event-calendar/morning-chores-farm-tour-meet-all-my-animals/
LOCATION:Activity Room
CATEGORIES:Legacy Court
END:VEVENT
BEGIN:VEVENT
DTSTART;TZID=America/Chicago:20260419T141500
DTEND;TZID=America/Chicago:20260419T144000
DTSTAMP:20260419T090941
CREATED:20260321T093423Z
LAST-MODIFIED:20260418T150424Z
UID:10004974-1776608100-1776609600@reenaseniorliving.com
SUMMARY:Snack Delight and Social Time
DESCRIPTION:
URL:https://reenaseniorliving.com/event-calendar/snack-delight-and-social-time-80/
LOCATION:LC Activity Room
CATEGORIES:Legacy Court
END:VEVENT
BEGIN:VEVENT
DTSTART;TZID=America/Chicago:20260419T144500
DTEND;TZID=America/Chicago:20260419T153000
DTSTAMP:20260419T090941
CREATED:20260417T134920Z
LAST-MODIFIED:20260418T150425Z
UID:10005202-1776609900-1776612600@reenaseniorliving.com
SUMMARY:Biking Time - Let's take turns arm & leg biking.
DESCRIPTION:
URL:https://reenaseniorliving.com/event-calendar/biking-time-lets-take-turns-arm-leg-biking/
LOCATION:Activity Room
CATEGORIES:Legacy Court
END:VEVENT
BEGIN:VEVENT
DTSTART;TZID=America/Chicago:20260420T090000
DTEND;TZID=America/Chicago:20260420T093000
DTSTAMP:20260419T090941
CREATED:20260322T093519Z
LAST-MODIFIED:20260325T094925Z
UID:10004979-1776675600-1776677400@reenaseniorliving.com
SUMMARY:Social Time - Linked Senior Events\, News\, & Reminisce
DESCRIPTION:
URL:https://reenaseniorliving.com/event-calendar/social-time-linked-senior-events-news-reminisce-5/
LOCATION:Activity Room
CATEGORIES:Legacy Court
END:VEVENT
BEGIN:VEVENT
DTSTART;TZID=America/Chicago:20260420T093000
DTEND;TZID=America/Chicago:20260420T101000
DTSTAMP:20260419T090941
CREATED:20260322T093519Z
LAST-MODIFIED:20260325T094925Z
UID:10004980-1776677400-1776679800@reenaseniorliving.com
SUMMARY:Games!
DESCRIPTION:
URL:https://reenaseniorliving.com/event-calendar/games-9/
LOCATION:Activity Room
CATEGORIES:Legacy Court
END:VEVENT
BEGIN:VEVENT
DTSTART;TZID=America/Chicago:20260420T101000
DTEND;TZID=America/Chicago:20260420T103000
DTSTAMP:20260419T090941
CREATED:20260322T093520Z
LAST-MODIFIED:20260418T150425Z
UID:10004987-1776679800-1776681000@reenaseniorliving.com
SUMMARY:Breath and Relaxation
DESCRIPTION:
URL:https://reenaseniorliving.com/event-calendar/breath-and-relaxation-41/
LOCATION:Legacy Court
CATEGORIES:Legacy Court
END:VEVENT
BEGIN:VEVENT
DTSTART;TZID=America/Chicago:20260420T103000
DTEND;TZID=America/Chicago:20260420T110000
DTSTAMP:20260419T090941
CREATED:20260322T093520Z
LAST-MODIFIED:20260418T150425Z
UID:10004981-1776681000-1776682800@reenaseniorliving.com
SUMMARY:Walking and Wheeling Together.
DESCRIPTION:
URL:https://reenaseniorliving.com/event-calendar/walking-and-wheeling-together-25/
CATEGORIES:Legacy Court
END:VEVENT
BEGIN:VEVENT
DTSTART;TZID=America/Chicago:20260420T130000
DTEND;TZID=America/Chicago:20260420T134500
DTSTAMP:20260419T090941
CREATED:20260322T093520Z
LAST-MODIFIED:20260418T150425Z
UID:10004982-1776690000-1776692700@reenaseniorliving.com
SUMMARY:Bingo
DESCRIPTION:
URL:https://reenaseniorliving.com/event-calendar/bingo-87/
LOCATION:LC AR
CATEGORIES:Legacy Court
END:VEVENT
BEGIN:VEVENT
DTSTART;TZID=America/Chicago:20260420T134500
DTEND;TZID=America/Chicago:20260420T140000
DTSTAMP:20260419T090941
CREATED:20260322T093520Z
LAST-MODIFIED:20260418T150425Z
UID:10004983-1776692700-1776693600@reenaseniorliving.com
SUMMARY:Jerry Apps - Great Storyteller Book Reading and Discussion
DESCRIPTION:Jerry Apps and Other Authors that reflect days gone by. Lessons and Reminiscing Fun!
URL:https://reenaseniorliving.com/event-calendar/jerry-apps-great-storyteller-book-reading-and-discussion-50/
LOCATION:Legacy Court
CATEGORIES:Legacy Court
END:VEVENT
BEGIN:VEVENT
DTSTART;TZID=America/Chicago:20260420T141500
DTEND;TZID=America/Chicago:20260420T144000
DTSTAMP:20260419T090941
CREATED:20260322T093520Z
LAST-MODIFIED:20260418T150425Z
UID:10004985-1776694500-1776696000@reenaseniorliving.com
SUMMARY:Snack Delight and Social Time
DESCRIPTION:
URL:https://reenaseniorliving.com/event-calendar/snack-delight-and-social-time-81/
LOCATION:LC Activity Room
CATEGORIES:Legacy Court
END:VEVENT
BEGIN:VEVENT
DTSTART;TZID=America/Chicago:20260420T142000
DTEND;TZID=America/Chicago:20260420T142500
DTSTAMP:20260419T090941
CREATED:20260322T093520Z
LAST-MODIFIED:20260418T150425Z
UID:10004984-1776694800-1776695100@reenaseniorliving.com
SUMMARY:Prayer
DESCRIPTION:
URL:https://reenaseniorliving.com/event-calendar/prayer-200/
LOCATION:Dining Room
CATEGORIES:Legacy Court
END:VEVENT
BEGIN:VEVENT
DTSTART;TZID=America/Chicago:20260420T150000
DTEND;TZID=America/Chicago:20260420T152500
DTSTAMP:20260419T090941
CREATED:20260322T093520Z
LAST-MODIFIED:20260418T150425Z
UID:10004986-1776697200-1776698700@reenaseniorliving.com
SUMMARY:Movement with Balls\, Noodles\, & Weights.
DESCRIPTION:
URL:https://reenaseniorliving.com/event-calendar/movement-with-balls-noodles-weights-72/
LOCATION:Sunroom
CATEGORIES:Legacy Court
END:VEVENT
BEGIN:VEVENT
DTSTART;TZID=America/Chicago:20260420T173000
DTEND;TZID=America/Chicago:20260420T183000
DTSTAMP:20260419T090941
CREATED:20260322T093520Z
LAST-MODIFIED:20260418T150425Z
UID:10004988-1776706200-1776709800@reenaseniorliving.com
SUMMARY:Game Shows on TV
DESCRIPTION:
URL:https://reenaseniorliving.com/event-calendar/game-shows-on-tv-69/
LOCATION:Legacy Court
CATEGORIES:Legacy Court
END:VEVENT
BEGIN:VEVENT
DTSTART;TZID=America/Chicago:20260421T090000
DTEND;TZID=America/Chicago:20260421T093000
DTSTAMP:20260419T090941
CREATED:20260323T094930Z
LAST-MODIFIED:20260418T150429Z
UID:10004993-1776762000-1776763800@reenaseniorliving.com
SUMMARY:Linked Senior Fun with Laurie
DESCRIPTION:linked senior
URL:https://reenaseniorliving.com/event-calendar/linked-senior-fun-with-laurie-33/
LOCATION:Living Room
CATEGORIES:Legacy Court
END:VEVENT
BEGIN:VEVENT
DTSTART;TZID=America/Chicago:20260421T093000
DTEND;TZID=America/Chicago:20260421T103000
DTSTAMP:20260419T090941
CREATED:20260417T134934Z
LAST-MODIFIED:20260418T150429Z
UID:10005203-1776763800-1776767400@reenaseniorliving.com
SUMMARY:Hand Massages
DESCRIPTION:
URL:https://reenaseniorliving.com/event-calendar/hand-massages-5/
LOCATION:Grandma’s Garden
CATEGORIES:Legacy Court
END:VEVENT
BEGIN:VEVENT
DTSTART;TZID=America/Chicago:20260421T110000
DTEND;TZID=America/Chicago:20260421T112000
DTSTAMP:20260419T090941
CREATED:20260323T094930Z
LAST-MODIFIED:20260418T150429Z
UID:10004994-1776769200-1776770400@reenaseniorliving.com
SUMMARY:Walking and Wheeling Together.
DESCRIPTION:
URL:https://reenaseniorliving.com/event-calendar/walking-and-wheeling-together-26/
CATEGORIES:Legacy Court
END:VEVENT
BEGIN:VEVENT
DTSTART;TZID=America/Chicago:20260421T123000
DTEND;TZID=America/Chicago:20260421T130000
DTSTAMP:20260419T090941
CREATED:20260417T134946Z
LAST-MODIFIED:20260418T150429Z
UID:10005204-1776774600-1776776400@reenaseniorliving.com
SUMMARY:Patio Time
DESCRIPTION:
URL:https://reenaseniorliving.com/event-calendar/patio-time/
LOCATION:Legacy Court Patio
CATEGORIES:Legacy Court
END:VEVENT
BEGIN:VEVENT
DTSTART;TZID=America/Chicago:20260421T130000
DTEND;TZID=America/Chicago:20260421T134000
DTSTAMP:20260419T090941
CREATED:20260417T134947Z
LAST-MODIFIED:20260418T150430Z
UID:10005205-1776776400-1776778800@reenaseniorliving.com
SUMMARY:Youtube - Andy Griffith Show
DESCRIPTION:
URL:https://reenaseniorliving.com/event-calendar/youtube-andy-griffith-show/
LOCATION:Activity Room
CATEGORIES:Legacy Court
END:VEVENT
BEGIN:VEVENT
DTSTART;TZID=America/Chicago:20260421T141000
DTEND;TZID=America/Chicago:20260421T142500
DTSTAMP:20260419T090941
CREATED:20260323T094930Z
LAST-MODIFIED:20260418T150430Z
UID:10004996-1776780600-1776781500@reenaseniorliving.com
SUMMARY:Oshibori
DESCRIPTION:Soothing and Tactile Pleasure.
URL:https://reenaseniorliving.com/event-calendar/oshibori-128/
LOCATION:LC Activity Room
CATEGORIES:Legacy Court
END:VEVENT
BEGIN:VEVENT
DTSTART;TZID=America/Chicago:20260421T141500
DTEND;TZID=America/Chicago:20260421T144000
DTSTAMP:20260419T090941
CREATED:20260323T094931Z
LAST-MODIFIED:20260418T150430Z
UID:10004998-1776780900-1776782400@reenaseniorliving.com
SUMMARY:Snack Delight and Social Time
DESCRIPTION:
URL:https://reenaseniorliving.com/event-calendar/snack-delight-and-social-time-82/
LOCATION:LC Activity Room
CATEGORIES:Legacy Court
END:VEVENT
BEGIN:VEVENT
DTSTART;TZID=America/Chicago:20260421T142000
DTEND;TZID=America/Chicago:20260421T142500
DTSTAMP:20260419T090941
CREATED:20260323T094931Z
LAST-MODIFIED:20260325T094927Z
UID:10004997-1776781200-1776781500@reenaseniorliving.com
SUMMARY:Prayer
DESCRIPTION:
URL:https://reenaseniorliving.com/event-calendar/prayer-201/
LOCATION:Dining Room
CATEGORIES:Legacy Court
END:VEVENT
BEGIN:VEVENT
DTSTART;TZID=America/Chicago:20260421T143000
DTEND;TZID=America/Chicago:20260421T145000
DTSTAMP:20260419T090942
CREATED:20260417T134947Z
LAST-MODIFIED:20260418T150431Z
UID:10005206-1776781800-1776783000@reenaseniorliving.com
SUMMARY:Spin and Solve - Linked Senior
DESCRIPTION:
URL:https://reenaseniorliving.com/event-calendar/spin-and-solve-linked-senior/
LOCATION:Activity Room
CATEGORIES:Legacy Court
END:VEVENT
BEGIN:VEVENT
DTSTART;TZID=America/Chicago:20260421T150000
DTEND;TZID=America/Chicago:20260421T152000
DTSTAMP:20260419T090942
CREATED:20260323T094931Z
LAST-MODIFIED:20260418T150431Z
UID:10004999-1776783600-1776784800@reenaseniorliving.com
SUMMARY:Movement with Balls\, Noodles\, & Weights.
DESCRIPTION:
URL:https://reenaseniorliving.com/event-calendar/movement-with-balls-noodles-weights-73/
LOCATION:Sunroom
CATEGORIES:Legacy Court
END:VEVENT
BEGIN:VEVENT
DTSTART;TZID=America/Chicago:20260421T152000
DTEND;TZID=America/Chicago:20260421T155000
DTSTAMP:20260419T090942
CREATED:20260323T094930Z
LAST-MODIFIED:20260418T150431Z
UID:10004995-1776784800-1776786600@reenaseniorliving.com
SUMMARY:Walking and Wheeling Group!
DESCRIPTION:
URL:https://reenaseniorliving.com/event-calendar/walking-and-wheeling-group-23/
LOCATION:Legacy Court
CATEGORIES:Legacy Court
END:VEVENT
BEGIN:VEVENT
DTSTART;TZID=America/Chicago:20260421T173000
DTEND;TZID=America/Chicago:20260421T183000
DTSTAMP:20260419T090942
CREATED:20260323T094931Z
LAST-MODIFIED:20260418T150443Z
UID:10005000-1776792600-1776796200@reenaseniorliving.com
SUMMARY:Game Shows on TV
DESCRIPTION:
URL:https://reenaseniorliving.com/event-calendar/game-shows-on-tv-70/
LOCATION:Legacy Court
CATEGORIES:Legacy Court
END:VEVENT
BEGIN:VEVENT
DTSTART;TZID=America/Chicago:20260421T174500
DTEND;TZID=America/Chicago:20260421T184500
DTSTAMP:20260419T090942
CREATED:20260323T094931Z
LAST-MODIFIED:20260325T094928Z
UID:10005001-1776793500-1776797100@reenaseniorliving.com
SUMMARY:Nails (polish or fingernail trim)
DESCRIPTION:
URL:https://reenaseniorliving.com/event-calendar/nails-polish-or-fingernail-trim-36/
LOCATION:Living Room
CATEGORIES:Legacy Court
END:VEVENT
BEGIN:VEVENT
DTSTART;TZID=America/Chicago:20260422T090000
DTEND;TZID=America/Chicago:20260422T092000
DTSTAMP:20260419T090942
CREATED:20260417T134948Z
LAST-MODIFIED:20260418T150443Z
UID:10005207-1776848400-1776849600@reenaseniorliving.com
SUMMARY:Grandma's Garden Social Time
DESCRIPTION:
URL:https://reenaseniorliving.com/event-calendar/grandmas-garden-social-time-24/
LOCATION:Legacy Court
CATEGORIES:Legacy Court
END:VEVENT
END:VCALENDAR