BEGIN:VCALENDAR
VERSION:2.0
PRODID:-//Reena Senior Living - ECPv6.11.2.1//NONSGML v1.0//EN
CALSCALE:GREGORIAN
METHOD:PUBLISH
X-WR-CALNAME:Reena Senior Living
X-ORIGINAL-URL:https://reenaseniorliving.com
X-WR-CALDESC:Events for Reena Senior Living
REFRESH-INTERVAL;VALUE=DURATION:PT1H
X-Robots-Tag:noindex
X-PUBLISHED-TTL:PT1H
BEGIN:VTIMEZONE
TZID:America/Chicago
BEGIN:DAYLIGHT
TZOFFSETFROM:-0600
TZOFFSETTO:-0500
TZNAME:CDT
DTSTART:20260308T080000
END:DAYLIGHT
BEGIN:STANDARD
TZOFFSETFROM:-0500
TZOFFSETTO:-0600
TZNAME:CST
DTSTART:20261101T070000
END:STANDARD
END:VTIMEZONE
BEGIN:VEVENT
DTSTART;TZID=America/Chicago:20260422T133000
DTEND;TZID=America/Chicago:20260422T140000
DTSTAMP:20260419T141645
CREATED:20260324T094925Z
LAST-MODIFIED:20260325T094929Z
UID:10005009-1776864600-1776866400@reenaseniorliving.com
SUMMARY:Records with Dorothy
DESCRIPTION:
URL:https://reenaseniorliving.com/event-calendar/records-with-dorothy-32/
LOCATION:Activity Room
CATEGORIES:Legacy Court
END:VEVENT
BEGIN:VEVENT
DTSTART;TZID=America/Chicago:20260422T133000
DTEND;TZID=America/Chicago:20260422T141500
DTSTAMP:20260419T141645
CREATED:20260328T055020Z
LAST-MODIFIED:20260419T151936Z
UID:10005062-1776864600-1776867300@reenaseniorliving.com
SUMMARY:Legacy Court Sing Along with Anne
DESCRIPTION:
URL:https://reenaseniorliving.com/event-calendar/legacy-court-sing-along-with-anne/
LOCATION:Activity Room
CATEGORIES:Assisted Living,Legacy Court
END:VEVENT
BEGIN:VEVENT
DTSTART;TZID=America/Chicago:20260422T141500
DTEND;TZID=America/Chicago:20260422T144000
DTSTAMP:20260419T141645
CREATED:20260324T094925Z
LAST-MODIFIED:20260419T151936Z
UID:10005010-1776867300-1776868800@reenaseniorliving.com
SUMMARY:Snack Delight and Social Time
DESCRIPTION:
URL:https://reenaseniorliving.com/event-calendar/snack-delight-and-social-time-83/
LOCATION:LC Activity Room
CATEGORIES:Legacy Court
END:VEVENT
BEGIN:VEVENT
DTSTART;TZID=America/Chicago:20260422T143000
DTEND;TZID=America/Chicago:20260422T145000
DTSTAMP:20260419T141645
CREATED:20260324T094925Z
LAST-MODIFIED:20260325T094929Z
UID:10005011-1776868200-1776869400@reenaseniorliving.com
SUMMARY:Chaplain Ann Visit
DESCRIPTION:
URL:https://reenaseniorliving.com/event-calendar/chaplain-ann-visit-9/
LOCATION:Activity Room
CATEGORIES:Legacy Court
END:VEVENT
BEGIN:VEVENT
DTSTART;TZID=America/Chicago:20260422T144500
DTEND;TZID=America/Chicago:20260422T145500
DTSTAMP:20260419T141645
CREATED:20260324T094925Z
LAST-MODIFIED:20260419T151937Z
UID:10005008-1776869100-1776869700@reenaseniorliving.com
SUMMARY:Guided Relaxation
DESCRIPTION:
URL:https://reenaseniorliving.com/event-calendar/guided-relaxation-9/
LOCATION:Activity Room
CATEGORIES:Legacy Court
END:VEVENT
BEGIN:VEVENT
DTSTART;TZID=America/Chicago:20260422T150000
DTEND;TZID=America/Chicago:20260422T152500
DTSTAMP:20260419T141645
CREATED:20260324T094925Z
LAST-MODIFIED:20260419T151937Z
UID:10005012-1776870000-1776871500@reenaseniorliving.com
SUMMARY:Movement with Balls\, Noodles\, & Weights.
DESCRIPTION:
URL:https://reenaseniorliving.com/event-calendar/movement-with-balls-noodles-weights-74/
LOCATION:Sunroom
CATEGORIES:Legacy Court
END:VEVENT
BEGIN:VEVENT
DTSTART;TZID=America/Chicago:20260422T154500
DTEND;TZID=America/Chicago:20260422T160000
DTSTAMP:20260419T141645
CREATED:20260324T094925Z
LAST-MODIFIED:20260419T151937Z
UID:10005013-1776872700-1776873600@reenaseniorliving.com
SUMMARY:Walking Group Time - Healthy Movement\, Healthy Body
DESCRIPTION:
URL:https://reenaseniorliving.com/event-calendar/walking-group-time-healthy-movement-healthy-body-63/
LOCATION:Legacy Court
CATEGORIES:Legacy Court
END:VEVENT
BEGIN:VEVENT
DTSTART;TZID=America/Chicago:20260423T085000
DTEND;TZID=America/Chicago:20260423T113000
DTSTAMP:20260419T141645
CREATED:20260417T135003Z
LAST-MODIFIED:20260419T151937Z
UID:10005208-1776934200-1776943800@reenaseniorliving.com
SUMMARY:Nails (polish or fingernail trim)
DESCRIPTION:
URL:https://reenaseniorliving.com/event-calendar/nails-polish-or-fingernail-trim-37/
LOCATION:Living Room
CATEGORIES:Legacy Court
END:VEVENT
BEGIN:VEVENT
DTSTART;TZID=America/Chicago:20260423T103000
DTEND;TZID=America/Chicago:20260423T111500
DTSTAMP:20260419T141645
CREATED:20260325T094930Z
LAST-MODIFIED:20260325T094930Z
UID:10005019-1776940200-1776942900@reenaseniorliving.com
SUMMARY:Let's Make Bread.
DESCRIPTION:
URL:https://reenaseniorliving.com/event-calendar/lets-make-bread-29/
LOCATION:Activity Room
CATEGORIES:Legacy Court
END:VEVENT
BEGIN:VEVENT
DTSTART;TZID=America/Chicago:20260423T123000
DTEND;TZID=America/Chicago:20260423T124500
DTSTAMP:20260419T141645
CREATED:20260325T094930Z
LAST-MODIFIED:20260419T151937Z
UID:10005020-1776947400-1776948300@reenaseniorliving.com
SUMMARY:Group Walking for Good Health
DESCRIPTION:
URL:https://reenaseniorliving.com/event-calendar/group-walking-for-good-health-30/
LOCATION:Legacy Court
CATEGORIES:Legacy Court
END:VEVENT
BEGIN:VEVENT
DTSTART;TZID=America/Chicago:20260423T130000
DTEND;TZID=America/Chicago:20260423T133000
DTSTAMP:20260419T141645
CREATED:20260325T094930Z
LAST-MODIFIED:20260325T094930Z
UID:10005021-1776949200-1776951000@reenaseniorliving.com
SUMMARY:Rhythm Time! Song "Happy" Cheer Team Prep
DESCRIPTION:
URL:https://reenaseniorliving.com/event-calendar/rhythm-time-song-happy-cheer-team-prep-6/
LOCATION:Activity Room
CATEGORIES:Legacy Court
END:VEVENT
BEGIN:VEVENT
DTSTART;TZID=America/Chicago:20260423T130000
DTEND;TZID=America/Chicago:20260423T140000
DTSTAMP:20260419T141645
CREATED:20260417T135008Z
LAST-MODIFIED:20260419T151938Z
UID:10005209-1776949200-1776952800@reenaseniorliving.com
SUMMARY:Patio Time Weather Permitting
DESCRIPTION:
URL:https://reenaseniorliving.com/event-calendar/patio-time-weather-permitting/
LOCATION:Legacy Court Patio
CATEGORIES:Legacy Court
END:VEVENT
BEGIN:VEVENT
DTSTART;TZID=America/Chicago:20260423T140000
DTEND;TZID=America/Chicago:20260423T142500
DTSTAMP:20260419T141645
CREATED:20260325T094932Z
LAST-MODIFIED:20260419T151938Z
UID:10005025-1776952800-1776954300@reenaseniorliving.com
SUMMARY:Snack Delight and Social Time
DESCRIPTION:
URL:https://reenaseniorliving.com/event-calendar/snack-delight-and-social-time-84/
LOCATION:LC Activity Room
CATEGORIES:Legacy Court
END:VEVENT
BEGIN:VEVENT
DTSTART;TZID=America/Chicago:20260423T141500
DTEND;TZID=America/Chicago:20260423T144500
DTSTAMP:20260419T141645
CREATED:20260325T094931Z
LAST-MODIFIED:20260325T094931Z
UID:10005022-1776953700-1776955500@reenaseniorliving.com
SUMMARY:Music Appreciation - Radio or Records
DESCRIPTION:Records or 50’s and 60’s variety this month\nTV OFF
URL:https://reenaseniorliving.com/event-calendar/music-appreciation-radio-or-records-45/
LOCATION:Legacy Court
CATEGORIES:Legacy Court
END:VEVENT
BEGIN:VEVENT
DTSTART;TZID=America/Chicago:20260423T142000
DTEND;TZID=America/Chicago:20260423T142500
DTSTAMP:20260419T141645
CREATED:20260325T094931Z
LAST-MODIFIED:20260325T094931Z
UID:10005023-1776954000-1776954300@reenaseniorliving.com
SUMMARY:Prayer
DESCRIPTION:
URL:https://reenaseniorliving.com/event-calendar/prayer-202/
LOCATION:Dining Room
CATEGORIES:Legacy Court
END:VEVENT
BEGIN:VEVENT
DTSTART;TZID=America/Chicago:20260423T143000
DTEND;TZID=America/Chicago:20260423T145000
DTSTAMP:20260419T141645
CREATED:20260325T094931Z
LAST-MODIFIED:20260325T094931Z
UID:10005024-1776954600-1776955800@reenaseniorliving.com
SUMMARY:Grandma's Garden Social Time
DESCRIPTION:
URL:https://reenaseniorliving.com/event-calendar/grandmas-garden-social-time-23/
LOCATION:Legacy Court
CATEGORIES:Legacy Court
END:VEVENT
BEGIN:VEVENT
DTSTART;TZID=America/Chicago:20260423T143000
DTEND;TZID=America/Chicago:20260423T153000
DTSTAMP:20260419T141645
CREATED:20260325T054916Z
LAST-MODIFIED:20260419T151938Z
UID:10005018-1776954600-1776958200@reenaseniorliving.com
SUMMARY:Piano with Richard Shaten.
DESCRIPTION:
URL:https://reenaseniorliving.com/event-calendar/piano-with-richard-shaten-2/
LOCATION:Activity Room
CATEGORIES:Assisted Living,Legacy Court
END:VEVENT
BEGIN:VEVENT
DTSTART;TZID=America/Chicago:20260423T154500
DTEND;TZID=America/Chicago:20260423T161500
DTSTAMP:20260419T141645
CREATED:20260417T135009Z
LAST-MODIFIED:20260419T151938Z
UID:10005210-1776959100-1776960900@reenaseniorliving.com
SUMMARY:Creative Color and Stamping Time.
DESCRIPTION:
URL:https://reenaseniorliving.com/event-calendar/creative-color-and-stamping-time-2/
LOCATION:Legacy Court
CATEGORIES:Legacy Court
END:VEVENT
BEGIN:VEVENT
DTSTART;TZID=America/Chicago:20260423T180000
DTEND;TZID=America/Chicago:20260423T190000
DTSTAMP:20260419T141645
CREATED:20260325T094932Z
LAST-MODIFIED:20260419T151938Z
UID:10005026-1776967200-1776970800@reenaseniorliving.com
SUMMARY:Calm Time- TV - Feel good kind.
DESCRIPTION:
URL:https://reenaseniorliving.com/event-calendar/calm-time-tv-feel-good-kind-10/
LOCATION:Activity Room
CATEGORIES:Legacy Court
END:VEVENT
BEGIN:VEVENT
DTSTART;TZID=America/Chicago:20260424T103000
DTEND;TZID=America/Chicago:20260424T105000
DTSTAMP:20260419T141645
CREATED:20260417T135009Z
LAST-MODIFIED:20260419T151938Z
UID:10005211-1777026600-1777027800@reenaseniorliving.com
SUMMARY:Walking and Wheeling Together.
DESCRIPTION:
URL:https://reenaseniorliving.com/event-calendar/walking-and-wheeling-together-27/
CATEGORIES:Legacy Court
END:VEVENT
BEGIN:VEVENT
DTSTART;TZID=America/Chicago:20260424T123000
DTEND;TZID=America/Chicago:20260424T131500
DTSTAMP:20260419T141645
CREATED:20260417T135009Z
LAST-MODIFIED:20260419T151939Z
UID:10005212-1777033800-1777036500@reenaseniorliving.com
SUMMARY:Group Movement Class - Strength and Mobility
DESCRIPTION:
URL:https://reenaseniorliving.com/event-calendar/group-movement-class-strength-and-mobility-20/
LOCATION:Activity Room
CATEGORIES:Legacy Court
END:VEVENT
BEGIN:VEVENT
DTSTART;TZID=America/Chicago:20260424T133000
DTEND;TZID=America/Chicago:20260424T141500
DTSTAMP:20260419T141645
CREATED:20260417T135009Z
LAST-MODIFIED:20260419T151939Z
UID:10005213-1777037400-1777040100@reenaseniorliving.com
SUMMARY:Biking Time
DESCRIPTION:
URL:https://reenaseniorliving.com/event-calendar/biking-time/
LOCATION:Activity Room
CATEGORIES:Legacy Court
END:VEVENT
BEGIN:VEVENT
DTSTART;TZID=America/Chicago:20260424T141500
DTEND;TZID=America/Chicago:20260424T144000
DTSTAMP:20260419T141645
CREATED:20260417T135010Z
LAST-MODIFIED:20260419T151939Z
UID:10005214-1777040100-1777041600@reenaseniorliving.com
SUMMARY:Snack Delight and Social Time
DESCRIPTION:
URL:https://reenaseniorliving.com/event-calendar/snack-delight-and-social-time-85/
LOCATION:LC Activity Room
CATEGORIES:Legacy Court
END:VEVENT
BEGIN:VEVENT
DTSTART;TZID=America/Chicago:20260424T180000
DTEND;TZID=America/Chicago:20260424T190000
DTSTAMP:20260419T141645
CREATED:20260417T135010Z
LAST-MODIFIED:20260419T151939Z
UID:10005215-1777053600-1777057200@reenaseniorliving.com
SUMMARY:Calm Time- TV - Feel good kind.
DESCRIPTION:
URL:https://reenaseniorliving.com/event-calendar/calm-time-tv-feel-good-kind-11/
LOCATION:Activity Room
CATEGORIES:Legacy Court
END:VEVENT
BEGIN:VEVENT
DTSTART;TZID=America/Chicago:20260425T123000
DTEND;TZID=America/Chicago:20260425T130000
DTSTAMP:20260419T141645
CREATED:20260417T135010Z
LAST-MODIFIED:20260419T151940Z
UID:10005216-1777120200-1777122000@reenaseniorliving.com
SUMMARY:Ozzie & Harriet - Youtube
DESCRIPTION:
URL:https://reenaseniorliving.com/event-calendar/ozzie-harriet-youtube/
LOCATION:Activity Room
CATEGORIES:Legacy Court
END:VEVENT
BEGIN:VEVENT
DTSTART;TZID=America/Chicago:20260425T130000
DTEND;TZID=America/Chicago:20260425T132000
DTSTAMP:20260419T141645
CREATED:20260417T135010Z
LAST-MODIFIED:20260419T151940Z
UID:10005217-1777122000-1777123200@reenaseniorliving.com
SUMMARY:Tamborine Lesson - Youtube - How to Play Tamborine - Tutorial - World Drum Club
DESCRIPTION:
URL:https://reenaseniorliving.com/event-calendar/tamborine-lesson-youtube-how-to-play-tamborine-tutorial-world-drum-club/
LOCATION:Activity Room
CATEGORIES:Legacy Court
END:VEVENT
BEGIN:VEVENT
DTSTART;TZID=America/Chicago:20260425T133000
DTEND;TZID=America/Chicago:20260425T143000
DTSTAMP:20260419T141645
CREATED:20260417T135011Z
LAST-MODIFIED:20260419T151940Z
UID:10005218-1777123800-1777127400@reenaseniorliving.com
SUMMARY:Outdoor Time - Music and Catch
DESCRIPTION:
URL:https://reenaseniorliving.com/event-calendar/outdoor-time-music-and-catch/
LOCATION:Legacy Court Patio
CATEGORIES:Legacy Court
END:VEVENT
BEGIN:VEVENT
DTSTART;TZID=America/Chicago:20260425T141500
DTEND;TZID=America/Chicago:20260425T144000
DTSTAMP:20260419T141645
CREATED:20260417T135011Z
LAST-MODIFIED:20260419T151940Z
UID:10005219-1777126500-1777128000@reenaseniorliving.com
SUMMARY:Snack Delight and Social Time
DESCRIPTION:
URL:https://reenaseniorliving.com/event-calendar/snack-delight-and-social-time-86/
LOCATION:LC Activity Room
CATEGORIES:Legacy Court
END:VEVENT
BEGIN:VEVENT
DTSTART;TZID=America/Chicago:20260426T130000
DTEND;TZID=America/Chicago:20260426T133000
DTSTAMP:20260419T141645
CREATED:20260417T135011Z
LAST-MODIFIED:20260419T151941Z
UID:10005220-1777208400-1777210200@reenaseniorliving.com
SUMMARY:Communion (Catholic Rounds from Andy or Tom)
DESCRIPTION:Volunteer makes rounds to all those who wish to receive communion.
URL:https://reenaseniorliving.com/event-calendar/communion-catholic-rounds-from-andy-or-tom-48/
LOCATION:Reena
CATEGORIES:Legacy Court
END:VEVENT
BEGIN:VEVENT
DTSTART;TZID=America/Chicago:20260426T141500
DTEND;TZID=America/Chicago:20260426T144000
DTSTAMP:20260419T141645
CREATED:20260417T135011Z
LAST-MODIFIED:20260419T151941Z
UID:10005221-1777212900-1777214400@reenaseniorliving.com
SUMMARY:Snack Delight and Social Time
DESCRIPTION:
URL:https://reenaseniorliving.com/event-calendar/snack-delight-and-social-time-87/
LOCATION:LC Activity Room
CATEGORIES:Legacy Court
END:VEVENT
END:VCALENDAR