BEGIN:VCALENDAR
VERSION:2.0
PRODID:-//Reena Senior Living - ECPv6.11.2.1//NONSGML v1.0//EN
CALSCALE:GREGORIAN
METHOD:PUBLISH
X-ORIGINAL-URL:https://reenaseniorliving.com
X-WR-CALDESC:Events for Reena Senior Living
REFRESH-INTERVAL;VALUE=DURATION:PT1H
X-Robots-Tag:noindex
X-PUBLISHED-TTL:PT1H
BEGIN:VTIMEZONE
TZID:America/Chicago
BEGIN:DAYLIGHT
TZOFFSETFROM:-0600
TZOFFSETTO:-0500
TZNAME:CDT
DTSTART:20260308T080000
END:DAYLIGHT
BEGIN:STANDARD
TZOFFSETFROM:-0500
TZOFFSETTO:-0600
TZNAME:CST
DTSTART:20261101T070000
END:STANDARD
END:VTIMEZONE
BEGIN:VEVENT
DTSTART;TZID=America/Chicago:20260520T161500
DTEND;TZID=America/Chicago:20260520T163000
DTSTAMP:20260422T233102
CREATED:20260421T153448Z
LAST-MODIFIED:20260422T153431Z
UID:10005366-1779293700-1779294600@reenaseniorliving.com
SUMMARY:Walking Group Time - Healthy Movement\, Healthy Body
DESCRIPTION:
URL:https://reenaseniorliving.com/event-calendar/walking-group-time-healthy-movement-healthy-body-67/
LOCATION:Legacy Court
CATEGORIES:Legacy Court
END:VEVENT
BEGIN:VEVENT
DTSTART;TZID=America/Chicago:20260521T123000
DTEND;TZID=America/Chicago:20260521T124500
DTSTAMP:20260422T233102
CREATED:20260422T153431Z
LAST-MODIFIED:20260422T153431Z
UID:10005371-1779366600-1779367500@reenaseniorliving.com
SUMMARY:Group Walking for Good Health
DESCRIPTION:
URL:https://reenaseniorliving.com/event-calendar/group-walking-for-good-health-34/
LOCATION:Legacy Court
CATEGORIES:Legacy Court
END:VEVENT
BEGIN:VEVENT
DTSTART;TZID=America/Chicago:20260521T130000
DTEND;TZID=America/Chicago:20260521T133000
DTSTAMP:20260422T233102
CREATED:20260422T153431Z
LAST-MODIFIED:20260422T153431Z
UID:10005372-1779368400-1779370200@reenaseniorliving.com
SUMMARY:Rhythm Time! Song "Happy" Cheer Team Prep
DESCRIPTION:
URL:https://reenaseniorliving.com/event-calendar/rhythm-time-song-happy-cheer-team-prep-10/
LOCATION:Activity Room
CATEGORIES:Legacy Court
END:VEVENT
BEGIN:VEVENT
DTSTART;TZID=America/Chicago:20260521T133000
DTEND;TZID=America/Chicago:20260521T134500
DTSTAMP:20260422T233102
CREATED:20260422T153431Z
LAST-MODIFIED:20260422T153431Z
UID:10005373-1779370200-1779371100@reenaseniorliving.com
SUMMARY:Cedar is visiting! Pet Therapy
DESCRIPTION:
URL:https://reenaseniorliving.com/event-calendar/cedar-is-visiting-pet-therapy-14/
LOCATION:Legacy Court
CATEGORIES:Legacy Court
END:VEVENT
BEGIN:VEVENT
DTSTART;TZID=America/Chicago:20260521T141500
DTEND;TZID=America/Chicago:20260521T144000
DTSTAMP:20260422T233102
CREATED:20260422T153432Z
LAST-MODIFIED:20260422T153432Z
UID:10005374-1779372900-1779374400@reenaseniorliving.com
SUMMARY:Snack Delight and Social Time
DESCRIPTION:
URL:https://reenaseniorliving.com/event-calendar/snack-delight-and-social-time-112/
LOCATION:LC Activity Room
CATEGORIES:Legacy Court
END:VEVENT
BEGIN:VEVENT
DTSTART;TZID=America/Chicago:20260521T141500
DTEND;TZID=America/Chicago:20260521T144500
DTSTAMP:20260422T233102
CREATED:20260422T153432Z
LAST-MODIFIED:20260422T153432Z
UID:10005375-1779372900-1779374700@reenaseniorliving.com
SUMMARY:Music Appreciation - Radio or Records
DESCRIPTION:Records or 50’s and 60’s variety this month\nTV OFF
URL:https://reenaseniorliving.com/event-calendar/music-appreciation-radio-or-records-49/
LOCATION:Legacy Court
CATEGORIES:Legacy Court
END:VEVENT
BEGIN:VEVENT
DTSTART;TZID=America/Chicago:20260521T143000
DTEND;TZID=America/Chicago:20260521T145000
DTSTAMP:20260422T233102
CREATED:20260422T153432Z
LAST-MODIFIED:20260422T153432Z
UID:10005376-1779373800-1779375000@reenaseniorliving.com
SUMMARY:Grandma's Garden Social Time
DESCRIPTION:
URL:https://reenaseniorliving.com/event-calendar/grandmas-garden-social-time-28/
LOCATION:Legacy Court
CATEGORIES:Legacy Court
END:VEVENT
BEGIN:VEVENT
DTSTART;TZID=America/Chicago:20260521T180000
DTEND;TZID=America/Chicago:20260521T190000
DTSTAMP:20260422T233102
CREATED:20260422T153433Z
LAST-MODIFIED:20260422T153433Z
UID:10005377-1779386400-1779390000@reenaseniorliving.com
SUMMARY:Calm Time- TV - Feel good kind.
DESCRIPTION:
URL:https://reenaseniorliving.com/event-calendar/calm-time-tv-feel-good-kind-18/
LOCATION:Activity Room
CATEGORIES:Legacy Court
END:VEVENT
END:VCALENDAR