BEGIN:VCALENDAR
VERSION:2.0
PRODID:-//Reena Senior Living - ECPv6.11.2.1//NONSGML v1.0//EN
CALSCALE:GREGORIAN
METHOD:PUBLISH
X-WR-CALNAME:Reena Senior Living
X-ORIGINAL-URL:https://reenaseniorliving.com
X-WR-CALDESC:Events for Reena Senior Living
REFRESH-INTERVAL;VALUE=DURATION:PT1H
X-Robots-Tag:noindex
X-PUBLISHED-TTL:PT1H
BEGIN:VTIMEZONE
TZID:America/Chicago
BEGIN:DAYLIGHT
TZOFFSETFROM:-0600
TZOFFSETTO:-0500
TZNAME:CDT
DTSTART:20260308T080000
END:DAYLIGHT
BEGIN:STANDARD
TZOFFSETFROM:-0500
TZOFFSETTO:-0600
TZNAME:CST
DTSTART:20261101T070000
END:STANDARD
END:VTIMEZONE
BEGIN:VEVENT
DTSTART;TZID=America/Chicago:20260425T133000
DTEND;TZID=America/Chicago:20260425T143000
DTSTAMP:20260424T110109
CREATED:20260417T135011Z
LAST-MODIFIED:20260424T153405Z
UID:10005218-1777123800-1777127400@reenaseniorliving.com
SUMMARY:Outdoor Time - Music and Catch
DESCRIPTION:
URL:https://reenaseniorliving.com/event-calendar/outdoor-time-music-and-catch/
LOCATION:Legacy Court Patio
CATEGORIES:Legacy Court
END:VEVENT
BEGIN:VEVENT
DTSTART;TZID=America/Chicago:20260425T141500
DTEND;TZID=America/Chicago:20260425T144000
DTSTAMP:20260424T110109
CREATED:20260417T135011Z
LAST-MODIFIED:20260424T153405Z
UID:10005219-1777126500-1777128000@reenaseniorliving.com
SUMMARY:Snack Delight and Social Time
DESCRIPTION:
URL:https://reenaseniorliving.com/event-calendar/snack-delight-and-social-time-86/
LOCATION:LC Activity Room
CATEGORIES:Legacy Court
END:VEVENT
BEGIN:VEVENT
DTSTART;TZID=America/Chicago:20260426T130000
DTEND;TZID=America/Chicago:20260426T133000
DTSTAMP:20260424T110109
CREATED:20260417T135011Z
LAST-MODIFIED:20260424T153405Z
UID:10005220-1777208400-1777210200@reenaseniorliving.com
SUMMARY:Communion (Catholic Rounds from Andy or Tom)
DESCRIPTION:Volunteer makes rounds to all those who wish to receive communion.
URL:https://reenaseniorliving.com/event-calendar/communion-catholic-rounds-from-andy-or-tom-48/
LOCATION:Reena
CATEGORIES:Legacy Court
END:VEVENT
BEGIN:VEVENT
DTSTART;TZID=America/Chicago:20260426T133000
DTEND;TZID=America/Chicago:20260426T143000
DTSTAMP:20260424T110109
CREATED:20260424T153403Z
LAST-MODIFIED:20260424T153419Z
UID:10005396-1777210200-1777213800@reenaseniorliving.com
SUMMARY:Outdoor Time
DESCRIPTION:
URL:https://reenaseniorliving.com/event-calendar/outdoor-time/
LOCATION:Legacy Court Patio
CATEGORIES:Legacy Court
END:VEVENT
BEGIN:VEVENT
DTSTART;TZID=America/Chicago:20260426T141500
DTEND;TZID=America/Chicago:20260426T144000
DTSTAMP:20260424T110109
CREATED:20260417T135011Z
LAST-MODIFIED:20260424T153419Z
UID:10005221-1777212900-1777214400@reenaseniorliving.com
SUMMARY:Snack Delight and Social Time
DESCRIPTION:
URL:https://reenaseniorliving.com/event-calendar/snack-delight-and-social-time-87/
LOCATION:LC Activity Room
CATEGORIES:Legacy Court
END:VEVENT
BEGIN:VEVENT
DTSTART;TZID=America/Chicago:20260427T090000
DTEND;TZID=America/Chicago:20260427T092000
DTSTAMP:20260424T110109
CREATED:20260417T135012Z
LAST-MODIFIED:20260424T153419Z
UID:10005224-1777280400-1777281600@reenaseniorliving.com
SUMMARY:Walking and Wheeling Together.
DESCRIPTION:
URL:https://reenaseniorliving.com/event-calendar/walking-and-wheeling-together-28/
CATEGORIES:Legacy Court
END:VEVENT
BEGIN:VEVENT
DTSTART;TZID=America/Chicago:20260427T090000
DTEND;TZID=America/Chicago:20260427T093000
DTSTAMP:20260424T110109
CREATED:20260417T135011Z
LAST-MODIFIED:20260423T153446Z
UID:10005222-1777280400-1777282200@reenaseniorliving.com
SUMMARY:Social Time - Linked Senior Events\, News\, & Reminisce
DESCRIPTION:
URL:https://reenaseniorliving.com/event-calendar/social-time-linked-senior-events-news-reminisce-6/
LOCATION:Activity Room
CATEGORIES:Legacy Court
END:VEVENT
BEGIN:VEVENT
DTSTART;TZID=America/Chicago:20260427T093000
DTEND;TZID=America/Chicago:20260427T101000
DTSTAMP:20260424T110109
CREATED:20260417T135012Z
LAST-MODIFIED:20260424T153419Z
UID:10005223-1777282200-1777284600@reenaseniorliving.com
SUMMARY:Biking Time
DESCRIPTION:
URL:https://reenaseniorliving.com/event-calendar/games-10/
LOCATION:LC Activity Room
CATEGORIES:Legacy Court
END:VEVENT
BEGIN:VEVENT
DTSTART;TZID=America/Chicago:20260427T123000
DTEND;TZID=America/Chicago:20260427T130000
DTSTAMP:20260424T110109
CREATED:20260424T153404Z
LAST-MODIFIED:20260424T153420Z
UID:10005397-1777293000-1777294800@reenaseniorliving.com
SUMMARY:Spiritual Time with Chaplain Ann
DESCRIPTION:
URL:https://reenaseniorliving.com/event-calendar/spiritual-time-with-chaplain-ann/
LOCATION:LC Activity Room
CATEGORIES:Legacy Court
END:VEVENT
BEGIN:VEVENT
DTSTART;TZID=America/Chicago:20260427T130000
DTEND;TZID=America/Chicago:20260427T134000
DTSTAMP:20260424T110109
CREATED:20260417T135012Z
LAST-MODIFIED:20260424T153420Z
UID:10005225-1777294800-1777297200@reenaseniorliving.com
SUMMARY:Music Time with Dorothy
DESCRIPTION:
URL:https://reenaseniorliving.com/event-calendar/bingo-88/
LOCATION:LC AR
CATEGORIES:Legacy Court
END:VEVENT
BEGIN:VEVENT
DTSTART;TZID=America/Chicago:20260427T134500
DTEND;TZID=America/Chicago:20260427T140000
DTSTAMP:20260424T110109
CREATED:20260417T135012Z
LAST-MODIFIED:20260424T153420Z
UID:10005226-1777297500-1777298400@reenaseniorliving.com
SUMMARY:Jerry Apps - Great Storyteller Book Reading and Discussion
DESCRIPTION:Jerry Apps and Other Authors that reflect days gone by. Lessons and Reminiscing Fun!
URL:https://reenaseniorliving.com/event-calendar/jerry-apps-great-storyteller-book-reading-and-discussion-51/
LOCATION:Legacy Court
CATEGORIES:Legacy Court
END:VEVENT
BEGIN:VEVENT
DTSTART;TZID=America/Chicago:20260427T141500
DTEND;TZID=America/Chicago:20260427T144000
DTSTAMP:20260424T110109
CREATED:20260417T135013Z
LAST-MODIFIED:20260424T153420Z
UID:10005227-1777299300-1777300800@reenaseniorliving.com
SUMMARY:Snack Delight and Social Time
DESCRIPTION:
URL:https://reenaseniorliving.com/event-calendar/snack-delight-and-social-time-88/
LOCATION:LC Activity Room
CATEGORIES:Legacy Court
END:VEVENT
BEGIN:VEVENT
DTSTART;TZID=America/Chicago:20260427T144500
DTEND;TZID=America/Chicago:20260427T151500
DTSTAMP:20260424T110109
CREATED:20260424T153405Z
LAST-MODIFIED:20260424T153421Z
UID:10005398-1777301100-1777302900@reenaseniorliving.com
SUMMARY:Reminisce with Dorothy and Anne
DESCRIPTION:
URL:https://reenaseniorliving.com/event-calendar/reminisce-with-dorothy-and-anne/
LOCATION:LC Activity Room
CATEGORIES:Legacy Court
END:VEVENT
BEGIN:VEVENT
DTSTART;TZID=America/Chicago:20260427T160000
DTEND;TZID=America/Chicago:20260427T162500
DTSTAMP:20260424T110109
CREATED:20260417T135013Z
LAST-MODIFIED:20260424T153421Z
UID:10005228-1777305600-1777307100@reenaseniorliving.com
SUMMARY:Movement with Balls\, Noodles\, & Weights.
DESCRIPTION:
URL:https://reenaseniorliving.com/event-calendar/movement-with-balls-noodles-weights-75/
LOCATION:Sunroom
CATEGORIES:Legacy Court
END:VEVENT
BEGIN:VEVENT
DTSTART;TZID=America/Chicago:20260428T090000
DTEND;TZID=America/Chicago:20260428T093000
DTSTAMP:20260424T110109
CREATED:20260417T135013Z
LAST-MODIFIED:20260424T153433Z
UID:10005229-1777366800-1777368600@reenaseniorliving.com
SUMMARY:Linked Senior Fun with Laurie
DESCRIPTION:linked senior
URL:https://reenaseniorliving.com/event-calendar/linked-senior-fun-with-laurie-34/
LOCATION:Living Room
CATEGORIES:Legacy Court
END:VEVENT
BEGIN:VEVENT
DTSTART;TZID=America/Chicago:20260428T093000
DTEND;TZID=America/Chicago:20260428T095000
DTSTAMP:20260424T110109
CREATED:20260417T135014Z
LAST-MODIFIED:20260424T153433Z
UID:10005230-1777368600-1777369800@reenaseniorliving.com
SUMMARY:Walking and Wheeling Together.
DESCRIPTION:
URL:https://reenaseniorliving.com/event-calendar/walking-and-wheeling-together-29/
CATEGORIES:Legacy Court
END:VEVENT
BEGIN:VEVENT
DTSTART;TZID=America/Chicago:20260428T100000
DTEND;TZID=America/Chicago:20260428T104500
DTSTAMP:20260424T110109
CREATED:20260424T153406Z
LAST-MODIFIED:20260424T153433Z
UID:10005399-1777370400-1777373100@reenaseniorliving.com
SUMMARY:Creative Color and Stamping Time.
DESCRIPTION:
URL:https://reenaseniorliving.com/event-calendar/creative-color-and-stamping-time-7/
LOCATION:Legacy Court
CATEGORIES:Legacy Court
END:VEVENT
BEGIN:VEVENT
DTSTART;TZID=America/Chicago:20260428T123000
DTEND;TZID=America/Chicago:20260428T133000
DTSTAMP:20260424T110110
CREATED:20260424T153407Z
LAST-MODIFIED:20260424T153434Z
UID:10005400-1777379400-1777383000@reenaseniorliving.com
SUMMARY:Breathtaking Nature in 4K | BBC Earth (Youtube 1 hour 7 minutes) Gorgeous
DESCRIPTION:
URL:https://reenaseniorliving.com/event-calendar/breathtaking-nature-in-4k-bbc-earth-youtube-1-hour-7-minutes-gorgeous/
LOCATION:LC Activity Room
CATEGORIES:Legacy Court
END:VEVENT
BEGIN:VEVENT
DTSTART;TZID=America/Chicago:20260428T133000
DTEND;TZID=America/Chicago:20260428T141500
DTSTAMP:20260424T110110
CREATED:20260424T153407Z
LAST-MODIFIED:20260424T153434Z
UID:10005401-1777383000-1777385700@reenaseniorliving.com
SUMMARY:Outdoors Time if Nice.
DESCRIPTION:
URL:https://reenaseniorliving.com/event-calendar/outdoors-time-if-nice/
LOCATION:LC Activity Room
CATEGORIES:Legacy Court
END:VEVENT
BEGIN:VEVENT
DTSTART;TZID=America/Chicago:20260428T141000
DTEND;TZID=America/Chicago:20260428T142500
DTSTAMP:20260424T110110
CREATED:20260417T135014Z
LAST-MODIFIED:20260424T153434Z
UID:10005232-1777385400-1777386300@reenaseniorliving.com
SUMMARY:Oshibori
DESCRIPTION:Soothing and Tactile Pleasure.
URL:https://reenaseniorliving.com/event-calendar/oshibori-129/
LOCATION:LC Activity Room
CATEGORIES:Legacy Court
END:VEVENT
BEGIN:VEVENT
DTSTART;TZID=America/Chicago:20260428T141500
DTEND;TZID=America/Chicago:20260428T144000
DTSTAMP:20260424T110110
CREATED:20260417T135014Z
LAST-MODIFIED:20260424T153434Z
UID:10005231-1777385700-1777387200@reenaseniorliving.com
SUMMARY:Snack Delight and Social Time
DESCRIPTION:
URL:https://reenaseniorliving.com/event-calendar/snack-delight-and-social-time-89/
LOCATION:LC Activity Room
CATEGORIES:Legacy Court
END:VEVENT
BEGIN:VEVENT
DTSTART;TZID=America/Chicago:20260428T150000
DTEND;TZID=America/Chicago:20260428T152500
DTSTAMP:20260424T110110
CREATED:20260417T135014Z
LAST-MODIFIED:20260424T153434Z
UID:10005234-1777388400-1777389900@reenaseniorliving.com
SUMMARY:Movement with Balls\, Noodles\, & Weights.
DESCRIPTION:
URL:https://reenaseniorliving.com/event-calendar/movement-with-balls-noodles-weights-76/
LOCATION:Sunroom
CATEGORIES:Legacy Court
END:VEVENT
BEGIN:VEVENT
DTSTART;TZID=America/Chicago:20260428T155000
DTEND;TZID=America/Chicago:20260428T162000
DTSTAMP:20260424T110110
CREATED:20260417T135014Z
LAST-MODIFIED:20260424T153434Z
UID:10005233-1777391400-1777393200@reenaseniorliving.com
SUMMARY:Walking and Wheeling Group!
DESCRIPTION:
URL:https://reenaseniorliving.com/event-calendar/walking-and-wheeling-group-24/
LOCATION:Legacy Court
CATEGORIES:Legacy Court
END:VEVENT
BEGIN:VEVENT
DTSTART;TZID=America/Chicago:20260429T091500
DTEND;TZID=America/Chicago:20260429T093000
DTSTAMP:20260424T110110
CREATED:20260417T135017Z
LAST-MODIFIED:20260424T153434Z
UID:10005242-1777454100-1777455000@reenaseniorliving.com
SUMMARY:Walking Group Time - Healthy Movement\, Healthy Body
DESCRIPTION:
URL:https://reenaseniorliving.com/event-calendar/walking-group-time-healthy-movement-healthy-body-64/
LOCATION:Legacy Court
CATEGORIES:Legacy Court
END:VEVENT
BEGIN:VEVENT
DTSTART;TZID=America/Chicago:20260429T100000
DTEND;TZID=America/Chicago:20260429T101500
DTSTAMP:20260424T110110
CREATED:20260417T135015Z
LAST-MODIFIED:20260424T153447Z
UID:10005235-1777456800-1777457700@reenaseniorliving.com
SUMMARY:Sing-a-long before Catholic Church Service - All are Welcome
DESCRIPTION:
URL:https://reenaseniorliving.com/event-calendar/sing-a-long-before-catholic-church-service-all-are-welcome-11/
LOCATION:Activity Room
CATEGORIES:Legacy Court
END:VEVENT
BEGIN:VEVENT
DTSTART;TZID=America/Chicago:20260429T101500
DTEND;TZID=America/Chicago:20260429T111500
DTSTAMP:20260424T110110
CREATED:20260331T055020Z
LAST-MODIFIED:20260424T153447Z
UID:10005079-1777457700-1777461300@reenaseniorliving.com
SUMMARY:Catholic Service at Legacy Court
DESCRIPTION:
URL:https://reenaseniorliving.com/event-calendar/catholic-service-at-legacy-court-25/
LOCATION:Legacy Court
CATEGORIES:Assisted Living,Legacy Court
END:VEVENT
BEGIN:VEVENT
DTSTART;TZID=America/Chicago:20260429T112500
DTEND;TZID=America/Chicago:20260429T113000
DTSTAMP:20260424T110110
CREATED:20260417T135015Z
LAST-MODIFIED:20260424T153448Z
UID:10005236-1777461900-1777462200@reenaseniorliving.com
SUMMARY:Pledge of Allegiance
DESCRIPTION:
URL:https://reenaseniorliving.com/event-calendar/pledge-of-allegiance-43/
LOCATION:Legacy Court
CATEGORIES:Legacy Court
END:VEVENT
BEGIN:VEVENT
DTSTART;TZID=America/Chicago:20260429T123000
DTEND;TZID=America/Chicago:20260429T125000
DTSTAMP:20260424T110110
CREATED:20260417T135015Z
LAST-MODIFIED:20260424T153448Z
UID:10005237-1777465800-1777467000@reenaseniorliving.com
SUMMARY:Spin and Solve - Linked Senior
DESCRIPTION:
URL:https://reenaseniorliving.com/event-calendar/spin-and-solve-linked-senior-2/
LOCATION:Activity Room
CATEGORIES:Legacy Court
END:VEVENT
BEGIN:VEVENT
DTSTART;TZID=America/Chicago:20260429T130000
DTEND;TZID=America/Chicago:20260429T132000
DTSTAMP:20260424T110110
CREATED:20260417T135016Z
LAST-MODIFIED:20260424T153449Z
UID:10005238-1777467600-1777468800@reenaseniorliving.com
SUMMARY:Guided Relaxation
DESCRIPTION:
URL:https://reenaseniorliving.com/event-calendar/guided-relaxation-10/
LOCATION:Activity Room
CATEGORIES:Legacy Court
END:VEVENT
BEGIN:VEVENT
DTSTART;TZID=America/Chicago:20260429T132500
DTEND;TZID=America/Chicago:20260429T134500
DTSTAMP:20260424T110110
CREATED:20260417T135016Z
LAST-MODIFIED:20260424T153449Z
UID:10005239-1777469100-1777470300@reenaseniorliving.com
SUMMARY:Records with Dorothy
DESCRIPTION:
URL:https://reenaseniorliving.com/event-calendar/records-with-dorothy-33/
LOCATION:Activity Room
CATEGORIES:Legacy Court
END:VEVENT
END:VCALENDAR