BEGIN:VCALENDAR
VERSION:2.0
PRODID:-//Reena Senior Living - ECPv6.11.2.1//NONSGML v1.0//EN
CALSCALE:GREGORIAN
METHOD:PUBLISH
X-WR-CALNAME:Reena Senior Living
X-ORIGINAL-URL:https://reenaseniorliving.com
X-WR-CALDESC:Events for Reena Senior Living
REFRESH-INTERVAL;VALUE=DURATION:PT1H
X-Robots-Tag:noindex
X-PUBLISHED-TTL:PT1H
BEGIN:VTIMEZONE
TZID:America/Chicago
BEGIN:DAYLIGHT
TZOFFSETFROM:-0600
TZOFFSETTO:-0500
TZNAME:CDT
DTSTART:20260308T080000
END:DAYLIGHT
BEGIN:STANDARD
TZOFFSETFROM:-0500
TZOFFSETTO:-0600
TZNAME:CST
DTSTART:20261101T070000
END:STANDARD
END:VTIMEZONE
BEGIN:VEVENT
DTSTART;TZID=America/Chicago:20260418T150000
DTEND;TZID=America/Chicago:20260418T154500
DTSTAMP:20260419T102215
CREATED:20260417T134918Z
LAST-MODIFIED:20260418T150424Z
UID:10005198-1776524400-1776527100@reenaseniorliving.com
SUMMARY:Corn Hole or Outdoors Time Maybe if Nice.
DESCRIPTION:
URL:https://reenaseniorliving.com/event-calendar/corn-hole-or-outdoors-time-maybe-if-nice/
LOCATION:Activity Room
CATEGORIES:Legacy Court
END:VEVENT
BEGIN:VEVENT
DTSTART;TZID=America/Chicago:20260418T133000
DTEND;TZID=America/Chicago:20260418T140000
DTSTAMP:20260419T102215
CREATED:20260417T134918Z
LAST-MODIFIED:20260418T150424Z
UID:10005197-1776519000-1776520800@reenaseniorliving.com
SUMMARY:Dot Fun. Right\, Left\, Color Reaction Fun.
DESCRIPTION:
URL:https://reenaseniorliving.com/event-calendar/dot-fun-right-left-color-reaction-fun/
LOCATION:Activity Room
CATEGORIES:Legacy Court
END:VEVENT
BEGIN:VEVENT
DTSTART;TZID=America/Chicago:20260418T130000
DTEND;TZID=America/Chicago:20260418T132500
DTSTAMP:20260419T102215
CREATED:20260417T134905Z
LAST-MODIFIED:20260418T150424Z
UID:10005196-1776517200-1776518700@reenaseniorliving.com
SUMMARY:Movement Class
DESCRIPTION:
URL:https://reenaseniorliving.com/event-calendar/movement-class-100/
LOCATION:Activity Room
CATEGORIES:Legacy Court
END:VEVENT
BEGIN:VEVENT
DTSTART;TZID=America/Chicago:20260418T090000
DTEND;TZID=America/Chicago:20260418T113000
DTSTAMP:20260419T102215
CREATED:20260320T053412Z
LAST-MODIFIED:20260418T061902Z
UID:10004963-1776502800-1776511800@reenaseniorliving.com
SUMMARY:Nail Spa Day - Please Sign-up
DESCRIPTION:
URL:https://reenaseniorliving.com/event-calendar/nail-spa-day-please-sign-up/
LOCATION:Activity Room
CATEGORIES:Assisted Living
END:VEVENT
BEGIN:VEVENT
DTSTART;TZID=America/Chicago:20260417T180000
DTEND;TZID=America/Chicago:20260417T190000
DTSTAMP:20260419T102215
CREATED:20260319T093458Z
LAST-MODIFIED:20260325T094925Z
UID:10004960-1776448800-1776452400@reenaseniorliving.com
SUMMARY:Calm Time- TV - Feel good kind.
DESCRIPTION:
URL:https://reenaseniorliving.com/event-calendar/calm-time-tv-feel-good-kind-9/
LOCATION:Activity Room
CATEGORIES:Legacy Court
END:VEVENT
BEGIN:VEVENT
DTSTART;TZID=America/Chicago:20260417T140000
DTEND;TZID=America/Chicago:20260417T143000
DTSTAMP:20260419T102215
CREATED:20260409T060458Z
LAST-MODIFIED:20260417T150431Z
UID:10005123-1776434400-1776436200@reenaseniorliving.com
SUMMARY:Drumming with Jen! Let's Drum & sing along.
DESCRIPTION:
URL:https://reenaseniorliving.com/event-calendar/drumming-with-jen-shes-back-for-some-sing-along-drumming-fun/
LOCATION:Activity Room
CATEGORIES:Assisted Living,Legacy Court
END:VEVENT
BEGIN:VEVENT
DTSTART;TZID=America/Chicago:20260417T130000
DTEND;TZID=America/Chicago:20260417T140000
DTSTAMP:20260419T102215
CREATED:20260328T055019Z
LAST-MODIFIED:20260417T061903Z
UID:10005055-1776430800-1776434400@reenaseniorliving.com
SUMMARY:Cow - Ongoing Group Project for Dairy Days at Hoard Museum
DESCRIPTION:
URL:https://reenaseniorliving.com/event-calendar/cow-ongoing-group-project-for-dairy-days-at-hoard-museum/
LOCATION:Activity Room
CATEGORIES:Assisted Living
END:VEVENT
BEGIN:VEVENT
DTSTART;TZID=America/Chicago:20260417T124500
DTEND;TZID=America/Chicago:20260417T131000
DTSTAMP:20260419T102215
CREATED:20260319T093457Z
LAST-MODIFIED:20260417T150431Z
UID:10004956-1776429900-1776431400@reenaseniorliving.com
SUMMARY:Group Movement Class - Strength and Mobility
DESCRIPTION:
URL:https://reenaseniorliving.com/event-calendar/group-movement-class-strength-and-mobility-19/
LOCATION:Activity Room
CATEGORIES:Legacy Court
END:VEVENT
BEGIN:VEVENT
DTSTART;TZID=America/Chicago:20260417T123000
DTEND;TZID=America/Chicago:20260417T130000
DTSTAMP:20260419T102215
CREATED:20260319T053443Z
LAST-MODIFIED:20260417T061903Z
UID:10004953-1776429000-1776430800@reenaseniorliving.com
SUMMARY:Your weekly activity packets will be delivered.
DESCRIPTION:
URL:https://reenaseniorliving.com/event-calendar/your-weekly-activity-packets-will-be-delivered-49/
LOCATION:Activity Room
CATEGORIES:Assisted Living
END:VEVENT
BEGIN:VEVENT
DTSTART;TZID=America/Chicago:20260416T180000
DTEND;TZID=America/Chicago:20260416T190000
DTSTAMP:20260419T102215
CREATED:20260318T092026Z
LAST-MODIFIED:20260325T094924Z
UID:10004951-1776362400-1776366000@reenaseniorliving.com
SUMMARY:Calm Time- TV - Feel good kind.
DESCRIPTION:
URL:https://reenaseniorliving.com/event-calendar/calm-time-tv-feel-good-kind-8/
LOCATION:Activity Room
CATEGORIES:Legacy Court
END:VEVENT
BEGIN:VEVENT
DTSTART;TZID=America/Chicago:20260416T171500
DTEND;TZID=America/Chicago:20260416T190000
DTSTAMP:20260419T102215
CREATED:20260328T055018Z
LAST-MODIFIED:20260416T061902Z
UID:10005052-1776359700-1776366000@reenaseniorliving.com
SUMMARY:Game Night!
DESCRIPTION:
URL:https://reenaseniorliving.com/event-calendar/game-night-15/
LOCATION:Activity Room
CATEGORIES:Assisted Living
END:VEVENT
BEGIN:VEVENT
DTSTART;TZID=America/Chicago:20260416T140000
DTEND;TZID=America/Chicago:20260416T150000
DTSTAMP:20260419T102215
CREATED:20260321T053421Z
LAST-MODIFIED:20260416T061902Z
UID:10004971-1776348000-1776351600@reenaseniorliving.com
SUMMARY:Ice Cream Social Intended for Newest Residents by invitation to meet with Leadership
DESCRIPTION:
URL:https://reenaseniorliving.com/event-calendar/ice-cream-social-new-residents-by-invitation/
LOCATION:Activity Room
CATEGORIES:Assisted Living
END:VEVENT
BEGIN:VEVENT
DTSTART;TZID=America/Chicago:20260416T130000
DTEND;TZID=America/Chicago:20260416T133000
DTSTAMP:20260419T102215
CREATED:20260318T092024Z
LAST-MODIFIED:20260325T094923Z
UID:10004945-1776344400-1776346200@reenaseniorliving.com
SUMMARY:Rhythm Time! Song "Happy" Cheer Team Prep
DESCRIPTION:
URL:https://reenaseniorliving.com/event-calendar/rhythm-time-song-happy-cheer-team-prep-5/
LOCATION:Activity Room
CATEGORIES:Legacy Court
END:VEVENT
BEGIN:VEVENT
DTSTART;TZID=America/Chicago:20260416T100000
DTEND;TZID=America/Chicago:20260416T110000
DTSTAMP:20260419T102215
CREATED:20260318T053454Z
LAST-MODIFIED:20260327T054930Z
UID:10004941-1776333600-1776337200@reenaseniorliving.com
SUMMARY:Hoard Museum Cow Contest Team Starts Today. Let's get our ideas brainstormed today.
DESCRIPTION:
URL:https://reenaseniorliving.com/event-calendar/hoard-museum-cow-contest-team-starts-today-lets-get-our-ideas-brainstormed-today-2/
LOCATION:Activity Room
CATEGORIES:Assisted Living
END:VEVENT
BEGIN:VEVENT
DTSTART;TZID=America/Chicago:20260416T091500
DTEND;TZID=America/Chicago:20260416T094500
DTSTAMP:20260419T102215
CREATED:20260318T053452Z
LAST-MODIFIED:20260416T061901Z
UID:10004942-1776330900-1776332700@reenaseniorliving.com
SUMMARY:Movement Class
DESCRIPTION:Gentle Movement\, Strength\, Mobility\, Balance\, & More.
URL:https://reenaseniorliving.com/event-calendar/movement-class-with-kayla-177/
LOCATION:Activity Room
CATEGORIES:Assisted Living
END:VEVENT
BEGIN:VEVENT
DTSTART;TZID=America/Chicago:20260416T085000
DTEND;TZID=America/Chicago:20260416T091000
DTSTAMP:20260419T102215
CREATED:20260318T053452Z
LAST-MODIFIED:20260327T054930Z
UID:10004940-1776329400-1776330600@reenaseniorliving.com
SUMMARY:Green Thumbs Garden Club
DESCRIPTION:
URL:https://reenaseniorliving.com/event-calendar/green-thumbs-garden-club-30/
LOCATION:Activity Room
CATEGORIES:Assisted Living
END:VEVENT
BEGIN:VEVENT
DTSTART;TZID=America/Chicago:20260415T171500
DTEND;TZID=America/Chicago:20260415T191500
DTSTAMP:20260419T102215
CREATED:20260318T053452Z
LAST-MODIFIED:20260415T061902Z
UID:10004939-1776273300-1776280500@reenaseniorliving.com
SUMMARY:Euchre Night
DESCRIPTION:
URL:https://reenaseniorliving.com/event-calendar/euchre-night-4/
LOCATION:Activity Room
CATEGORIES:Assisted Living
END:VEVENT
BEGIN:VEVENT
DTSTART;TZID=America/Chicago:20260415T171500
DTEND;TZID=America/Chicago:20260415T190000
DTSTAMP:20260419T102215
CREATED:20260317T052150Z
LAST-MODIFIED:20260327T054929Z
UID:10004918-1776273300-1776279600@reenaseniorliving.com
SUMMARY:Game Night!
DESCRIPTION:
URL:https://reenaseniorliving.com/event-calendar/game-night-14/
LOCATION:Activity Room
CATEGORIES:Assisted Living
END:VEVENT
BEGIN:VEVENT
DTSTART;TZID=America/Chicago:20260415T143000
DTEND;TZID=America/Chicago:20260415T145000
DTSTAMP:20260419T102215
CREATED:20260317T091940Z
LAST-MODIFIED:20260325T094923Z
UID:10004924-1776263400-1776264600@reenaseniorliving.com
SUMMARY:Chaplain Ann Visit
DESCRIPTION:
URL:https://reenaseniorliving.com/event-calendar/chaplain-ann-visit-8/
LOCATION:Activity Room
CATEGORIES:Legacy Court
END:VEVENT
BEGIN:VEVENT
DTSTART;TZID=America/Chicago:20260415T133000
DTEND;TZID=America/Chicago:20260415T140000
DTSTAMP:20260419T102215
CREATED:20260317T091940Z
LAST-MODIFIED:20260325T094922Z
UID:10004922-1776259800-1776261600@reenaseniorliving.com
SUMMARY:Records with Dorothy
DESCRIPTION:
URL:https://reenaseniorliving.com/event-calendar/records-with-dorothy-31/
LOCATION:Activity Room
CATEGORIES:Legacy Court
END:VEVENT
BEGIN:VEVENT
DTSTART;TZID=America/Chicago:20260415T130000
DTEND;TZID=America/Chicago:20260415T133000
DTSTAMP:20260419T102215
CREATED:20260410T060403Z
LAST-MODIFIED:20260415T061902Z
UID:10005153-1776258000-1776259800@reenaseniorliving.com
SUMMARY:L. Niedecker - Director's Cut - Cathy Cook Interview - 6-years of making film immortal cupboard.
DESCRIPTION:
URL:https://reenaseniorliving.com/event-calendar/l-niedecker-directors-cut-cathy-cook-interview-6-years-of-making-film-immortal-cupboard/
LOCATION:Activity Room
CATEGORIES:Assisted Living
END:VEVENT
BEGIN:VEVENT
DTSTART;TZID=America/Chicago:20260415T130000
DTEND;TZID=America/Chicago:20260415T132000
DTSTAMP:20260419T102215
CREATED:20260317T091940Z
LAST-MODIFIED:20260325T094922Z
UID:10004921-1776258000-1776259200@reenaseniorliving.com
SUMMARY:Guided Relaxation
DESCRIPTION:
URL:https://reenaseniorliving.com/event-calendar/guided-relaxation-8/
LOCATION:Activity Room
CATEGORIES:Legacy Court
END:VEVENT
BEGIN:VEVENT
DTSTART;TZID=America/Chicago:20260415T100000
DTEND;TZID=America/Chicago:20260415T101500
DTSTAMP:20260419T102215
CREATED:20260317T091939Z
LAST-MODIFIED:20260325T094922Z
UID:10004919-1776247200-1776248100@reenaseniorliving.com
SUMMARY:Sing-a-long before Catholic Church Service - All are Welcome
DESCRIPTION:
URL:https://reenaseniorliving.com/event-calendar/sing-a-long-before-catholic-church-service-all-are-welcome-9/
LOCATION:Activity Room
CATEGORIES:Legacy Court
END:VEVENT
BEGIN:VEVENT
DTSTART;TZID=America/Chicago:20260415T091500
DTEND;TZID=America/Chicago:20260415T094500
DTSTAMP:20260419T102215
CREATED:20260317T052123Z
LAST-MODIFIED:20260415T061902Z
UID:10004915-1776244500-1776246300@reenaseniorliving.com
SUMMARY:Movement Class with Kayla
DESCRIPTION:
URL:https://reenaseniorliving.com/event-calendar/movement-class-with-kayla-176/
LOCATION:Activity Room
CATEGORIES:Assisted Living
END:VEVENT
BEGIN:VEVENT
DTSTART;TZID=America/Chicago:20260414T174000
DTEND;TZID=America/Chicago:20260414T190000
DTSTAMP:20260419T102215
CREATED:20260402T054936Z
LAST-MODIFIED:20260414T061902Z
UID:10005084-1776188400-1776193200@reenaseniorliving.com
SUMMARY:Hoard Museum Project - Cow
DESCRIPTION:
URL:https://reenaseniorliving.com/event-calendar/hoard-museum-project-cow/
LOCATION:Activity Room
CATEGORIES:Assisted Living
END:VEVENT
BEGIN:VEVENT
DTSTART;TZID=America/Chicago:20260414T171500
DTEND;TZID=America/Chicago:20260414T190000
DTSTAMP:20260419T102215
CREATED:20260316T050430Z
LAST-MODIFIED:20260408T060412Z
UID:10004906-1776186900-1776193200@reenaseniorliving.com
SUMMARY:Game Night!
DESCRIPTION:
URL:https://reenaseniorliving.com/event-calendar/game-night-13/
LOCATION:Activity Room
CATEGORIES:Assisted Living
END:VEVENT
BEGIN:VEVENT
DTSTART;TZID=America/Chicago:20260414T130000
DTEND;TZID=America/Chicago:20260414T140000
DTSTAMP:20260419T102215
CREATED:20260328T055017Z
LAST-MODIFIED:20260414T061902Z
UID:10005050-1776171600-1776175200@reenaseniorliving.com
SUMMARY:Hoard Museum Cow Contest Team Starts Today. Let's get our ideas brainstormed today.
DESCRIPTION:
URL:https://reenaseniorliving.com/event-calendar/hoard-museum-cow-contest-team-starts-today-lets-get-our-ideas-brainstormed-today-4/
LOCATION:Activity Room
CATEGORIES:Assisted Living
END:VEVENT
BEGIN:VEVENT
DTSTART;TZID=America/Chicago:20260414T091500
DTEND;TZID=America/Chicago:20260414T094500
DTSTAMP:20260419T102215
CREATED:20260316T050429Z
LAST-MODIFIED:20260414T061901Z
UID:10004904-1776158100-1776159900@reenaseniorliving.com
SUMMARY:Movement Class with Kayla
DESCRIPTION:
URL:https://reenaseniorliving.com/event-calendar/movement-class-with-kayla-175/
LOCATION:Activity Room
CATEGORIES:Assisted Living
END:VEVENT
BEGIN:VEVENT
DTSTART;TZID=America/Chicago:20260414T085000
DTEND;TZID=America/Chicago:20260414T091000
DTSTAMP:20260419T102215
CREATED:20260316T050429Z
LAST-MODIFIED:20260327T054929Z
UID:10004903-1776156600-1776157800@reenaseniorliving.com
SUMMARY:Green Thumbs Garden Club
DESCRIPTION:
URL:https://reenaseniorliving.com/event-calendar/green-thumbs-garden-club-29/
LOCATION:Activity Room
CATEGORIES:Assisted Living
END:VEVENT
BEGIN:VEVENT
DTSTART;TZID=America/Chicago:20260413T171500
DTEND;TZID=America/Chicago:20260413T190000
DTSTAMP:20260419T102215
CREATED:20260410T060402Z
LAST-MODIFIED:20260413T061919Z
UID:10005152-1776100500-1776106800@reenaseniorliving.com
SUMMARY:Game Night!
DESCRIPTION:
URL:https://reenaseniorliving.com/event-calendar/game-night-19/
LOCATION:Activity Room
CATEGORIES:Assisted Living
END:VEVENT
END:VCALENDAR