BEGIN:VCALENDAR
VERSION:2.0
PRODID:-//Reena Senior Living - ECPv6.11.2.1//NONSGML v1.0//EN
CALSCALE:GREGORIAN
METHOD:PUBLISH
X-WR-CALNAME:Reena Senior Living
X-ORIGINAL-URL:https://reenaseniorliving.com
X-WR-CALDESC:Events for Reena Senior Living
REFRESH-INTERVAL;VALUE=DURATION:PT1H
X-Robots-Tag:noindex
X-PUBLISHED-TTL:PT1H
BEGIN:VTIMEZONE
TZID:America/Chicago
BEGIN:DAYLIGHT
TZOFFSETFROM:-0600
TZOFFSETTO:-0500
TZNAME:CDT
DTSTART:20250309T080000
END:DAYLIGHT
BEGIN:STANDARD
TZOFFSETFROM:-0500
TZOFFSETTO:-0600
TZNAME:CST
DTSTART:20251102T070000
END:STANDARD
END:VTIMEZONE
BEGIN:VEVENT
DTSTART;TZID=America/Chicago:20251105T130000
DTEND;TZID=America/Chicago:20251105T140000
DTSTAMP:20260424T205539
CREATED:20251022T063434Z
LAST-MODIFIED:20251105T071904Z
UID:10002785-1762347600-1762351200@reenaseniorliving.com
SUMMARY:Records with Dorothy
DESCRIPTION:
URL:https://reenaseniorliving.com/event-calendar/records-with-dorothy-8/
LOCATION:Activity Room
CATEGORIES:Legacy Court
END:VEVENT
BEGIN:VEVENT
DTSTART;TZID=America/Chicago:20251105T130000
DTEND;TZID=America/Chicago:20251105T140000
DTSTAMP:20260424T205539
CREATED:20251007T060412Z
LAST-MODIFIED:20251105T091902Z
UID:10002559-1762347600-1762351200@reenaseniorliving.com
SUMMARY:Spark Challenge Day.
DESCRIPTION:
URL:https://reenaseniorliving.com/event-calendar/spark-competition-6/
LOCATION:Activity Room
CATEGORIES:Assisted Living,Legacy Court
END:VEVENT
BEGIN:VEVENT
DTSTART;TZID=America/Chicago:20251105T121500
DTEND;TZID=America/Chicago:20251105T130000
DTSTAMP:20260424T205539
CREATED:20251007T074913Z
LAST-MODIFIED:20251105T091901Z
UID:10002567-1762344900-1762347600@reenaseniorliving.com
SUMMARY:Resident Council
DESCRIPTION:
URL:https://reenaseniorliving.com/event-calendar/resident-council-6/
LOCATION:Activity Room
CATEGORIES:Assisted Living
END:VEVENT
BEGIN:VEVENT
DTSTART;TZID=America/Chicago:20251105T094500
DTEND;TZID=America/Chicago:20251105T100000
DTSTAMP:20260424T205539
CREATED:20251007T074913Z
LAST-MODIFIED:20251023T083405Z
UID:10002565-1762335900-1762336800@reenaseniorliving.com
SUMMARY:Biking with Music
DESCRIPTION:
URL:https://reenaseniorliving.com/event-calendar/biking-with-music-8/
LOCATION:Activity Room
CATEGORIES:Assisted Living
END:VEVENT
BEGIN:VEVENT
DTSTART;TZID=America/Chicago:20251105T094500
DTEND;TZID=America/Chicago:20251105T100000
DTSTAMP:20260424T205539
CREATED:20251007T074913Z
LAST-MODIFIED:20251023T083405Z
UID:10002566-1762335900-1762336800@reenaseniorliving.com
SUMMARY:Walking Group
DESCRIPTION:
URL:https://reenaseniorliving.com/event-calendar/walking-group-31/
LOCATION:Activity Room
CATEGORIES:Assisted Living
END:VEVENT
BEGIN:VEVENT
DTSTART;TZID=America/Chicago:20251105T091500
DTEND;TZID=America/Chicago:20251105T094500
DTSTAMP:20260424T205539
CREATED:20251007T074913Z
LAST-MODIFIED:20251105T091901Z
UID:10002564-1762334100-1762335900@reenaseniorliving.com
SUMMARY:Movement Class with Kayla
DESCRIPTION:
URL:https://reenaseniorliving.com/event-calendar/movement-class-with-kayla-79/
LOCATION:Activity Room
CATEGORIES:Assisted Living
END:VEVENT
BEGIN:VEVENT
DTSTART;TZID=America/Chicago:20251105T090000
DTEND;TZID=America/Chicago:20251105T092000
DTSTAMP:20260424T205539
CREATED:20251010T060410Z
LAST-MODIFIED:20251102T060401Z
UID:10002614-1762333200-1762334400@reenaseniorliving.com
SUMMARY:Spiritual Time with Chaplin Lee
DESCRIPTION:
URL:https://reenaseniorliving.com/event-calendar/spiritual-time-with-chaplin-lee-3/
LOCATION:Activity Room
CATEGORIES:Legacy Court
END:VEVENT
BEGIN:VEVENT
DTSTART;TZID=America/Chicago:20251104T171500
DTEND;TZID=America/Chicago:20251104T191500
DTSTAMP:20260424T205539
CREATED:20251030T084904Z
LAST-MODIFIED:20251104T091903Z
UID:10002914-1762276500-1762283700@reenaseniorliving.com
SUMMARY:Nails with Kayla - Connect Four in the Room to play as you wait or 4K Scenery and music from Japan.
DESCRIPTION:
URL:https://reenaseniorliving.com/event-calendar/nails-with-kayla-connect-four-in-the-room-to-play-as-you-wait-or-4k-scenery-and-music-from-japan/
LOCATION:Activity Room
CATEGORIES:Assisted Living
END:VEVENT
BEGIN:VEVENT
DTSTART;TZID=America/Chicago:20251104T160500
DTEND;TZID=America/Chicago:20251104T162500
DTSTAMP:20260424T205539
CREATED:20251006T074908Z
LAST-MODIFIED:20251020T081903Z
UID:10002553-1762272300-1762273500@reenaseniorliving.com
SUMMARY:Qi gong Video- Therapy Group Guided Via YouTube
DESCRIPTION:
URL:https://reenaseniorliving.com/event-calendar/qi-gong-video-therapy-group-guided-via-youtube-10/
LOCATION:Activity Room
CATEGORIES:Assisted Living
END:VEVENT
BEGIN:VEVENT
DTSTART;TZID=America/Chicago:20251104T154500
DTEND;TZID=America/Chicago:20251104T161500
DTSTAMP:20260424T205539
CREATED:20251103T070403Z
LAST-MODIFIED:20251104T071914Z
UID:10002960-1762271100-1762272900@reenaseniorliving.com
SUMMARY:Movement with Balls\, Noodles\, & Weights.
DESCRIPTION:
URL:https://reenaseniorliving.com/event-calendar/movement-with-balls-noodles-weights/
LOCATION:Activity Room
CATEGORIES:Legacy Court
END:VEVENT
BEGIN:VEVENT
DTSTART;TZID=America/Chicago:20251104T140000
DTEND;TZID=America/Chicago:20251104T150000
DTSTAMP:20260424T205539
CREATED:20251024T083403Z
LAST-MODIFIED:20251028T083404Z
UID:10002827-1762264800-1762268400@reenaseniorliving.com
SUMMARY:Let's wrap the homemade caramels we made yesterday.
DESCRIPTION:
URL:https://reenaseniorliving.com/event-calendar/lets-wrap-the-homemade-caramels-we-made-yesterday/
LOCATION:Activity Room
CATEGORIES:Assisted Living
END:VEVENT
BEGIN:VEVENT
DTSTART;TZID=America/Chicago:20251104T140000
DTEND;TZID=America/Chicago:20251104T142500
DTSTAMP:20260424T205539
CREATED:20251103T070403Z
LAST-MODIFIED:20251104T071903Z
UID:10002959-1762264800-1762266300@reenaseniorliving.com
SUMMARY:Balance Training with Kayla - Hallway near Activity Room
DESCRIPTION:
URL:https://reenaseniorliving.com/event-calendar/balance-training-with-kayla-hallway-near-activity-room/
LOCATION:Activity Room
CATEGORIES:Legacy Court
END:VEVENT
BEGIN:VEVENT
DTSTART;TZID=America/Chicago:20251104T130000
DTEND;TZID=America/Chicago:20251104T140000
DTSTAMP:20260424T205539
CREATED:20251103T070403Z
LAST-MODIFIED:20251104T071903Z
UID:10002958-1762261200-1762264800@reenaseniorliving.com
SUMMARY:Creative Time with Laurie.
DESCRIPTION:
URL:https://reenaseniorliving.com/event-calendar/creative-time-with-laurie-2/
LOCATION:Activity Room
CATEGORIES:Legacy Court
END:VEVENT
BEGIN:VEVENT
DTSTART;TZID=America/Chicago:20251104T130000
DTEND;TZID=America/Chicago:20251104T134000
DTSTAMP:20260424T205539
CREATED:20251006T074908Z
LAST-MODIFIED:20251104T091903Z
UID:10002552-1762261200-1762263600@reenaseniorliving.com
SUMMARY:Deep Dive Lecture with Dr. Bill: Sticks and Stones - Falls
DESCRIPTION:
URL:https://reenaseniorliving.com/event-calendar/next-spark-challenge-rules-review-with-team-30-minutes/
LOCATION:Activity Room
CATEGORIES:Assisted Living
END:VEVENT
BEGIN:VEVENT
DTSTART;TZID=America/Chicago:20251104T123000
DTEND;TZID=America/Chicago:20251104T125500
DTSTAMP:20260424T205539
CREATED:20251103T070403Z
LAST-MODIFIED:20251104T071903Z
UID:10002957-1762259400-1762260900@reenaseniorliving.com
SUMMARY:Balloon Ball!
DESCRIPTION:
URL:https://reenaseniorliving.com/event-calendar/balloon-ball/
LOCATION:Activity Room
CATEGORIES:Legacy Court
END:VEVENT
BEGIN:VEVENT
DTSTART;TZID=America/Chicago:20251104T101500
DTEND;TZID=America/Chicago:20251104T104000
DTSTAMP:20260424T205539
CREATED:20251103T070403Z
LAST-MODIFIED:20251104T071903Z
UID:10002956-1762251300-1762252800@reenaseniorliving.com
SUMMARY:Sharpen Pencils
DESCRIPTION:
URL:https://reenaseniorliving.com/event-calendar/sharpen-pencils/
LOCATION:Activity Room
CATEGORIES:Legacy Court
END:VEVENT
BEGIN:VEVENT
DTSTART;TZID=America/Chicago:20251104T100000
DTEND;TZID=America/Chicago:20251104T103000
DTSTAMP:20260424T205539
CREATED:20251101T090401Z
LAST-MODIFIED:20251104T091903Z
UID:10002934-1762250400-1762252200@reenaseniorliving.com
SUMMARY:Green Thumbs Watering and Dig up Bulbs on Patio
DESCRIPTION:
URL:https://reenaseniorliving.com/event-calendar/green-thumbs-watering-and-dig-up-bulbs-on-patio-2/
LOCATION:Activity Room
CATEGORIES:Assisted Living
END:VEVENT
BEGIN:VEVENT
DTSTART;TZID=America/Chicago:20251104T094500
DTEND;TZID=America/Chicago:20251104T101500
DTSTAMP:20260424T205539
CREATED:20251006T074908Z
LAST-MODIFIED:20251020T081903Z
UID:10002550-1762249500-1762251300@reenaseniorliving.com
SUMMARY:Qi gong Video- Therapy Group Guided Via YouTube
DESCRIPTION:
URL:https://reenaseniorliving.com/event-calendar/qi-gong-video-therapy-group-guided-via-youtube-9/
LOCATION:Activity Room
CATEGORIES:Assisted Living
END:VEVENT
BEGIN:VEVENT
DTSTART;TZID=America/Chicago:20251104T091500
DTEND;TZID=America/Chicago:20251104T094500
DTSTAMP:20260424T205539
CREATED:20251006T074908Z
LAST-MODIFIED:20251104T091903Z
UID:10002549-1762247700-1762249500@reenaseniorliving.com
SUMMARY:Movement Class with Kayla
DESCRIPTION:
URL:https://reenaseniorliving.com/event-calendar/movement-class-with-kayla-78/
LOCATION:Activity Room
CATEGORIES:Assisted Living
END:VEVENT
BEGIN:VEVENT
DTSTART;TZID=America/Chicago:20251103T151500
DTEND;TZID=America/Chicago:20251103T154500
DTSTAMP:20260424T205539
CREATED:20251103T070402Z
LAST-MODIFIED:20251103T070414Z
UID:10002954-1762182900-1762184700@reenaseniorliving.com
SUMMARY:Biking
DESCRIPTION:
URL:https://reenaseniorliving.com/event-calendar/biking-59/
LOCATION:Activity Room
CATEGORIES:Legacy Court
END:VEVENT
BEGIN:VEVENT
DTSTART;TZID=America/Chicago:20251103T133000
DTEND;TZID=America/Chicago:20251103T141500
DTSTAMP:20260424T205539
CREATED:20251025T083404Z
LAST-MODIFIED:20251103T090401Z
UID:10002847-1762176600-1762179300@reenaseniorliving.com
SUMMARY:Review Deep Dive Lecture Notes with Kayla
DESCRIPTION:
URL:https://reenaseniorliving.com/event-calendar/review-deep-dive-lecture-notes-with-kayla/
LOCATION:Activity Room
CATEGORIES:Assisted Living
END:VEVENT
BEGIN:VEVENT
DTSTART;TZID=America/Chicago:20251103T130000
DTEND;TZID=America/Chicago:20251103T132500
DTSTAMP:20260424T205539
CREATED:20251030T084904Z
LAST-MODIFIED:20251103T090401Z
UID:10002913-1762174800-1762176300@reenaseniorliving.com
SUMMARY:Arm Bike Practice with Reena Rocker Team.
DESCRIPTION:
URL:https://reenaseniorliving.com/event-calendar/arm-bike-practice-with-reena-rocker-team/
LOCATION:Activity Room
CATEGORIES:Assisted Living
END:VEVENT
BEGIN:VEVENT
DTSTART;TZID=America/Chicago:20251103T123000
DTEND;TZID=America/Chicago:20251103T133000
DTSTAMP:20260424T205539
CREATED:20251024T083403Z
LAST-MODIFIED:20251028T083404Z
UID:10002825-1762173000-1762176600@reenaseniorliving.com
SUMMARY:Let's Make Caramels!
DESCRIPTION:
URL:https://reenaseniorliving.com/event-calendar/lets-make-caramels/
LOCATION:Activity Room
CATEGORIES:Assisted Living
END:VEVENT
BEGIN:VEVENT
DTSTART;TZID=America/Chicago:20251103T110000
DTEND;TZID=America/Chicago:20251103T150000
DTSTAMP:20260424T205539
CREATED:20251021T081903Z
LAST-MODIFIED:20251103T090401Z
UID:10002773-1762167600-1762182000@reenaseniorliving.com
SUMMARY:Return Costumes Today Please.
DESCRIPTION:
URL:https://reenaseniorliving.com/event-calendar/return-costumes/
LOCATION:Activity Room
CATEGORIES:Assisted Living
END:VEVENT
BEGIN:VEVENT
DTSTART;TZID=America/Chicago:20251103T104500
DTEND;TZID=America/Chicago:20251103T111500
DTSTAMP:20260424T205539
CREATED:20251103T070402Z
LAST-MODIFIED:20251103T070403Z
UID:10002951-1762166700-1762168500@reenaseniorliving.com
SUMMARY:Walk for good health. How many pumpkins can you find and collect to put away for next year?
DESCRIPTION:
URL:https://reenaseniorliving.com/event-calendar/walk-for-good-health-how-many-pumpkins-can-you-find-and-collect-to-put-away-for-next-year/
LOCATION:Activity Room
CATEGORIES:Legacy Court
END:VEVENT
BEGIN:VEVENT
DTSTART;TZID=America/Chicago:20251103T101500
DTEND;TZID=America/Chicago:20251103T103500
DTSTAMP:20260424T205539
CREATED:20251103T070402Z
LAST-MODIFIED:20251103T070403Z
UID:10002950-1762164900-1762166100@reenaseniorliving.com
SUMMARY:Parachute Time with Anne!
DESCRIPTION:
URL:https://reenaseniorliving.com/event-calendar/parachute-time-with-anne/
LOCATION:Activity Room
CATEGORIES:Legacy Court
END:VEVENT
BEGIN:VEVENT
DTSTART;TZID=America/Chicago:20251103T100000
DTEND;TZID=America/Chicago:20251103T110000
DTSTAMP:20260424T205539
CREATED:20251101T090400Z
LAST-MODIFIED:20251103T090401Z
UID:10002933-1762164000-1762167600@reenaseniorliving.com
SUMMARY:Norine Niedecker - PBS - Series 1\,2\, & 4 - Local Poet - 38 minutes - With Coffee
DESCRIPTION:
URL:https://reenaseniorliving.com/event-calendar/norine-niedecker-pbs-series-12-4-local-poet-38-minutes-with-coffee/
LOCATION:Activity Room
CATEGORIES:Assisted Living
END:VEVENT
BEGIN:VEVENT
DTSTART;TZID=America/Chicago:20251103T100000
DTEND;TZID=America/Chicago:20251103T103000
DTSTAMP:20260424T205539
CREATED:20251030T084904Z
LAST-MODIFIED:20251031T090401Z
UID:10002912-1762164000-1762165800@reenaseniorliving.com
SUMMARY:Green Thumbs Watering and Dig up Bulbs on Patio
DESCRIPTION:
URL:https://reenaseniorliving.com/event-calendar/green-thumbs-watering-and-dig-up-bulbs-on-patio/
LOCATION:Activity Room
CATEGORIES:Assisted Living
END:VEVENT
BEGIN:VEVENT
DTSTART;TZID=America/Chicago:20251103T100000
DTEND;TZID=America/Chicago:20251103T103000
DTSTAMP:20260424T205539
CREATED:20251005T054911Z
LAST-MODIFIED:20251102T060402Z
UID:10002526-1762164000-1762165800@reenaseniorliving.com
SUMMARY:Rhythm Monday with Instruments and Movement with Anne
DESCRIPTION:
URL:https://reenaseniorliving.com/event-calendar/rhythm-monday-with-instruments-and-movement-with-anne-11/
LOCATION:Activity Room
CATEGORIES:Legacy Court
END:VEVENT
BEGIN:VEVENT
DTSTART;TZID=America/Chicago:20251103T094500
DTEND;TZID=America/Chicago:20251103T100500
DTSTAMP:20260424T205539
CREATED:20251005T073408Z
LAST-MODIFIED:20251023T083404Z
UID:10002536-1762163100-1762164300@reenaseniorliving.com
SUMMARY:TRYathlon - Walk 5 minutes\, Bike 5 minutes\, Arm Bike 1-2 minutes\, close with Gentle Stretch
DESCRIPTION:
URL:https://reenaseniorliving.com/event-calendar/tryathlon-walk-5-minutes-bike-5-minutes-arm-bike-1-2-minutes-end-with-gentle-stretch-5/
LOCATION:Activity Room
CATEGORIES:Assisted Living
END:VEVENT
END:VCALENDAR