BEGIN:VCALENDAR
VERSION:2.0
PRODID:-//Reena Senior Living - ECPv6.11.2.1//NONSGML v1.0//EN
CALSCALE:GREGORIAN
METHOD:PUBLISH
X-ORIGINAL-URL:https://reenaseniorliving.com
X-WR-CALDESC:Events for Reena Senior Living
REFRESH-INTERVAL;VALUE=DURATION:PT1H
X-Robots-Tag:noindex
X-PUBLISHED-TTL:PT1H
BEGIN:VTIMEZONE
TZID:America/Chicago
BEGIN:DAYLIGHT
TZOFFSETFROM:-0600
TZOFFSETTO:-0500
TZNAME:CDT
DTSTART:20260308T080000
END:DAYLIGHT
BEGIN:STANDARD
TZOFFSETFROM:-0500
TZOFFSETTO:-0600
TZNAME:CST
DTSTART:20261101T070000
END:STANDARD
END:VTIMEZONE
BEGIN:VEVENT
DTSTART;TZID=America/Chicago:20260401T091500
DTEND;TZID=America/Chicago:20260401T115000
DTSTAMP:20260419T223939
CREATED:20260303T032053Z
LAST-MODIFIED:20260401T055008Z
UID:10004713-1775034900-1775044200@reenaseniorliving.com
SUMMARY:Marathon Exercise - (April Fools)
DESCRIPTION:
URL:https://reenaseniorliving.com/event-calendar/movement-class-with-kayla-170/
LOCATION:Activity Room
CATEGORIES:Assisted Living
END:VEVENT
BEGIN:VEVENT
DTSTART;TZID=America/Chicago:20260331T171500
DTEND;TZID=America/Chicago:20260331T190000
DTSTAMP:20260419T223939
CREATED:20260302T031911Z
LAST-MODIFIED:20260331T055004Z
UID:10004701-1774977300-1774983600@reenaseniorliving.com
SUMMARY:Hand and Foot - Resident Run
DESCRIPTION:
URL:https://reenaseniorliving.com/event-calendar/game-night-11/
LOCATION:Activity Room
CATEGORIES:Assisted Living
END:VEVENT
BEGIN:VEVENT
DTSTART;TZID=America/Chicago:20260331T130000
DTEND;TZID=America/Chicago:20260331T140000
DTSTAMP:20260419T223939
CREATED:20260311T041910Z
LAST-MODIFIED:20260319T053419Z
UID:10004835-1774962000-1774965600@reenaseniorliving.com
SUMMARY:Countryside Drive - If it's nice we'll go to Dorothy Carnes to the overlook of Rose Lake.
DESCRIPTION:
URL:https://reenaseniorliving.com/event-calendar/countryside-drive-if-its-nice-well-go-to-dorothy-carnes-to-the-overlook-of-rose-lake/
LOCATION:Activity Room
CATEGORIES:Assisted Living
END:VEVENT
BEGIN:VEVENT
DTSTART;TZID=America/Chicago:20260331T091500
DTEND;TZID=America/Chicago:20260331T094500
DTSTAMP:20260419T223939
CREATED:20260302T031911Z
LAST-MODIFIED:20260331T055004Z
UID:10004699-1774948500-1774950300@reenaseniorliving.com
SUMMARY:Movement Class
DESCRIPTION:
URL:https://reenaseniorliving.com/event-calendar/movement-class-with-kayla-169/
LOCATION:Activity Room
CATEGORIES:Assisted Living
END:VEVENT
BEGIN:VEVENT
DTSTART;TZID=America/Chicago:20260331T085000
DTEND;TZID=America/Chicago:20260331T091000
DTSTAMP:20260419T223940
CREATED:20260302T031911Z
LAST-MODIFIED:20260324T053531Z
UID:10004700-1774947000-1774948200@reenaseniorliving.com
SUMMARY:Green Thumbs Garden Club
DESCRIPTION:
URL:https://reenaseniorliving.com/event-calendar/green-thumbs-garden-club-24/
LOCATION:Activity Room
CATEGORIES:Assisted Living
END:VEVENT
BEGIN:VEVENT
DTSTART;TZID=America/Chicago:20260330T153000
DTEND;TZID=America/Chicago:20260330T161500
DTSTAMP:20260419T223940
CREATED:20260301T031917Z
LAST-MODIFIED:20260330T054903Z
UID:10004686-1774884600-1774887300@reenaseniorliving.com
SUMMARY:Knitting\, Crochet\, Crafting\, and Social Time.
DESCRIPTION:
URL:https://reenaseniorliving.com/event-calendar/knitting-crochet-crafting-and-social-time-9/
LOCATION:Activity Room
CATEGORIES:Assisted Living
END:VEVENT
BEGIN:VEVENT
DTSTART;TZID=America/Chicago:20260330T130000
DTEND;TZID=America/Chicago:20260330T143000
DTSTAMP:20260419T223940
CREATED:20260311T041910Z
LAST-MODIFIED:20260319T053418Z
UID:10004834-1774875600-1774881000@reenaseniorliving.com
SUMMARY:Painting the Northern Lights - with Dawn
DESCRIPTION:
URL:https://reenaseniorliving.com/event-calendar/painting-the-northern-lights-with-dawn/
LOCATION:Activity Room
CATEGORIES:Assisted Living
END:VEVENT
BEGIN:VEVENT
DTSTART;TZID=America/Chicago:20260330T130000
DTEND;TZID=America/Chicago:20260330T141500
DTSTAMP:20260419T223940
CREATED:20260320T053407Z
LAST-MODIFIED:20260330T054903Z
UID:10004961-1774875600-1774880100@reenaseniorliving.com
SUMMARY:Countryside Drive - Sign-up
DESCRIPTION:
URL:https://reenaseniorliving.com/event-calendar/countryside-drive-if-its-nice-well-go-to-dorothy-carnes-to-the-overlook-of-rose-lake-2/
LOCATION:Activity Room
CATEGORIES:Assisted Living
END:VEVENT
BEGIN:VEVENT
DTSTART;TZID=America/Chicago:20260330T103000
DTEND;TZID=America/Chicago:20260330T105000
DTSTAMP:20260419T223940
CREATED:20260301T070921Z
LAST-MODIFIED:20260303T073440Z
UID:10004690-1774866600-1774867800@reenaseniorliving.com
SUMMARY:Balance Training with Kayla - Hallway near Activity Room
DESCRIPTION:
URL:https://reenaseniorliving.com/event-calendar/balance-training-with-kayla-hallway-near-activity-room-26/
LOCATION:Activity Room
CATEGORIES:Legacy Court
END:VEVENT
BEGIN:VEVENT
DTSTART;TZID=America/Chicago:20260330T093000
DTEND;TZID=America/Chicago:20260330T101000
DTSTAMP:20260419T223940
CREATED:20260301T070921Z
LAST-MODIFIED:20260325T094910Z
UID:10004689-1774863000-1774865400@reenaseniorliving.com
SUMMARY:Games!
DESCRIPTION:
URL:https://reenaseniorliving.com/event-calendar/games-6/
LOCATION:Activity Room
CATEGORIES:Legacy Court
END:VEVENT
BEGIN:VEVENT
DTSTART;TZID=America/Chicago:20260330T091500
DTEND;TZID=America/Chicago:20260330T094500
DTSTAMP:20260419T223940
CREATED:20260301T031916Z
LAST-MODIFIED:20260330T054903Z
UID:10004684-1774862100-1774863900@reenaseniorliving.com
SUMMARY:Movement Class
DESCRIPTION:
URL:https://reenaseniorliving.com/event-calendar/movement-with-kayla-ar-15/
LOCATION:Activity Room
CATEGORIES:Assisted Living
END:VEVENT
BEGIN:VEVENT
DTSTART;TZID=America/Chicago:20260330T090000
DTEND;TZID=America/Chicago:20260330T093000
DTSTAMP:20260419T223940
CREATED:20260301T070908Z
LAST-MODIFIED:20260325T094910Z
UID:10004687-1774861200-1774863000@reenaseniorliving.com
SUMMARY:Social Time - Linked Senior Events\, News\, & Reminisce
DESCRIPTION:
URL:https://reenaseniorliving.com/event-calendar/social-time-linked-senior-events-news-reminisce-2/
LOCATION:Activity Room
CATEGORIES:Legacy Court
END:VEVENT
BEGIN:VEVENT
DTSTART;TZID=America/Chicago:20260329T090000
DTEND;TZID=America/Chicago:20260329T113000
DTSTAMP:20260419T223940
CREATED:20260311T041910Z
LAST-MODIFIED:20260329T054901Z
UID:10004833-1774774800-1774783800@reenaseniorliving.com
SUMMARY:Nail Spa Day - sign-up
DESCRIPTION:
URL:https://reenaseniorliving.com/event-calendar/nail-spa-day-10/
LOCATION:Activity Room
CATEGORIES:Assisted Living
END:VEVENT
BEGIN:VEVENT
DTSTART;TZID=America/Chicago:20260328T150000
DTEND;TZID=America/Chicago:20260328T153000
DTSTAMP:20260419T223940
CREATED:20260320T093408Z
LAST-MODIFIED:20260325T094910Z
UID:10004968-1774710000-1774711800@reenaseniorliving.com
SUMMARY:Easter Adult Coloring Pages - Christian Music
DESCRIPTION:
URL:https://reenaseniorliving.com/event-calendar/easter-adult-coloring-pages-christian-music/
LOCATION:Activity Room
CATEGORIES:Legacy Court
END:VEVENT
BEGIN:VEVENT
DTSTART;TZID=America/Chicago:20260328T090000
DTEND;TZID=America/Chicago:20260328T113000
DTSTAMP:20260419T223940
CREATED:20260311T041909Z
LAST-MODIFIED:20260328T055012Z
UID:10004831-1774688400-1774697400@reenaseniorliving.com
SUMMARY:Nail Spa Day - Sign-up
DESCRIPTION:
URL:https://reenaseniorliving.com/event-calendar/nail-spa-day-sign-up-7/
LOCATION:Activity Room
CATEGORIES:Assisted Living
END:VEVENT
BEGIN:VEVENT
DTSTART;TZID=America/Chicago:20260327T180000
DTEND;TZID=America/Chicago:20260327T190000
DTSTAMP:20260419T223940
CREATED:20260228T065401Z
LAST-MODIFIED:20260325T094910Z
UID:10004680-1774634400-1774638000@reenaseniorliving.com
SUMMARY:Calm Time- TV - Feel good kind.
DESCRIPTION:
URL:https://reenaseniorliving.com/event-calendar/classic-movie-feel-good-kind-8/
LOCATION:Activity Room
CATEGORIES:Legacy Court
END:VEVENT
BEGIN:VEVENT
DTSTART;TZID=America/Chicago:20260327T150000
DTEND;TZID=America/Chicago:20260327T151500
DTSTAMP:20260419T223940
CREATED:20260226T030555Z
LAST-MODIFIED:20260327T054925Z
UID:10004627-1774623600-1774624500@reenaseniorliving.com
SUMMARY:Your weekly activity packets will be delivered.
DESCRIPTION:
URL:https://reenaseniorliving.com/event-calendar/your-weekly-activity-packets-will-be-delivered-46/
LOCATION:Activity Room
CATEGORIES:Assisted Living
END:VEVENT
BEGIN:VEVENT
DTSTART;TZID=America/Chicago:20260327T140000
DTEND;TZID=America/Chicago:20260327T150000
DTSTAMP:20260419T223940
CREATED:20260226T030555Z
LAST-MODIFIED:20260327T054925Z
UID:10004626-1774620000-1774623600@reenaseniorliving.com
SUMMARY:Bingo with BASE Group!
DESCRIPTION:
URL:https://reenaseniorliving.com/event-calendar/bingo-with-base-group/
LOCATION:Activity Room
CATEGORIES:Assisted Living
END:VEVENT
BEGIN:VEVENT
DTSTART;TZID=America/Chicago:20260327T130000
DTEND;TZID=America/Chicago:20260327T140000
DTSTAMP:20260419T223940
CREATED:20260226T030555Z
LAST-MODIFIED:20260227T031925Z
UID:10004625-1774616400-1774620000@reenaseniorliving.com
SUMMARY:The Big Show
DESCRIPTION:
URL:https://reenaseniorliving.com/event-calendar/the-big-show-12/
LOCATION:Activity Room
CATEGORIES:Assisted Living
END:VEVENT
BEGIN:VEVENT
DTSTART;TZID=America/Chicago:20260327T123000
DTEND;TZID=America/Chicago:20260327T131500
DTSTAMP:20260419T223940
CREATED:20260226T063524Z
LAST-MODIFIED:20260325T094909Z
UID:10004630-1774614600-1774617300@reenaseniorliving.com
SUMMARY:Group Movement Class - Strength and Mobility
DESCRIPTION:
URL:https://reenaseniorliving.com/event-calendar/group-movement-class-strength-and-mobility-16/
LOCATION:Activity Room
CATEGORIES:Legacy Court
END:VEVENT
BEGIN:VEVENT
DTSTART;TZID=America/Chicago:20260327T103000
DTEND;TZID=America/Chicago:20260327T105000
DTSTAMP:20260419T223940
CREATED:20260320T093406Z
LAST-MODIFIED:20260325T094909Z
UID:10004966-1774607400-1774608600@reenaseniorliving.com
SUMMARY:How does nature make us feel? Timeslip
DESCRIPTION:
URL:https://reenaseniorliving.com/event-calendar/how-does-nature-make-us-feel-timeslip-2/
LOCATION:Activity Room
CATEGORIES:Legacy Court
END:VEVENT
BEGIN:VEVENT
DTSTART;TZID=America/Chicago:20260327T091500
DTEND;TZID=America/Chicago:20260327T094500
DTSTAMP:20260419T223940
CREATED:20260311T041909Z
LAST-MODIFIED:20260327T054925Z
UID:10004830-1774602900-1774604700@reenaseniorliving.com
SUMMARY:Movement Class
DESCRIPTION:
URL:https://reenaseniorliving.com/event-calendar/movement-class-95/
LOCATION:Activity Room
CATEGORIES:Assisted Living
END:VEVENT
BEGIN:VEVENT
DTSTART;TZID=America/Chicago:20260327T091500
DTEND;TZID=America/Chicago:20260327T094500
DTSTAMP:20260419T223940
CREATED:20260226T030542Z
LAST-MODIFIED:20260303T032048Z
UID:10004623-1774602900-1774604700@reenaseniorliving.com
SUMMARY:Movement Class with Kayla
DESCRIPTION:
URL:https://reenaseniorliving.com/event-calendar/movement-class-with-kayla-168/
LOCATION:Activity Room
CATEGORIES:Assisted Living
END:VEVENT
BEGIN:VEVENT
DTSTART;TZID=America/Chicago:20260326T180000
DTEND;TZID=America/Chicago:20260326T190000
DTSTAMP:20260419T223940
CREATED:20260228T065349Z
LAST-MODIFIED:20260313T083600Z
UID:10004679-1774548000-1774551600@reenaseniorliving.com
SUMMARY:Calm Time- TV - Feel good kind.
DESCRIPTION:
URL:https://reenaseniorliving.com/event-calendar/classic-movie-feel-good-kind-7/
LOCATION:Activity Room
CATEGORIES:Legacy Court
END:VEVENT
BEGIN:VEVENT
DTSTART;TZID=America/Chicago:20260326T180000
DTEND;TZID=America/Chicago:20260326T183000
DTSTAMP:20260419T223940
CREATED:20260320T093406Z
LAST-MODIFIED:20260325T094922Z
UID:10004965-1774548000-1774549800@reenaseniorliving.com
SUMMARY:Easter - youtube video with Kayla
DESCRIPTION:
URL:https://reenaseniorliving.com/event-calendar/easter-youtube-video-with-kayla/
LOCATION:Activity Room
CATEGORIES:Legacy Court
END:VEVENT
BEGIN:VEVENT
DTSTART;TZID=America/Chicago:20260326T174500
DTEND;TZID=America/Chicago:20260326T190000
DTSTAMP:20260419T223940
CREATED:20260318T053439Z
LAST-MODIFIED:20260326T054931Z
UID:10004933-1774547100-1774551600@reenaseniorliving.com
SUMMARY:Nail Spa
DESCRIPTION:
URL:https://reenaseniorliving.com/event-calendar/nail-spa-5/
LOCATION:Activity Room
CATEGORIES:Assisted Living
END:VEVENT
BEGIN:VEVENT
DTSTART;TZID=America/Chicago:20260326T143000
DTEND;TZID=America/Chicago:20260326T161500
DTSTAMP:20260419T223940
CREATED:20260306T034910Z
LAST-MODIFIED:20260317T052035Z
UID:10004764-1774535400-1774541700@reenaseniorliving.com
SUMMARY:Planting and Transplanting Day for Green Thumbs. Want to be part of the garden club?
DESCRIPTION:
URL:https://reenaseniorliving.com/event-calendar/planting-and-transplanting-day-for-green-thumbs-want-to-be-part-of-the-garden-club/
LOCATION:Activity Room
CATEGORIES:Assisted Living
END:VEVENT
BEGIN:VEVENT
DTSTART;TZID=America/Chicago:20260326T131500
DTEND;TZID=America/Chicago:20260326T141500
DTSTAMP:20260419T223940
CREATED:20260314T084944Z
LAST-MODIFIED:20260325T094921Z
UID:10004883-1774530900-1774534500@reenaseniorliving.com
SUMMARY:How Baby Animals Survive in the Wild. They're so precious.
DESCRIPTION:
URL:https://reenaseniorliving.com/event-calendar/how-baby-animals-survive-in-the-wild-theyre-so-precious/
LOCATION:Activity Room
CATEGORIES:Legacy Court
END:VEVENT
BEGIN:VEVENT
DTSTART;TZID=America/Chicago:20260326T110000
DTEND;TZID=America/Chicago:20260326T113000
DTSTAMP:20260419T223940
CREATED:20260314T084942Z
LAST-MODIFIED:20260325T094921Z
UID:10004882-1774522800-1774524600@reenaseniorliving.com
SUMMARY:Rhythm Time! Song "Happy" Cheer Team Prep
DESCRIPTION:
URL:https://reenaseniorliving.com/event-calendar/rhythm-time-song-happy-cheer-team-prep-2/
LOCATION:Activity Room
CATEGORIES:Legacy Court
END:VEVENT
BEGIN:VEVENT
DTSTART;TZID=America/Chicago:20260326T103000
DTEND;TZID=America/Chicago:20260326T111500
DTSTAMP:20260419T223940
CREATED:20260225T063422Z
LAST-MODIFIED:20260319T093420Z
UID:10004614-1774521000-1774523700@reenaseniorliving.com
SUMMARY:Let's Make Bread.
DESCRIPTION:
URL:https://reenaseniorliving.com/event-calendar/lets-make-bread-27/
LOCATION:Activity Room
CATEGORIES:Legacy Court
END:VEVENT
END:VCALENDAR