BEGIN:VCALENDAR
VERSION:2.0
PRODID:-//Reena Senior Living - ECPv6.11.2.1//NONSGML v1.0//EN
CALSCALE:GREGORIAN
METHOD:PUBLISH
X-ORIGINAL-URL:https://reenaseniorliving.com
X-WR-CALDESC:Events for Reena Senior Living
REFRESH-INTERVAL;VALUE=DURATION:PT1H
X-Robots-Tag:noindex
X-PUBLISHED-TTL:PT1H
BEGIN:VTIMEZONE
TZID:America/Chicago
BEGIN:DAYLIGHT
TZOFFSETFROM:-0600
TZOFFSETTO:-0500
TZNAME:CDT
DTSTART:20260308T080000
END:DAYLIGHT
BEGIN:STANDARD
TZOFFSETFROM:-0500
TZOFFSETTO:-0600
TZNAME:CST
DTSTART:20261101T070000
END:STANDARD
END:VTIMEZONE
BEGIN:VEVENT
DTSTART;TZID=America/Chicago:20260508T150000
DTEND;TZID=America/Chicago:20260508T160000
DTSTAMP:20260419T212552
CREATED:20260409T060514Z
LAST-MODIFIED:20260419T063436Z
UID:10005150-1778252400-1778256000@reenaseniorliving.com
SUMMARY:Euchre - Go from Cards to Dinner - Resident Run
DESCRIPTION:
URL:https://reenaseniorliving.com/event-calendar/euchre-go-from-cards-to-dinner-resident-run-2/
LOCATION:Activity Room
CATEGORIES:Assisted Living
END:VEVENT
BEGIN:VEVENT
DTSTART;TZID=America/Chicago:20260508T180000
DTEND;TZID=America/Chicago:20260508T190000
DTSTAMP:20260419T212552
CREATED:20260417T135029Z
LAST-MODIFIED:20260419T151956Z
UID:10005292-1778263200-1778266800@reenaseniorliving.com
SUMMARY:Calm Time- TV - Feel good kind.
DESCRIPTION:
URL:https://reenaseniorliving.com/event-calendar/calm-time-tv-feel-good-kind-15/
LOCATION:Activity Room
CATEGORIES:Legacy Court
END:VEVENT
BEGIN:VEVENT
DTSTART;TZID=America/Chicago:20260509T090000
DTEND;TZID=America/Chicago:20260509T113000
DTSTAMP:20260419T212552
CREATED:20260410T060424Z
LAST-MODIFIED:20260419T063437Z
UID:10005158-1778317200-1778326200@reenaseniorliving.com
SUMMARY:Nail Spa Day - Sign-up Please
DESCRIPTION:
URL:https://reenaseniorliving.com/event-calendar/nail-spa-day-sign-up-please/
LOCATION:Activity Room
CATEGORIES:Assisted Living
END:VEVENT
BEGIN:VEVENT
DTSTART;TZID=America/Chicago:20260509T130000
DTEND;TZID=America/Chicago:20260509T143000
DTSTAMP:20260419T212552
CREATED:20260410T060424Z
LAST-MODIFIED:20260419T063437Z
UID:10005159-1778331600-1778337000@reenaseniorliving.com
SUMMARY:Hand Massages - Sign-up for a time
DESCRIPTION:
URL:https://reenaseniorliving.com/event-calendar/hand-massages-sign-up-for-a-time/
LOCATION:Activity Room
CATEGORIES:Assisted Living
END:VEVENT
BEGIN:VEVENT
DTSTART;TZID=America/Chicago:20260511T090000
DTEND;TZID=America/Chicago:20260511T093000
DTSTAMP:20260419T212552
CREATED:20260417T135030Z
LAST-MODIFIED:20260419T151957Z
UID:10005296-1778490000-1778491800@reenaseniorliving.com
SUMMARY:Social Time - Linked Senior Events\, News\, & Reminisce
DESCRIPTION:
URL:https://reenaseniorliving.com/event-calendar/social-time-linked-senior-events-news-reminisce-8/
LOCATION:Activity Room
CATEGORIES:Legacy Court
END:VEVENT
BEGIN:VEVENT
DTSTART;TZID=America/Chicago:20260511T091500
DTEND;TZID=America/Chicago:20260511T094500
DTSTAMP:20260419T212552
CREATED:20260412T060410Z
LAST-MODIFIED:20260419T063438Z
UID:10005164-1778490900-1778492700@reenaseniorliving.com
SUMMARY:Movement with Kayla (AR)
DESCRIPTION:
URL:https://reenaseniorliving.com/event-calendar/movement-with-kayla-ar-21/
LOCATION:Activity Room
CATEGORIES:Assisted Living
END:VEVENT
BEGIN:VEVENT
DTSTART;TZID=America/Chicago:20260511T093000
DTEND;TZID=America/Chicago:20260511T101000
DTSTAMP:20260419T212552
CREATED:20260417T135030Z
LAST-MODIFIED:20260419T151957Z
UID:10005297-1778491800-1778494200@reenaseniorliving.com
SUMMARY:Games!
DESCRIPTION:
URL:https://reenaseniorliving.com/event-calendar/games-12/
LOCATION:Activity Room
CATEGORIES:Legacy Court
END:VEVENT
BEGIN:VEVENT
DTSTART;TZID=America/Chicago:20260511T133000
DTEND;TZID=America/Chicago:20260511T150000
DTSTAMP:20260419T212552
CREATED:20260412T060410Z
LAST-MODIFIED:20260419T063440Z
UID:10005167-1778506200-1778511600@reenaseniorliving.com
SUMMARY:Cow - Art Project for Hoard Museum Dairy Days Contest.
DESCRIPTION:
URL:https://reenaseniorliving.com/event-calendar/cow-art-project-for-hoard-museum-pop-in-and-take-a-look-at-the-action-or-help-the-group-3/
LOCATION:Activity Room
CATEGORIES:Assisted Living
END:VEVENT
BEGIN:VEVENT
DTSTART;TZID=America/Chicago:20260511T150000
DTEND;TZID=America/Chicago:20260511T160000
DTSTAMP:20260419T212552
CREATED:20260414T061915Z
LAST-MODIFIED:20260419T063440Z
UID:10005174-1778511600-1778515200@reenaseniorliving.com
SUMMARY:Reena Rocker Cheer - with Crown of Life Students
DESCRIPTION:
URL:https://reenaseniorliving.com/event-calendar/reena-rocker-cheer-with-crown-of-life-students/
LOCATION:Activity Room
CATEGORIES:Assisted Living
END:VEVENT
BEGIN:VEVENT
DTSTART;TZID=America/Chicago:20260511T153000
DTEND;TZID=America/Chicago:20260511T161500
DTSTAMP:20260419T212552
CREATED:20260412T060410Z
LAST-MODIFIED:20260419T063439Z
UID:10005168-1778513400-1778516100@reenaseniorliving.com
SUMMARY:Knitting\, Crochet\, Crafting\, and Social Time.
DESCRIPTION:
URL:https://reenaseniorliving.com/event-calendar/knitting-crochet-crafting-and-social-time-14/
LOCATION:Activity Room
CATEGORIES:Assisted Living
END:VEVENT
BEGIN:VEVENT
DTSTART;TZID=America/Chicago:20260512T091500
DTEND;TZID=America/Chicago:20260512T094500
DTSTAMP:20260419T212552
CREATED:20260413T061929Z
LAST-MODIFIED:20260419T063441Z
UID:10005169-1778577300-1778579100@reenaseniorliving.com
SUMMARY:Movement Class with Kayla
DESCRIPTION:
URL:https://reenaseniorliving.com/event-calendar/movement-class-with-kayla-186/
LOCATION:Activity Room
CATEGORIES:Assisted Living
END:VEVENT
BEGIN:VEVENT
DTSTART;TZID=America/Chicago:20260512T100000
DTEND;TZID=America/Chicago:20260512T110000
DTSTAMP:20260419T212552
CREATED:20260413T061929Z
LAST-MODIFIED:20260419T063441Z
UID:10005170-1778580000-1778583600@reenaseniorliving.com
SUMMARY:Green Thumbs Garden Club - Clean up Beds
DESCRIPTION:
URL:https://reenaseniorliving.com/event-calendar/green-thumbs-garden-club-clean-up-beds/
LOCATION:Activity Room
CATEGORIES:Assisted Living
END:VEVENT
BEGIN:VEVENT
DTSTART;TZID=America/Chicago:20260512T171500
DTEND;TZID=America/Chicago:20260512T190000
DTSTAMP:20260419T212552
CREATED:20260413T061929Z
LAST-MODIFIED:20260419T063441Z
UID:10005172-1778606100-1778612400@reenaseniorliving.com
SUMMARY:Game Night!
DESCRIPTION:
URL:https://reenaseniorliving.com/event-calendar/game-night-21/
LOCATION:Activity Room
CATEGORIES:Assisted Living
END:VEVENT
BEGIN:VEVENT
DTSTART;TZID=America/Chicago:20260513T091500
DTEND;TZID=America/Chicago:20260513T094500
DTSTAMP:20260419T212552
CREATED:20260414T061916Z
LAST-MODIFIED:20260419T063442Z
UID:10005175-1778663700-1778665500@reenaseniorliving.com
SUMMARY:Movement Class with Kayla
DESCRIPTION:
URL:https://reenaseniorliving.com/event-calendar/movement-class-with-kayla-187/
LOCATION:Activity Room
CATEGORIES:Assisted Living
END:VEVENT
BEGIN:VEVENT
DTSTART;TZID=America/Chicago:20260513T100000
DTEND;TZID=America/Chicago:20260513T101500
DTSTAMP:20260419T212552
CREATED:20260417T135034Z
LAST-MODIFIED:20260419T151959Z
UID:10005309-1778666400-1778667300@reenaseniorliving.com
SUMMARY:Sing-a-long before Catholic Church Service - All are Welcome
DESCRIPTION:
URL:https://reenaseniorliving.com/event-calendar/sing-a-long-before-catholic-church-service-all-are-welcome-13/
LOCATION:Activity Room
CATEGORIES:Legacy Court
END:VEVENT
BEGIN:VEVENT
DTSTART;TZID=America/Chicago:20260513T123000
DTEND;TZID=America/Chicago:20260513T125000
DTSTAMP:20260419T212552
CREATED:20260417T135034Z
LAST-MODIFIED:20260419T151959Z
UID:10005311-1778675400-1778676600@reenaseniorliving.com
SUMMARY:Spin and Solve - Linked Senior
DESCRIPTION:
URL:https://reenaseniorliving.com/event-calendar/spin-and-solve-linked-senior-4/
LOCATION:Activity Room
CATEGORIES:Legacy Court
END:VEVENT
BEGIN:VEVENT
DTSTART;TZID=America/Chicago:20260513T130000
DTEND;TZID=America/Chicago:20260513T132000
DTSTAMP:20260419T212552
CREATED:20260417T135035Z
LAST-MODIFIED:20260419T152000Z
UID:10005312-1778677200-1778678400@reenaseniorliving.com
SUMMARY:Guided Relaxation
DESCRIPTION:
URL:https://reenaseniorliving.com/event-calendar/guided-relaxation-12/
LOCATION:Activity Room
CATEGORIES:Legacy Court
END:VEVENT
BEGIN:VEVENT
DTSTART;TZID=America/Chicago:20260513T132500
DTEND;TZID=America/Chicago:20260513T134500
DTSTAMP:20260419T212552
CREATED:20260417T135035Z
LAST-MODIFIED:20260419T152000Z
UID:10005313-1778678700-1778679900@reenaseniorliving.com
SUMMARY:Records with Dorothy
DESCRIPTION:
URL:https://reenaseniorliving.com/event-calendar/records-with-dorothy-35/
LOCATION:Activity Room
CATEGORIES:Legacy Court
END:VEVENT
BEGIN:VEVENT
DTSTART;TZID=America/Chicago:20260513T171500
DTEND;TZID=America/Chicago:20260513T191500
DTSTAMP:20260419T212552
CREATED:20260414T061917Z
LAST-MODIFIED:20260419T063443Z
UID:10005179-1778692500-1778699700@reenaseniorliving.com
SUMMARY:Euchre Night
DESCRIPTION:
URL:https://reenaseniorliving.com/event-calendar/euchre-night-8/
LOCATION:Activity Room
CATEGORIES:Assisted Living
END:VEVENT
BEGIN:VEVENT
DTSTART;TZID=America/Chicago:20260514T091500
DTEND;TZID=America/Chicago:20260514T094500
DTSTAMP:20260419T212552
CREATED:20260415T061927Z
LAST-MODIFIED:20260419T063444Z
UID:10005181-1778750100-1778751900@reenaseniorliving.com
SUMMARY:Movement Class
DESCRIPTION:Gentle Movement\, Strength\, Mobility\, Balance\, & More.
URL:https://reenaseniorliving.com/event-calendar/movement-class-99/
LOCATION:Activity Room
CATEGORIES:Assisted Living
END:VEVENT
BEGIN:VEVENT
DTSTART;TZID=America/Chicago:20260514T100000
DTEND;TZID=America/Chicago:20260514T110000
DTSTAMP:20260419T212552
CREATED:20260415T061927Z
LAST-MODIFIED:20260419T063444Z
UID:10005182-1778752800-1778756400@reenaseniorliving.com
SUMMARY:Green Thumbs Garden Club - Clean up Beds
DESCRIPTION:
URL:https://reenaseniorliving.com/event-calendar/green-thumbs-garden-club-clean-up-beds-2/
LOCATION:Activity Room
CATEGORIES:Assisted Living
END:VEVENT
BEGIN:VEVENT
DTSTART;TZID=America/Chicago:20260514T103000
DTEND;TZID=America/Chicago:20260514T111500
DTSTAMP:20260419T212552
CREATED:20260417T135037Z
LAST-MODIFIED:20260419T152001Z
UID:10005317-1778754600-1778757300@reenaseniorliving.com
SUMMARY:Let's Make Bread.
DESCRIPTION:
URL:https://reenaseniorliving.com/event-calendar/lets-make-bread-30/
LOCATION:Activity Room
CATEGORIES:Legacy Court
END:VEVENT
BEGIN:VEVENT
DTSTART;TZID=America/Chicago:20260514T130000
DTEND;TZID=America/Chicago:20260514T133000
DTSTAMP:20260419T212552
CREATED:20260417T135037Z
LAST-MODIFIED:20260419T152002Z
UID:10005319-1778763600-1778765400@reenaseniorliving.com
SUMMARY:Rhythm Time! Song "Happy" Cheer Team Prep
DESCRIPTION:
URL:https://reenaseniorliving.com/event-calendar/rhythm-time-song-happy-cheer-team-prep-9/
LOCATION:Activity Room
CATEGORIES:Legacy Court
END:VEVENT
BEGIN:VEVENT
DTSTART;TZID=America/Chicago:20260514T133000
DTEND;TZID=America/Chicago:20260514T141500
DTSTAMP:20260419T212552
CREATED:20260415T061928Z
LAST-MODIFIED:20260419T063445Z
UID:10005184-1778765400-1778768100@reenaseniorliving.com
SUMMARY:Exploration of Lorine Niedecker with Host Ann Engleman - Poetry Study
DESCRIPTION:
URL:https://reenaseniorliving.com/event-calendar/exploration-of-lorine-niedecker-with-host-ann-engleman-poetry-study/
LOCATION:Activity Room
CATEGORIES:Assisted Living
END:VEVENT
BEGIN:VEVENT
DTSTART;TZID=America/Chicago:20260514T180000
DTEND;TZID=America/Chicago:20260514T190000
DTSTAMP:20260419T212552
CREATED:20260417T135038Z
LAST-MODIFIED:20260419T152002Z
UID:10005323-1778781600-1778785200@reenaseniorliving.com
SUMMARY:Calm Time- TV - Feel good kind.
DESCRIPTION:
URL:https://reenaseniorliving.com/event-calendar/calm-time-tv-feel-good-kind-16/
LOCATION:Activity Room
CATEGORIES:Legacy Court
END:VEVENT
BEGIN:VEVENT
DTSTART;TZID=America/Chicago:20260515T110000
DTEND;TZID=America/Chicago:20260515T113000
DTSTAMP:20260419T212552
CREATED:20260416T061918Z
LAST-MODIFIED:20260419T063446Z
UID:10005186-1778842800-1778844600@reenaseniorliving.com
SUMMARY:Your weekly activity packets will be delivered.
DESCRIPTION:
URL:https://reenaseniorliving.com/event-calendar/your-weekly-activity-packets-will-be-delivered-53/
LOCATION:Activity Room
CATEGORIES:Assisted Living
END:VEVENT
BEGIN:VEVENT
DTSTART;TZID=America/Chicago:20260515T123000
DTEND;TZID=America/Chicago:20260515T131500
DTSTAMP:20260419T212552
CREATED:20260417T135038Z
LAST-MODIFIED:20260419T152002Z
UID:10005325-1778848200-1778850900@reenaseniorliving.com
SUMMARY:Group Movement Class - Strength and Mobility
DESCRIPTION:
URL:https://reenaseniorliving.com/event-calendar/group-movement-class-strength-and-mobility-23/
LOCATION:Activity Room
CATEGORIES:Legacy Court
END:VEVENT
BEGIN:VEVENT
DTSTART;TZID=America/Chicago:20260515T130000
DTEND;TZID=America/Chicago:20260515T133000
DTSTAMP:20260419T212552
CREATED:20260416T061918Z
LAST-MODIFIED:20260419T063446Z
UID:10005187-1778850000-1778851800@reenaseniorliving.com
SUMMARY:Big Show - Scrimmage Follow-up
DESCRIPTION:
URL:https://reenaseniorliving.com/event-calendar/big-show-scrimmage-follow-up-4/
LOCATION:Activity Room
CATEGORIES:Assisted Living
END:VEVENT
BEGIN:VEVENT
DTSTART;TZID=America/Chicago:20260515T180000
DTEND;TZID=America/Chicago:20260515T190000
DTSTAMP:20260419T212552
CREATED:20260417T135040Z
LAST-MODIFIED:20260419T152003Z
UID:10005258-1778868000-1778871600@reenaseniorliving.com
SUMMARY:Calm Time- TV - Feel good kind.
DESCRIPTION:
URL:https://reenaseniorliving.com/event-calendar/calm-time-tv-feel-good-kind-17/
LOCATION:Activity Room
CATEGORIES:Legacy Court
END:VEVENT
BEGIN:VEVENT
DTSTART;TZID=America/Chicago:20260517T123000
DTEND;TZID=America/Chicago:20260517T144500
DTSTAMP:20260419T212552
CREATED:20260418T061919Z
LAST-MODIFIED:20260419T063447Z
UID:10005327-1779021000-1779029100@reenaseniorliving.com
SUMMARY:Nail Spa Day - Sign-up
DESCRIPTION:
URL:https://reenaseniorliving.com/event-calendar/nail-spa-day-sign-up-10/
LOCATION:Activity Room
CATEGORIES:Assisted Living
END:VEVENT
END:VCALENDAR