BEGIN:VCALENDAR
VERSION:2.0
PRODID:-//Reena Senior Living - ECPv6.11.2.1//NONSGML v1.0//EN
CALSCALE:GREGORIAN
METHOD:PUBLISH
X-ORIGINAL-URL:https://reenaseniorliving.com
X-WR-CALDESC:Events for Reena Senior Living
REFRESH-INTERVAL;VALUE=DURATION:PT1H
X-Robots-Tag:noindex
X-PUBLISHED-TTL:PT1H
BEGIN:VTIMEZONE
TZID:America/Chicago
BEGIN:DAYLIGHT
TZOFFSETFROM:-0600
TZOFFSETTO:-0500
TZNAME:CDT
DTSTART:20250309T080000
END:DAYLIGHT
BEGIN:STANDARD
TZOFFSETFROM:-0500
TZOFFSETTO:-0600
TZNAME:CST
DTSTART:20251102T070000
END:STANDARD
END:VTIMEZONE
BEGIN:VEVENT
DTSTART;TZID=America/Chicago:20251008T091500
DTEND;TZID=America/Chicago:20251008T094500
DTSTAMP:20260425T163647
CREATED:20250910T070406Z
LAST-MODIFIED:20251008T074905Z
UID:10002157-1759914900-1759916700@reenaseniorliving.com
SUMMARY:Movement Class with Kayla
DESCRIPTION:
URL:https://reenaseniorliving.com/event-calendar/movement-class-with-kayla-63/
LOCATION:Activity Room
CATEGORIES:Assisted Living
END:VEVENT
BEGIN:VEVENT
DTSTART;TZID=America/Chicago:20251007T160500
DTEND;TZID=America/Chicago:20251007T162500
DTSTAMP:20260425T163647
CREATED:20250910T070406Z
LAST-MODIFIED:20251007T074908Z
UID:10002156-1759853100-1759854300@reenaseniorliving.com
SUMMARY:Qi gong Video- Therapy Group Guided Via YouTube
DESCRIPTION:
URL:https://reenaseniorliving.com/event-calendar/qi-gong-video-therapy-group-intermediate-class-2/
LOCATION:Activity Room
CATEGORIES:Assisted Living
END:VEVENT
BEGIN:VEVENT
DTSTART;TZID=America/Chicago:20251007T130000
DTEND;TZID=America/Chicago:20251007T134500
DTSTAMP:20260425T163647
CREATED:20250908T070420Z
LAST-MODIFIED:20251007T074908Z
UID:10002115-1759842000-1759844700@reenaseniorliving.com
SUMMARY:Next Spark Challenge - Rules Review with Team 30-minutes
DESCRIPTION:
URL:https://reenaseniorliving.com/event-calendar/deep-dive/
LOCATION:Activity Room
CATEGORIES:Assisted Living
END:VEVENT
BEGIN:VEVENT
DTSTART;TZID=America/Chicago:20251007T103000
DTEND;TZID=America/Chicago:20251007T104500
DTSTAMP:20260425T163647
CREATED:20250908T050434Z
LAST-MODIFIED:20251007T060403Z
UID:10002103-1759833000-1759833900@reenaseniorliving.com
SUMMARY:Reminiscing Autumn - Sights\, Sounds\, Smells\, & More
DESCRIPTION:
URL:https://reenaseniorliving.com/event-calendar/fidget-and-tactile-exploration-3/
LOCATION:Activity Room
CATEGORIES:Legacy Court
END:VEVENT
BEGIN:VEVENT
DTSTART;TZID=America/Chicago:20251007T095000
DTEND;TZID=America/Chicago:20251007T105000
DTSTAMP:20260425T163647
CREATED:20251003T073401Z
LAST-MODIFIED:20251007T074908Z
UID:10002479-1759830600-1759834200@reenaseniorliving.com
SUMMARY:Adult Coloring Mandala or Autumn with Social Time with Coffee
DESCRIPTION:
URL:https://reenaseniorliving.com/event-calendar/adult-coloring-mandala-or-autumn-with-social-time-with-coffee/
LOCATION:Activity Room
CATEGORIES:Assisted Living
END:VEVENT
BEGIN:VEVENT
DTSTART;TZID=America/Chicago:20251007T094500
DTEND;TZID=America/Chicago:20251007T101000
DTSTAMP:20260425T163647
CREATED:20250908T070420Z
LAST-MODIFIED:20250909T070405Z
UID:10002112-1759830300-1759831800@reenaseniorliving.com
SUMMARY:Strength Class - Intermediate Class
DESCRIPTION:
URL:https://reenaseniorliving.com/event-calendar/strength-class-intermediate-class-42/
LOCATION:Activity Room
CATEGORIES:Assisted Living
END:VEVENT
BEGIN:VEVENT
DTSTART;TZID=America/Chicago:20251007T091500
DTEND;TZID=America/Chicago:20251007T094500
DTSTAMP:20260425T163647
CREATED:20250908T070419Z
LAST-MODIFIED:20251007T074908Z
UID:10002111-1759828500-1759830300@reenaseniorliving.com
SUMMARY:Movement Class with Kayla
DESCRIPTION:
URL:https://reenaseniorliving.com/event-calendar/movement-class-with-kayla-59/
LOCATION:Activity Room
CATEGORIES:Assisted Living
END:VEVENT
BEGIN:VEVENT
DTSTART;TZID=America/Chicago:20251006T100000
DTEND;TZID=America/Chicago:20251006T102000
DTSTAMP:20260425T163647
CREATED:20250907T050433Z
LAST-MODIFIED:20251006T060402Z
UID:10002091-1759744800-1759746000@reenaseniorliving.com
SUMMARY:Rhythm Monday with Instruments and Movement with Anne
DESCRIPTION:
URL:https://reenaseniorliving.com/event-calendar/rhythm-monday-with-instruments-and-movement-with-anne-7/
LOCATION:Activity Room
CATEGORIES:Legacy Court
END:VEVENT
BEGIN:VEVENT
DTSTART;TZID=America/Chicago:20251006T094500
DTEND;TZID=America/Chicago:20251006T100500
DTSTAMP:20260425T163647
CREATED:20251003T073401Z
LAST-MODIFIED:20251006T074903Z
UID:10002478-1759743900-1759745100@reenaseniorliving.com
SUMMARY:TRYathlon - Walk 5 minutes\, Bike 5 minutes\, Arm Bike 1-2 minutes\, End with Gentle stretch
DESCRIPTION:
URL:https://reenaseniorliving.com/event-calendar/tryathlon-walk-5-minutes-bike-5-minutes-arm-bike-1-2-minutes-end-with-gentle-stretch/
LOCATION:Activity Room
CATEGORIES:Assisted Living
END:VEVENT
BEGIN:VEVENT
DTSTART;TZID=America/Chicago:20251006T091500
DTEND;TZID=America/Chicago:20251006T094500
DTSTAMP:20260425T163647
CREATED:20250910T070405Z
LAST-MODIFIED:20251006T074903Z
UID:10002154-1759742100-1759743900@reenaseniorliving.com
SUMMARY:Movement with Kayla
DESCRIPTION:
URL:https://reenaseniorliving.com/event-calendar/movement-with-kayla-4/
LOCATION:Activity Room
CATEGORIES:Assisted Living
END:VEVENT
BEGIN:VEVENT
DTSTART;TZID=America/Chicago:20251003T150000
DTEND;TZID=America/Chicago:20251003T151500
DTSTAMP:20260425T163647
CREATED:20250904T070502Z
LAST-MODIFIED:20251003T073403Z
UID:10002047-1759503600-1759504500@reenaseniorliving.com
SUMMARY:Your weekly activity packets will be delivered.
DESCRIPTION:
URL:https://reenaseniorliving.com/event-calendar/your-weekly-activity-packets-will-be-delivered-21/
LOCATION:Activity Room
CATEGORIES:Assisted Living
END:VEVENT
BEGIN:VEVENT
DTSTART;TZID=America/Chicago:20251003T140000
DTEND;TZID=America/Chicago:20251003T144500
DTSTAMP:20260425T163647
CREATED:20250904T070502Z
LAST-MODIFIED:20250909T070405Z
UID:10002045-1759500000-1759502700@reenaseniorliving.com
SUMMARY:Records & Spirits with Kayla
DESCRIPTION:
URL:https://reenaseniorliving.com/event-calendar/records-spirits-with-kayla-2/
LOCATION:Activity Room
CATEGORIES:Assisted Living
END:VEVENT
BEGIN:VEVENT
DTSTART;TZID=America/Chicago:20251003T140000
DTEND;TZID=America/Chicago:20251003T143000
DTSTAMP:20260425T163647
CREATED:20250904T070502Z
LAST-MODIFIED:20250909T070405Z
UID:10002046-1759500000-1759501800@reenaseniorliving.com
SUMMARY:Records with Dorothy and Kayla with homemade bread and beverage.
DESCRIPTION:
URL:https://reenaseniorliving.com/event-calendar/records-with-dorothy-and-kayla-with-homemade-bread-and-beverage-3/
LOCATION:Activity Room
CATEGORIES:Assisted Living
END:VEVENT
BEGIN:VEVENT
DTSTART;TZID=America/Chicago:20251003T100000
DTEND;TZID=America/Chicago:20251003T104500
DTSTAMP:20260425T163647
CREATED:20250917T071905Z
LAST-MODIFIED:20251003T073403Z
UID:10002269-1759485600-1759488300@reenaseniorliving.com
SUMMARY:Savor the Moment with Coffee and Fun Creamers- Share Simple or Special Events of Your Life
DESCRIPTION:
URL:https://reenaseniorliving.com/event-calendar/savor-the-moment-with-coffee-and-fun-creamers-share-simple-or-special-events-of-your-life/
LOCATION:Activity Room
CATEGORIES:Assisted Living
END:VEVENT
BEGIN:VEVENT
DTSTART;TZID=America/Chicago:20251003T091500
DTEND;TZID=America/Chicago:20251003T094500
DTSTAMP:20260425T163647
CREATED:20250904T070502Z
LAST-MODIFIED:20251003T073403Z
UID:10002043-1759482900-1759484700@reenaseniorliving.com
SUMMARY:Movement Class with Kayla
DESCRIPTION:
URL:https://reenaseniorliving.com/event-calendar/movement-class-with-kayla-56/
LOCATION:Activity Room
CATEGORIES:Assisted Living
END:VEVENT
BEGIN:VEVENT
DTSTART;TZID=America/Chicago:20251002T140000
DTEND;TZID=America/Chicago:20251002T150000
DTSTAMP:20260425T163648
CREATED:20250903T064908Z
LAST-MODIFIED:20251002T073412Z
UID:10002032-1759413600-1759417200@reenaseniorliving.com
SUMMARY:SPOOKY ART HISTORY WITH CLEVLAND MUSEUM OF ART
DESCRIPTION:Monthly Live Interactive Presentations with Q&A Time
URL:https://reenaseniorliving.com/event-calendar/the-incredible-life-of-john-b-jones-slavery-to-freedom-lighthouse-keeper-more-2/
LOCATION:Activity Room
CATEGORIES:Assisted Living
END:VEVENT
BEGIN:VEVENT
DTSTART;TZID=America/Chicago:20251002T110000
DTEND;TZID=America/Chicago:20251002T112000
DTSTAMP:20260425T163648
CREATED:20250903T064908Z
LAST-MODIFIED:20250916T070403Z
UID:10002033-1759402800-1759404000@reenaseniorliving.com
SUMMARY:Linked Senior Exploration - History\, Joke of the Day\, and more.
DESCRIPTION:
URL:https://reenaseniorliving.com/event-calendar/trivia-and-games-geography-and-stickman-word-game-3/
LOCATION:Activity Room
CATEGORIES:Assisted Living
END:VEVENT
BEGIN:VEVENT
DTSTART;TZID=America/Chicago:20251002T103000
DTEND;TZID=America/Chicago:20251002T113000
DTSTAMP:20260425T163648
CREATED:20250917T071904Z
LAST-MODIFIED:20251002T073412Z
UID:10002267-1759401000-1759404600@reenaseniorliving.com
SUMMARY:Memorial Ornament Preparation - Check your newsletter for more information
DESCRIPTION:
URL:https://reenaseniorliving.com/event-calendar/memorial-ornament-preparation-check-your-newsletter-for-more-information/
LOCATION:Activity Room
CATEGORIES:Assisted Living
END:VEVENT
BEGIN:VEVENT
DTSTART;TZID=America/Chicago:20251002T094500
DTEND;TZID=America/Chicago:20251002T101000
DTSTAMP:20260425T163648
CREATED:20250903T064908Z
LAST-MODIFIED:20251002T073412Z
UID:10002031-1759398300-1759399800@reenaseniorliving.com
SUMMARY:Biking and Walking with Music
DESCRIPTION:
URL:https://reenaseniorliving.com/event-calendar/strength-class-intermediate-class-41/
LOCATION:Activity Room
CATEGORIES:Assisted Living
END:VEVENT
BEGIN:VEVENT
DTSTART;TZID=America/Chicago:20251002T091500
DTEND;TZID=America/Chicago:20251002T094500
DTSTAMP:20260425T163648
CREATED:20250903T064908Z
LAST-MODIFIED:20251002T073412Z
UID:10002030-1759396500-1759398300@reenaseniorliving.com
SUMMARY:Movement Class with Kayla
DESCRIPTION:Gentle Movement\, Strength\, Mobility\, Balance\, & More.
URL:https://reenaseniorliving.com/event-calendar/movement-class-with-kayla-55/
LOCATION:Activity Room
CATEGORIES:Assisted Living
END:VEVENT
BEGIN:VEVENT
DTSTART;TZID=America/Chicago:20251001T173000
DTEND;TZID=America/Chicago:20251001T190000
DTSTAMP:20260425T163648
CREATED:20250902T064907Z
LAST-MODIFIED:20250916T070403Z
UID:10002020-1759339800-1759345200@reenaseniorliving.com
SUMMARY:Hand & Foot\, Garbage\, or Jenga with your peers. (AR)
DESCRIPTION:
URL:https://reenaseniorliving.com/event-calendar/hand-foot-garbage-or-jenga-with-your-peers-ar/
LOCATION:Activity Room
CATEGORIES:Assisted Living
END:VEVENT
BEGIN:VEVENT
DTSTART;TZID=America/Chicago:20251001T121500
DTEND;TZID=America/Chicago:20251001T130000
DTSTAMP:20260425T163648
CREATED:20250902T064907Z
LAST-MODIFIED:20251001T073414Z
UID:10002018-1759320900-1759323600@reenaseniorliving.com
SUMMARY:Resident Council
DESCRIPTION:
URL:https://reenaseniorliving.com/event-calendar/resident-council-5/
LOCATION:Activity Room
CATEGORIES:Assisted Living
END:VEVENT
BEGIN:VEVENT
DTSTART;TZID=America/Chicago:20251001T094500
DTEND;TZID=America/Chicago:20251001T100500
DTSTAMP:20260425T163648
CREATED:20250917T071904Z
LAST-MODIFIED:20251001T073414Z
UID:10002265-1759311900-1759313100@reenaseniorliving.com
SUMMARY:Guided Mindfulness with Chaplain Lee - Self-Awareness\, Reflextion\, Relaxation
DESCRIPTION:
URL:https://reenaseniorliving.com/event-calendar/guided-mindfulness-with-chaplain-lee-self-awareness-reflextion-relaxation/
LOCATION:Activity Room
CATEGORIES:Assisted Living
END:VEVENT
BEGIN:VEVENT
DTSTART;TZID=America/Chicago:20251001T091500
DTEND;TZID=America/Chicago:20251001T094500
DTSTAMP:20260425T163648
CREATED:20250910T070405Z
LAST-MODIFIED:20251001T073414Z
UID:10002153-1759310100-1759311900@reenaseniorliving.com
SUMMARY:Movement Class with Kayla
DESCRIPTION:
URL:https://reenaseniorliving.com/event-calendar/movement-class-with-kayla-62/
LOCATION:Activity Room
CATEGORIES:Assisted Living
END:VEVENT
BEGIN:VEVENT
DTSTART;TZID=America/Chicago:20250930T153000
DTEND;TZID=America/Chicago:20250930T155000
DTSTAMP:20260425T163648
CREATED:20250901T050414Z
LAST-MODIFIED:20250930T053439Z
UID:10002003-1759246200-1759247400@reenaseniorliving.com
SUMMARY:Let's Play Simon Says (movement and reaction fun)
DESCRIPTION:
URL:https://reenaseniorliving.com/event-calendar/lets-play-simon-says-movement-and-reaction-fun-5/
LOCATION:Activity Room
CATEGORIES:Legacy Court
END:VEVENT
BEGIN:VEVENT
DTSTART;TZID=America/Chicago:20250930T141500
DTEND;TZID=America/Chicago:20250930T150000
DTSTAMP:20260425T163648
CREATED:20250901T050414Z
LAST-MODIFIED:20250916T070402Z
UID:10002001-1759241700-1759244400@reenaseniorliving.com
SUMMARY:Sing a Long Karaoke on TV with Anne
DESCRIPTION:
URL:https://reenaseniorliving.com/event-calendar/sing-a-long-karaoke-on-tv-with-anne-6/
LOCATION:Activity Room
CATEGORIES:Assisted Living,Legacy Court
END:VEVENT
BEGIN:VEVENT
DTSTART;TZID=America/Chicago:20250930T133000
DTEND;TZID=America/Chicago:20250930T140000
DTSTAMP:20260425T163648
CREATED:20250910T070404Z
LAST-MODIFIED:20250930T071919Z
UID:10002152-1759239000-1759240800@reenaseniorliving.com
SUMMARY:Qi gong Video- Therapy Group Guided Via YouTube
DESCRIPTION:
URL:https://reenaseniorliving.com/event-calendar/qi-gong-video-therapy-group-intermediate-class/
LOCATION:Activity Room
CATEGORIES:Assisted Living
END:VEVENT
BEGIN:VEVENT
DTSTART;TZID=America/Chicago:20250930T103000
DTEND;TZID=America/Chicago:20250930T110000
DTSTAMP:20260425T163648
CREATED:20250917T071904Z
LAST-MODIFIED:20250930T071919Z
UID:10002263-1759228200-1759230000@reenaseniorliving.com
SUMMARY:Grip Team Party Planning with Dawn.
DESCRIPTION:
URL:https://reenaseniorliving.com/event-calendar/grip-team-party-planning-with-dawn/
LOCATION:Activity Room
CATEGORIES:Assisted Living
END:VEVENT
BEGIN:VEVENT
DTSTART;TZID=America/Chicago:20250930T103000
DTEND;TZID=America/Chicago:20250930T104500
DTSTAMP:20260425T163648
CREATED:20250901T050414Z
LAST-MODIFIED:20250930T053440Z
UID:10001995-1759228200-1759229100@reenaseniorliving.com
SUMMARY:Reminiscing Autumn - Sights\, Sounds\, Smells\, & More
DESCRIPTION:
URL:https://reenaseniorliving.com/event-calendar/fidget-and-tactile-exploration-2/
LOCATION:Activity Room
CATEGORIES:Legacy Court
END:VEVENT
BEGIN:VEVENT
DTSTART;TZID=America/Chicago:20250930T101000
DTEND;TZID=America/Chicago:20250930T103000
DTSTAMP:20260425T163648
CREATED:20250924T071909Z
LAST-MODIFIED:20250930T071919Z
UID:10002385-1759227000-1759228200@reenaseniorliving.com
SUMMARY:Breadmaking
DESCRIPTION:
URL:https://reenaseniorliving.com/event-calendar/breadmaking/
LOCATION:Activity Room
CATEGORIES:Assisted Living
END:VEVENT
END:VCALENDAR