BEGIN:VCALENDAR
VERSION:2.0
PRODID:-//Reena Senior Living - ECPv6.11.2.1//NONSGML v1.0//EN
CALSCALE:GREGORIAN
METHOD:PUBLISH
X-ORIGINAL-URL:https://reenaseniorliving.com
X-WR-CALDESC:Events for Reena Senior Living
REFRESH-INTERVAL;VALUE=DURATION:PT1H
X-Robots-Tag:noindex
X-PUBLISHED-TTL:PT1H
BEGIN:VTIMEZONE
TZID:America/Chicago
BEGIN:DAYLIGHT
TZOFFSETFROM:-0600
TZOFFSETTO:-0500
TZNAME:CDT
DTSTART:20260308T080000
END:DAYLIGHT
BEGIN:STANDARD
TZOFFSETFROM:-0500
TZOFFSETTO:-0600
TZNAME:CST
DTSTART:20261101T070000
END:STANDARD
END:VTIMEZONE
BEGIN:VEVENT
DTSTART;TZID=America/Chicago:20260325T130000
DTEND;TZID=America/Chicago:20260325T132000
DTSTAMP:20260420T032440
CREATED:20260224T062306Z
LAST-MODIFIED:20260325T094908Z
UID:10004603-1774443600-1774444800@reenaseniorliving.com
SUMMARY:Guided Relaxation
DESCRIPTION:
URL:https://reenaseniorliving.com/event-calendar/guided-relaxation-5/
LOCATION:Activity Room
CATEGORIES:Legacy Court
END:VEVENT
BEGIN:VEVENT
DTSTART;TZID=America/Chicago:20260325T100000
DTEND;TZID=America/Chicago:20260325T101500
DTSTAMP:20260420T032440
CREATED:20260224T062305Z
LAST-MODIFIED:20260325T094908Z
UID:10004601-1774432800-1774433700@reenaseniorliving.com
SUMMARY:Sing-a-long before Catholic Church Service - All are Welcome
DESCRIPTION:
URL:https://reenaseniorliving.com/event-calendar/sing-a-long-before-catholic-church-service-all-are-welcome-6/
LOCATION:Activity Room
CATEGORIES:Legacy Court
END:VEVENT
BEGIN:VEVENT
DTSTART;TZID=America/Chicago:20260325T091500
DTEND;TZID=America/Chicago:20260325T094500
DTSTAMP:20260420T032440
CREATED:20260224T030424Z
LAST-MODIFIED:20260325T054909Z
UID:10004598-1774430100-1774431900@reenaseniorliving.com
SUMMARY:Movement Class with Kayla
DESCRIPTION:
URL:https://reenaseniorliving.com/event-calendar/movement-class-with-kayla-166/
LOCATION:Activity Room
CATEGORIES:Assisted Living
END:VEVENT
BEGIN:VEVENT
DTSTART;TZID=America/Chicago:20260324T171500
DTEND;TZID=America/Chicago:20260324T190000
DTSTAMP:20260420T032440
CREATED:20260223T030425Z
LAST-MODIFIED:20260324T053531Z
UID:10004587-1774372500-1774378800@reenaseniorliving.com
SUMMARY:Hand and Foot
DESCRIPTION:
URL:https://reenaseniorliving.com/event-calendar/game-night-10/
LOCATION:Activity Room
CATEGORIES:Assisted Living
END:VEVENT
BEGIN:VEVENT
DTSTART;TZID=America/Chicago:20260324T143000
DTEND;TZID=America/Chicago:20260324T153000
DTSTAMP:20260420T032440
CREATED:20260223T030425Z
LAST-MODIFIED:20260324T053531Z
UID:10004586-1774362600-1774366200@reenaseniorliving.com
SUMMARY:Birthday Party! Highlights of our Birthday Guests Lives. Cake and Ice Cream Today.
DESCRIPTION:Cake and Beverage. Community Members with birthdays this month will have time to share something about themselves. It will be followed with music and singing at 3:00.
URL:https://reenaseniorliving.com/event-calendar/birthday-party-highlights-of-our-birthday-guests-lives-8/
LOCATION:Activity Room
CATEGORIES:Assisted Living
END:VEVENT
BEGIN:VEVENT
DTSTART;TZID=America/Chicago:20260324T125500
DTEND;TZID=America/Chicago:20260324T135500
DTSTAMP:20260420T032440
CREATED:20260223T030424Z
LAST-MODIFIED:20260223T062022Z
UID:10004585-1774356900-1774360500@reenaseniorliving.com
SUMMARY:TRYathlon Day. Join in on the fun! Walking or Seated March.
DESCRIPTION:
URL:https://reenaseniorliving.com/event-calendar/tryathlon-day-join-in-on-the-fun-walking-or-seated-march-6/
LOCATION:Activity Room
CATEGORIES:Assisted Living,Legacy Court
END:VEVENT
BEGIN:VEVENT
DTSTART;TZID=America/Chicago:20260324T091500
DTEND;TZID=America/Chicago:20260324T094500
DTSTAMP:20260420T032440
CREATED:20260223T030424Z
LAST-MODIFIED:20260324T053531Z
UID:10004583-1774343700-1774345500@reenaseniorliving.com
SUMMARY:Movement Class with Kayla
DESCRIPTION:
URL:https://reenaseniorliving.com/event-calendar/movement-class-with-kayla-164/
LOCATION:Activity Room
CATEGORIES:Assisted Living
END:VEVENT
BEGIN:VEVENT
DTSTART;TZID=America/Chicago:20260324T085000
DTEND;TZID=America/Chicago:20260324T091000
DTSTAMP:20260420T032440
CREATED:20260223T030424Z
LAST-MODIFIED:20260316T050413Z
UID:10004584-1774342200-1774343400@reenaseniorliving.com
SUMMARY:Green Thumbs Garden Club
DESCRIPTION:
URL:https://reenaseniorliving.com/event-calendar/green-thumbs-garden-club-22/
LOCATION:Activity Room
CATEGORIES:Assisted Living
END:VEVENT
BEGIN:VEVENT
DTSTART;TZID=America/Chicago:20260323T153000
DTEND;TZID=America/Chicago:20260323T161500
DTSTAMP:20260420T032440
CREATED:20260222T030413Z
LAST-MODIFIED:20260323T053402Z
UID:10004541-1774279800-1774282500@reenaseniorliving.com
SUMMARY:Knitting\, Crochet\, Crafting\, and Social Time.
DESCRIPTION:
URL:https://reenaseniorliving.com/event-calendar/knitting-crochet-crafting-and-social-time-8/
LOCATION:Activity Room
CATEGORIES:Assisted Living
END:VEVENT
BEGIN:VEVENT
DTSTART;TZID=America/Chicago:20260323T151500
DTEND;TZID=America/Chicago:20260323T161500
DTSTAMP:20260420T032440
CREATED:20260222T030412Z
LAST-MODIFIED:20260303T032025Z
UID:10004540-1774278900-1774282500@reenaseniorliving.com
SUMMARY:Knitting and Crafting Group! Bring your projects and share time together.
DESCRIPTION:
URL:https://reenaseniorliving.com/event-calendar/knitting-and-crafting-group-bring-your-projects-and-share-time-together-3/
LOCATION:Activity Room
CATEGORIES:Assisted Living
END:VEVENT
BEGIN:VEVENT
DTSTART;TZID=America/Chicago:20260323T104500
DTEND;TZID=America/Chicago:20260323T111500
DTSTAMP:20260420T032440
CREATED:20260306T034908Z
LAST-MODIFIED:20260317T052127Z
UID:10004763-1774262700-1774264500@reenaseniorliving.com
SUMMARY:Golden Girls Social Hour! Ladies Group. Beverage and a Little Golden Girls Trivia Fun
DESCRIPTION:
URL:https://reenaseniorliving.com/event-calendar/golden-girls-social-hour-ladies-group/
LOCATION:Activity Room
CATEGORIES:Assisted Living
END:VEVENT
BEGIN:VEVENT
DTSTART;TZID=America/Chicago:20260323T103000
DTEND;TZID=America/Chicago:20260323T105000
DTSTAMP:20260420T032440
CREATED:20260222T061932Z
LAST-MODIFIED:20260303T073431Z
UID:10004574-1774261800-1774263000@reenaseniorliving.com
SUMMARY:Balance Training with Kayla - Hallway near Activity Room
DESCRIPTION:
URL:https://reenaseniorliving.com/event-calendar/balance-training-with-kayla-hallway-near-activity-room-25/
LOCATION:Activity Room
CATEGORIES:Legacy Court
END:VEVENT
BEGIN:VEVENT
DTSTART;TZID=America/Chicago:20260323T093000
DTEND;TZID=America/Chicago:20260323T101000
DTSTAMP:20260420T032440
CREATED:20260222T061932Z
LAST-MODIFIED:20260323T094904Z
UID:10004573-1774258200-1774260600@reenaseniorliving.com
SUMMARY:Games!
DESCRIPTION:
URL:https://reenaseniorliving.com/event-calendar/games-5/
LOCATION:Activity Room
CATEGORIES:Legacy Court
END:VEVENT
BEGIN:VEVENT
DTSTART;TZID=America/Chicago:20260323T091500
DTEND;TZID=America/Chicago:20260323T094500
DTSTAMP:20260420T032440
CREATED:20260222T030412Z
LAST-MODIFIED:20260323T053402Z
UID:10004538-1774257300-1774259100@reenaseniorliving.com
SUMMARY:Movement with Kayla (AR)
DESCRIPTION:
URL:https://reenaseniorliving.com/event-calendar/movement-with-kayla-ar-13/
LOCATION:Activity Room
CATEGORIES:Assisted Living
END:VEVENT
BEGIN:VEVENT
DTSTART;TZID=America/Chicago:20260323T090000
DTEND;TZID=America/Chicago:20260323T093000
DTSTAMP:20260420T032440
CREATED:20260222T061931Z
LAST-MODIFIED:20260323T094904Z
UID:10004571-1774256400-1774258200@reenaseniorliving.com
SUMMARY:Social Time - Linked Senior Events\, News\, & Reminisce
DESCRIPTION:
URL:https://reenaseniorliving.com/event-calendar/social-time-linked-senior-events-news-reminisce/
LOCATION:Activity Room
CATEGORIES:Legacy Court
END:VEVENT
BEGIN:VEVENT
DTSTART;TZID=America/Chicago:20260322T133000
DTEND;TZID=America/Chicago:20260322T143000
DTSTAMP:20260420T032440
CREATED:20260221T030418Z
LAST-MODIFIED:20260322T053404Z
UID:10004535-1774186200-1774189800@reenaseniorliving.com
SUMMARY:Singing in the Rain\, Senior - FACT - Fort Atkinson Community Theatre
DESCRIPTION:
URL:https://reenaseniorliving.com/event-calendar/singing-in-the-rain-senior-fact-fort-atkinson-community-theatre/
LOCATION:Activity Room
CATEGORIES:Assisted Living,Legacy Court
END:VEVENT
BEGIN:VEVENT
DTSTART;TZID=America/Chicago:20260321T150000
DTEND;TZID=America/Chicago:20260321T160000
DTSTAMP:20260420T032440
CREATED:20260314T084935Z
LAST-MODIFIED:20260321T093408Z
UID:10004880-1774105200-1774108800@reenaseniorliving.com
SUMMARY:Arm Biking with Kayla
DESCRIPTION:
URL:https://reenaseniorliving.com/event-calendar/arm-biking-with-kayla-2/
LOCATION:Activity Room
CATEGORIES:Legacy Court
END:VEVENT
BEGIN:VEVENT
DTSTART;TZID=America/Chicago:20260321T091500
DTEND;TZID=America/Chicago:20260321T094500
DTSTAMP:20260420T032440
CREATED:20260224T030419Z
LAST-MODIFIED:20260321T053416Z
UID:10004596-1774084500-1774086300@reenaseniorliving.com
SUMMARY:Movement Class with Kayla
DESCRIPTION:
URL:https://reenaseniorliving.com/event-calendar/movement-class-with-kayla-165/
LOCATION:Activity Room
CATEGORIES:Assisted Living
END:VEVENT
BEGIN:VEVENT
DTSTART;TZID=America/Chicago:20260320T180000
DTEND;TZID=America/Chicago:20260320T190000
DTSTAMP:20260420T032440
CREATED:20260228T065250Z
LAST-MODIFIED:20260320T093403Z
UID:10004675-1774029600-1774033200@reenaseniorliving.com
SUMMARY:Calm Time- TV - Feel good kind.
DESCRIPTION:
URL:https://reenaseniorliving.com/event-calendar/classic-movie-feel-good-kind-6/
LOCATION:Activity Room
CATEGORIES:Legacy Court
END:VEVENT
BEGIN:VEVENT
DTSTART;TZID=America/Chicago:20260320T150000
DTEND;TZID=America/Chicago:20260320T151500
DTSTAMP:20260420T032440
CREATED:20260219T030429Z
LAST-MODIFIED:20260320T053404Z
UID:10004523-1774018800-1774019700@reenaseniorliving.com
SUMMARY:Your weekly activity packets will be delivered.
DESCRIPTION:
URL:https://reenaseniorliving.com/event-calendar/your-weekly-activity-packets-will-be-delivered-45/
LOCATION:Activity Room
CATEGORIES:Assisted Living
END:VEVENT
BEGIN:VEVENT
DTSTART;TZID=America/Chicago:20260320T140000
DTEND;TZID=America/Chicago:20260320T150000
DTSTAMP:20260420T032440
CREATED:20260304T032204Z
LAST-MODIFIED:20260305T033417Z
UID:10004734-1774015200-1774018800@reenaseniorliving.com
SUMMARY:Bingo with BASE! Youth Afterschool Group.
DESCRIPTION:
URL:https://reenaseniorliving.com/event-calendar/bingo-with-base-youth-afterschool-group/
LOCATION:Activity Room
CATEGORIES:Assisted Living
END:VEVENT
BEGIN:VEVENT
DTSTART;TZID=America/Chicago:20260320T130000
DTEND;TZID=America/Chicago:20260320T140000
DTSTAMP:20260420T032440
CREATED:20260219T030429Z
LAST-MODIFIED:20260227T031922Z
UID:10004522-1774011600-1774015200@reenaseniorliving.com
SUMMARY:The Big Show
DESCRIPTION:
URL:https://reenaseniorliving.com/event-calendar/the-big-show-11/
LOCATION:Activity Room
CATEGORIES:Assisted Living
END:VEVENT
BEGIN:VEVENT
DTSTART;TZID=America/Chicago:20260320T130000
DTEND;TZID=America/Chicago:20260320T134500
DTSTAMP:20260420T032440
CREATED:20260306T034907Z
LAST-MODIFIED:20260313T041916Z
UID:10004762-1774011600-1774014300@reenaseniorliving.com
SUMMARY:Making Brownies for the Easter Bunny Event.
DESCRIPTION:
URL:https://reenaseniorliving.com/event-calendar/making-brownies-for-the-easter-bunny-event/
LOCATION:Activity Room
CATEGORIES:Assisted Living
END:VEVENT
BEGIN:VEVENT
DTSTART;TZID=America/Chicago:20260320T123000
DTEND;TZID=America/Chicago:20260320T131500
DTSTAMP:20260420T032440
CREATED:20260219T053931Z
LAST-MODIFIED:20260320T093403Z
UID:10004525-1774009800-1774012500@reenaseniorliving.com
SUMMARY:Group Movement Class - Strength and Mobility
DESCRIPTION:
URL:https://reenaseniorliving.com/event-calendar/group-movement-class-strength-and-mobility-15/
LOCATION:Activity Room
CATEGORIES:Legacy Court
END:VEVENT
BEGIN:VEVENT
DTSTART;TZID=America/Chicago:20260320T094500
DTEND;TZID=America/Chicago:20260320T095500
DTSTAMP:20260420T032440
CREATED:20260314T043519Z
LAST-MODIFIED:20260320T053404Z
UID:10004865-1773999900-1774000500@reenaseniorliving.com
SUMMARY:10 minutes of Move and Grove with Dawn - A little music and movement to start the day.
DESCRIPTION:
URL:https://reenaseniorliving.com/event-calendar/10-minutes-of-move-and-grove-with-dawn-a-little-music-and-movement-to-start-the-day/
LOCATION:Activity Room
CATEGORIES:Assisted Living
END:VEVENT
BEGIN:VEVENT
DTSTART;TZID=America/Chicago:20260320T091500
DTEND;TZID=America/Chicago:20260320T094500
DTSTAMP:20260420T032440
CREATED:20260314T043519Z
LAST-MODIFIED:20260320T053404Z
UID:10004864-1773998100-1773999900@reenaseniorliving.com
SUMMARY:Movement Class with Dawn
DESCRIPTION:
URL:https://reenaseniorliving.com/event-calendar/movement-class-with-dawn/
LOCATION:Activity Room
CATEGORIES:Assisted Living
END:VEVENT
BEGIN:VEVENT
DTSTART;TZID=America/Chicago:20260320T091500
DTEND;TZID=America/Chicago:20260320T094500
DTSTAMP:20260420T032440
CREATED:20260219T030428Z
LAST-MODIFIED:20260223T030421Z
UID:10004520-1773998100-1773999900@reenaseniorliving.com
SUMMARY:Movement Class with Kayla
DESCRIPTION:
URL:https://reenaseniorliving.com/event-calendar/movement-class-with-kayla-162/
LOCATION:Activity Room
CATEGORIES:Assisted Living
END:VEVENT
BEGIN:VEVENT
DTSTART;TZID=America/Chicago:20260320T090000
DTEND;TZID=America/Chicago:20260320T092000
DTSTAMP:20260420T032440
CREATED:20260304T032203Z
LAST-MODIFIED:20260313T041916Z
UID:10004733-1773997200-1773998400@reenaseniorliving.com
SUMMARY:Green Thumbs Garden Club
DESCRIPTION:
URL:https://reenaseniorliving.com/event-calendar/green-thumbs-garden-club-25/
LOCATION:Activity Room
CATEGORIES:Assisted Living
END:VEVENT
BEGIN:VEVENT
DTSTART;TZID=America/Chicago:20260319T180000
DTEND;TZID=America/Chicago:20260319T190000
DTSTAMP:20260420T032440
CREATED:20260228T065236Z
LAST-MODIFIED:20260313T083632Z
UID:10004674-1773943200-1773946800@reenaseniorliving.com
SUMMARY:Calm Time- TV - Feel good kind.
DESCRIPTION:
URL:https://reenaseniorliving.com/event-calendar/classic-movie-feel-good-kind-5/
LOCATION:Activity Room
CATEGORIES:Legacy Court
END:VEVENT
BEGIN:VEVENT
DTSTART;TZID=America/Chicago:20260319T174500
DTEND;TZID=America/Chicago:20260319T184500
DTSTAMP:20260420T032440
CREATED:20260314T084933Z
LAST-MODIFIED:20260319T093419Z
UID:10004878-1773942300-1773945900@reenaseniorliving.com
SUMMARY:The Living Ocean - Ultimate Oceans - Free Documentary  - David Attenborough
DESCRIPTION:
URL:https://reenaseniorliving.com/event-calendar/the-living-ocean-ultimate-oceans-free-documentary-david-attenborough/
LOCATION:Activity Room
CATEGORIES:Legacy Court
END:VEVENT
END:VCALENDAR