BEGIN:VCALENDAR
VERSION:2.0
PRODID:-//Reena Senior Living - ECPv6.11.2.1//NONSGML v1.0//EN
CALSCALE:GREGORIAN
METHOD:PUBLISH
X-ORIGINAL-URL:https://reenaseniorliving.com
X-WR-CALDESC:Events for Reena Senior Living
REFRESH-INTERVAL;VALUE=DURATION:PT1H
X-Robots-Tag:noindex
X-PUBLISHED-TTL:PT1H
BEGIN:VTIMEZONE
TZID:America/Chicago
BEGIN:DAYLIGHT
TZOFFSETFROM:-0600
TZOFFSETTO:-0500
TZNAME:CDT
DTSTART:20260308T080000
END:DAYLIGHT
BEGIN:STANDARD
TZOFFSETFROM:-0500
TZOFFSETTO:-0600
TZNAME:CST
DTSTART:20261101T070000
END:STANDARD
END:VTIMEZONE
BEGIN:VEVENT
DTSTART;TZID=America/Chicago:20260318T173000
DTEND;TZID=America/Chicago:20260318T183000
DTSTAMP:20260420T074202
CREATED:20260314T084931Z
LAST-MODIFIED:20260318T091908Z
UID:10004873-1773855000-1773858600@reenaseniorliving.com
SUMMARY:Calm Time- TV - Feel good kind.
DESCRIPTION:
URL:https://reenaseniorliving.com/event-calendar/calm-time-tv-feel-good-kind-6/
LOCATION:Activity Room
CATEGORIES:Legacy Court
END:VEVENT
BEGIN:VEVENT
DTSTART;TZID=America/Chicago:20260318T145500
DTEND;TZID=America/Chicago:20260318T151500
DTSTAMP:20260420T074202
CREATED:20260228T065233Z
LAST-MODIFIED:20260318T091907Z
UID:10004673-1773845700-1773846900@reenaseniorliving.com
SUMMARY:Chaplain Ann Visit
DESCRIPTION:
URL:https://reenaseniorliving.com/event-calendar/chaplain-ann-visit-4/
LOCATION:Activity Room
CATEGORIES:Legacy Court
END:VEVENT
BEGIN:VEVENT
DTSTART;TZID=America/Chicago:20260318T140000
DTEND;TZID=America/Chicago:20260318T142500
DTSTAMP:20260420T074202
CREATED:20260217T052009Z
LAST-MODIFIED:20260227T065205Z
UID:10004506-1773842400-1773843900@reenaseniorliving.com
SUMMARY:Reading Poetry and Rhymes Together.
DESCRIPTION:
URL:https://reenaseniorliving.com/event-calendar/reading-poetry-and-rhymes-together-14/
LOCATION:Activity Room
CATEGORIES:Legacy Court
END:VEVENT
BEGIN:VEVENT
DTSTART;TZID=America/Chicago:20260318T133000
DTEND;TZID=America/Chicago:20260318T140000
DTSTAMP:20260420T074202
CREATED:20260217T052006Z
LAST-MODIFIED:20260313T083603Z
UID:10004504-1773840600-1773842400@reenaseniorliving.com
SUMMARY:Records with Dorothy
DESCRIPTION:
URL:https://reenaseniorliving.com/event-calendar/records-with-dorothy-27/
LOCATION:Activity Room
CATEGORIES:Legacy Court
END:VEVENT
BEGIN:VEVENT
DTSTART;TZID=America/Chicago:20260318T130000
DTEND;TZID=America/Chicago:20260318T140000
DTSTAMP:20260420T074202
CREATED:20260307T035029Z
LAST-MODIFIED:20260318T053433Z
UID:10004787-1773838800-1773842400@reenaseniorliving.com
SUMMARY:Paper Tearing Art - Sign-up - Last time we did it many said it was therapeutic.
DESCRIPTION:
URL:https://reenaseniorliving.com/event-calendar/paper-tearing-art-2/
LOCATION:Activity Room
CATEGORIES:Assisted Living
END:VEVENT
BEGIN:VEVENT
DTSTART;TZID=America/Chicago:20260318T100000
DTEND;TZID=America/Chicago:20260318T101500
DTSTAMP:20260420T074202
CREATED:20260217T052004Z
LAST-MODIFIED:20260318T091905Z
UID:10004502-1773828000-1773828900@reenaseniorliving.com
SUMMARY:Sing-a-long before Catholic Church Service - All are Welcome
DESCRIPTION:
URL:https://reenaseniorliving.com/event-calendar/sing-a-long-before-catholic-church-service-all-are-welcome-5/
LOCATION:Activity Room
CATEGORIES:Legacy Court
END:VEVENT
BEGIN:VEVENT
DTSTART;TZID=America/Chicago:20260318T091500
DTEND;TZID=America/Chicago:20260318T094500
DTSTAMP:20260420T074202
CREATED:20260217T030434Z
LAST-MODIFIED:20260318T053433Z
UID:10004499-1773825300-1773827100@reenaseniorliving.com
SUMMARY:Movement Class with Kayla
DESCRIPTION:
URL:https://reenaseniorliving.com/event-calendar/movement-class-with-kayla-160/
LOCATION:Activity Room
CATEGORIES:Assisted Living
END:VEVENT
BEGIN:VEVENT
DTSTART;TZID=America/Chicago:20260317T171500
DTEND;TZID=America/Chicago:20260317T190000
DTSTAMP:20260420T074202
CREATED:20260216T024953Z
LAST-MODIFIED:20260317T052021Z
UID:10004492-1773767700-1773774000@reenaseniorliving.com
SUMMARY:Euchre Night!
DESCRIPTION:
URL:https://reenaseniorliving.com/event-calendar/game-night-9/
LOCATION:Activity Room
CATEGORIES:Assisted Living
END:VEVENT
BEGIN:VEVENT
DTSTART;TZID=America/Chicago:20260317T133000
DTEND;TZID=America/Chicago:20260317T143000
DTSTAMP:20260420T074202
CREATED:20260304T032140Z
LAST-MODIFIED:20260317T091907Z
UID:10004731-1773754200-1773757800@reenaseniorliving.com
SUMMARY:St. Patty's Social!
DESCRIPTION:
URL:https://reenaseniorliving.com/event-calendar/st-pattys-party-na-beer-or-grasshoppers/
LOCATION:Activity Room
CATEGORIES:Assisted Living,Legacy Court
END:VEVENT
BEGIN:VEVENT
DTSTART;TZID=America/Chicago:20260317T130000
DTEND;TZID=America/Chicago:20260317T140000
DTSTAMP:20260420T074202
CREATED:20260307T035025Z
LAST-MODIFIED:20260317T052020Z
UID:10004786-1773752400-1773756000@reenaseniorliving.com
SUMMARY:Playoffs for TRYathalon!
DESCRIPTION:
URL:https://reenaseniorliving.com/event-calendar/playoffs-for-tryathalon/
LOCATION:Activity Room
CATEGORIES:Assisted Living
END:VEVENT
BEGIN:VEVENT
DTSTART;TZID=America/Chicago:20260317T125500
DTEND;TZID=America/Chicago:20260317T135500
DTSTAMP:20260420T074202
CREATED:20260216T024952Z
LAST-MODIFIED:20260223T062015Z
UID:10004491-1773752100-1773755700@reenaseniorliving.com
SUMMARY:TRYathlon Day. Join in on the fun! Walking or Seated March.
DESCRIPTION:
URL:https://reenaseniorliving.com/event-calendar/tryathlon-day-join-in-on-the-fun-walking-or-seated-march-5/
LOCATION:Activity Room
CATEGORIES:Assisted Living,Legacy Court
END:VEVENT
BEGIN:VEVENT
DTSTART;TZID=America/Chicago:20260317T100000
DTEND;TZID=America/Chicago:20260317T110000
DTSTAMP:20260420T074202
CREATED:20260314T084928Z
LAST-MODIFIED:20260317T091907Z
UID:10004871-1773741600-1773745200@reenaseniorliving.com
SUMMARY:Hummingbird Documentary - Youtube
DESCRIPTION:
URL:https://reenaseniorliving.com/event-calendar/hummingbird-documentary-youtube/
LOCATION:Activity Room
CATEGORIES:Legacy Court
END:VEVENT
BEGIN:VEVENT
DTSTART;TZID=America/Chicago:20260317T095000
DTEND;TZID=America/Chicago:20260317T101000
DTSTAMP:20260420T074202
CREATED:20260216T024951Z
LAST-MODIFIED:20260303T032017Z
UID:10004490-1773741000-1773742200@reenaseniorliving.com
SUMMARY:Green Thumbs Garden Club
DESCRIPTION:
URL:https://reenaseniorliving.com/event-calendar/green-thumbs-garden-club-19/
LOCATION:Activity Room
CATEGORIES:Assisted Living
END:VEVENT
BEGIN:VEVENT
DTSTART;TZID=America/Chicago:20260317T091500
DTEND;TZID=America/Chicago:20260317T094500
DTSTAMP:20260420T074202
CREATED:20260216T024945Z
LAST-MODIFIED:20260317T052019Z
UID:10004489-1773738900-1773740700@reenaseniorliving.com
SUMMARY:Movement Class with Kayla
DESCRIPTION:
URL:https://reenaseniorliving.com/event-calendar/movement-class-with-kayla-159/
LOCATION:Activity Room
CATEGORIES:Assisted Living
END:VEVENT
BEGIN:VEVENT
DTSTART;TZID=America/Chicago:20260316T153000
DTEND;TZID=America/Chicago:20260316T161500
DTSTAMP:20260420T074202
CREATED:20260215T024933Z
LAST-MODIFIED:20260316T050404Z
UID:10004477-1773675000-1773677700@reenaseniorliving.com
SUMMARY:Knitting\, Crochet\, Crafting\, and Social Time.
DESCRIPTION:
URL:https://reenaseniorliving.com/event-calendar/knitting-crochet-crafting-and-social-time-7/
LOCATION:Activity Room
CATEGORIES:Assisted Living
END:VEVENT
BEGIN:VEVENT
DTSTART;TZID=America/Chicago:20260316T130000
DTEND;TZID=America/Chicago:20260316T134000
DTSTAMP:20260420T074202
CREATED:20260304T032138Z
LAST-MODIFIED:20260316T050403Z
UID:10004729-1773666000-1773668400@reenaseniorliving.com
SUMMARY:Our Robot Soccer Team! Come learn all about it. This is a first for this event.
DESCRIPTION:
URL:https://reenaseniorliving.com/event-calendar/our-robot-soccer-team-come-learn-all-about-it-well-review-the-rules-today-for-the-first-time-2/
LOCATION:Activity Room
CATEGORIES:Assisted Living
END:VEVENT
BEGIN:VEVENT
DTSTART;TZID=America/Chicago:20260316T103000
DTEND;TZID=America/Chicago:20260316T105000
DTSTAMP:20260420T074202
CREATED:20260215T052022Z
LAST-MODIFIED:20260303T073422Z
UID:10004481-1773657000-1773658200@reenaseniorliving.com
SUMMARY:Balance Training with Kayla - Hallway near Activity Room
DESCRIPTION:
URL:https://reenaseniorliving.com/event-calendar/balance-training-with-kayla-hallway-near-activity-room-24/
LOCATION:Activity Room
CATEGORIES:Legacy Court
END:VEVENT
BEGIN:VEVENT
DTSTART;TZID=America/Chicago:20260316T101500
DTEND;TZID=America/Chicago:20260316T113000
DTSTAMP:20260420T074202
CREATED:20260215T024933Z
LAST-MODIFIED:20260316T050403Z
UID:10004476-1773656100-1773660600@reenaseniorliving.com
SUMMARY:Trinity Lutheran Visit with Coffee Social Hour
DESCRIPTION:Coffee will be offered. Please join us.
URL:https://reenaseniorliving.com/event-calendar/trinity-lutheran-visit-with-coffee-social-hour-4/
LOCATION:Activity Room
CATEGORIES:Assisted Living
END:VEVENT
BEGIN:VEVENT
DTSTART;TZID=America/Chicago:20260316T093000
DTEND;TZID=America/Chicago:20260316T101000
DTSTAMP:20260420T074202
CREATED:20260215T052022Z
LAST-MODIFIED:20260316T092110Z
UID:10004480-1773653400-1773655800@reenaseniorliving.com
SUMMARY:Toss Cross!
DESCRIPTION:
URL:https://reenaseniorliving.com/event-calendar/games-3/
LOCATION:Activity Room
CATEGORIES:Legacy Court
END:VEVENT
BEGIN:VEVENT
DTSTART;TZID=America/Chicago:20260316T091500
DTEND;TZID=America/Chicago:20260316T094500
DTSTAMP:20260420T074202
CREATED:20260215T024931Z
LAST-MODIFIED:20260316T050403Z
UID:10004474-1773652500-1773654300@reenaseniorliving.com
SUMMARY:Movement with Kayla (AR)
DESCRIPTION:
URL:https://reenaseniorliving.com/event-calendar/movement-with-kayla-ar-12/
LOCATION:Activity Room
CATEGORIES:Assisted Living
END:VEVENT
BEGIN:VEVENT
DTSTART;TZID=America/Chicago:20260316T090000
DTEND;TZID=America/Chicago:20260316T093000
DTSTAMP:20260420T074202
CREATED:20260215T052021Z
LAST-MODIFIED:20260316T092110Z
UID:10004478-1773651600-1773653400@reenaseniorliving.com
SUMMARY:Social Time - Linked Senior Events\, News\, & Reminisce
DESCRIPTION:
URL:https://reenaseniorliving.com/event-calendar/social-time-events-news-reminisce-9/
LOCATION:Activity Room
CATEGORIES:Legacy Court
END:VEVENT
BEGIN:VEVENT
DTSTART;TZID=America/Chicago:20260315T124500
DTEND;TZID=America/Chicago:20260315T131500
DTSTAMP:20260420T074202
CREATED:20260314T084924Z
LAST-MODIFIED:20260315T090405Z
UID:10004869-1773578700-1773580500@reenaseniorliving.com
SUMMARY:Balloon Ball!
DESCRIPTION:
URL:https://reenaseniorliving.com/event-calendar/balloon-ball-11/
LOCATION:Activity Room
CATEGORIES:Legacy Court
END:VEVENT
BEGIN:VEVENT
DTSTART;TZID=America/Chicago:20260315T101500
DTEND;TZID=America/Chicago:20260315T111500
DTSTAMP:20260420T074202
CREATED:20260311T041905Z
LAST-MODIFIED:20260315T044911Z
UID:10004829-1773569700-1773573300@reenaseniorliving.com
SUMMARY:The Rainforest 50-minutes Nature Documentary
DESCRIPTION:
URL:https://reenaseniorliving.com/event-calendar/the-rainforest-50-minutes-nature-documentary/
LOCATION:Activity Room
CATEGORIES:Assisted Living
END:VEVENT
BEGIN:VEVENT
DTSTART;TZID=America/Chicago:20260314T110000
DTEND;TZID=America/Chicago:20260314T112000
DTSTAMP:20260420T074202
CREATED:20260305T033412Z
LAST-MODIFIED:20260314T043512Z
UID:10004742-1773486000-1773487200@reenaseniorliving.com
SUMMARY:Coffee - Joke of Day\, Fact or Fiction\, This Day in History\, One or Two games of Spin and Solve.
DESCRIPTION:
URL:https://reenaseniorliving.com/event-calendar/linked-senior-joke-of-day-fact-or-fiction-fashion-of-the-50s-slideshow-20-minutes/
LOCATION:Activity Room
CATEGORIES:Assisted Living
END:VEVENT
BEGIN:VEVENT
DTSTART;TZID=America/Chicago:20260314T103000
DTEND;TZID=America/Chicago:20260314T110000
DTSTAMP:20260420T074202
CREATED:20260305T033411Z
LAST-MODIFIED:20260314T043511Z
UID:10004741-1773484200-1773486000@reenaseniorliving.com
SUMMARY:Balloon Volleyball with Mary! Movement for Fun!
DESCRIPTION:
URL:https://reenaseniorliving.com/event-calendar/balloon-volleyball-with-mary-movement-for-fun/
LOCATION:Activity Room
CATEGORIES:Assisted Living
END:VEVENT
BEGIN:VEVENT
DTSTART;TZID=America/Chicago:20260313T173000
DTEND;TZID=America/Chicago:20260313T183000
DTSTAMP:20260420T074202
CREATED:20260228T065137Z
LAST-MODIFIED:20260313T083450Z
UID:10004670-1773423000-1773426600@reenaseniorliving.com
SUMMARY:Calm Time- TV - Feel good kind.
DESCRIPTION:
URL:https://reenaseniorliving.com/event-calendar/classic-movie-feel-good-kind-4/
LOCATION:Activity Room
CATEGORIES:Legacy Court
END:VEVENT
BEGIN:VEVENT
DTSTART;TZID=America/Chicago:20260313T150000
DTEND;TZID=America/Chicago:20260313T151500
DTSTAMP:20260420T074202
CREATED:20260212T023420Z
LAST-MODIFIED:20260313T041905Z
UID:10004434-1773414000-1773414900@reenaseniorliving.com
SUMMARY:Your weekly activity packets will be delivered.
DESCRIPTION:
URL:https://reenaseniorliving.com/event-calendar/your-weekly-activity-packets-will-be-delivered-44/
LOCATION:Activity Room
CATEGORIES:Assisted Living
END:VEVENT
BEGIN:VEVENT
DTSTART;TZID=America/Chicago:20260313T130000
DTEND;TZID=America/Chicago:20260313T140000
DTSTAMP:20260420T074202
CREATED:20260306T075035Z
LAST-MODIFIED:20260313T083449Z
UID:10004781-1773406800-1773410400@reenaseniorliving.com
SUMMARY:Bingo!
DESCRIPTION:
URL:https://reenaseniorliving.com/event-calendar/bingo-84/
LOCATION:Activity Room
CATEGORIES:Legacy Court
END:VEVENT
BEGIN:VEVENT
DTSTART;TZID=America/Chicago:20260313T130000
DTEND;TZID=America/Chicago:20260313T140000
DTSTAMP:20260420T074202
CREATED:20260212T023420Z
LAST-MODIFIED:20260227T031921Z
UID:10004433-1773406800-1773410400@reenaseniorliving.com
SUMMARY:The Big Show
DESCRIPTION:
URL:https://reenaseniorliving.com/event-calendar/the-big-show-10/
LOCATION:Activity Room
CATEGORIES:Assisted Living
END:VEVENT
BEGIN:VEVENT
DTSTART;TZID=America/Chicago:20260313T110000
DTEND;TZID=America/Chicago:20260313T113000
DTSTAMP:20260420T074202
CREATED:20260212T050516Z
LAST-MODIFIED:20260313T083448Z
UID:10004464-1773399600-1773401400@reenaseniorliving.com
SUMMARY:Group Movement Class - Strength and Mobility
DESCRIPTION:
URL:https://reenaseniorliving.com/event-calendar/group-movement-class-strength-and-mobility-14/
LOCATION:Activity Room
CATEGORIES:Legacy Court
END:VEVENT
END:VCALENDAR