BEGIN:VCALENDAR
VERSION:2.0
PRODID:-//Reena Senior Living - ECPv6.11.2.1//NONSGML v1.0//EN
CALSCALE:GREGORIAN
METHOD:PUBLISH
X-WR-CALNAME:Reena Senior Living
X-ORIGINAL-URL:https://reenaseniorliving.com
X-WR-CALDESC:Events for Reena Senior Living
REFRESH-INTERVAL;VALUE=DURATION:PT1H
X-Robots-Tag:noindex
X-PUBLISHED-TTL:PT1H
BEGIN:VTIMEZONE
TZID:America/Chicago
BEGIN:DAYLIGHT
TZOFFSETFROM:-0600
TZOFFSETTO:-0500
TZNAME:CDT
DTSTART:20260308T080000
END:DAYLIGHT
BEGIN:STANDARD
TZOFFSETFROM:-0500
TZOFFSETTO:-0600
TZNAME:CST
DTSTART:20261101T070000
END:STANDARD
END:VTIMEZONE
BEGIN:VEVENT
DTSTART;TZID=America/Chicago:20260312T143000
DTEND;TZID=America/Chicago:20260312T153000
DTSTAMP:20260420T163040
CREATED:20260211T023427Z
LAST-MODIFIED:20260312T083404Z
UID:10004414-1773325800-1773329400@reenaseniorliving.com
SUMMARY:Piano with Richard. Sing Along Fun!
DESCRIPTION:
URL:https://reenaseniorliving.com/event-calendar/piano-with-richard-shaten/
LOCATION:Activity Room
CATEGORIES:Assisted Living,Legacy Court
END:VEVENT
BEGIN:VEVENT
DTSTART;TZID=America/Chicago:20260312T130000
DTEND;TZID=America/Chicago:20260312T140000
DTSTAMP:20260420T163040
CREATED:20260228T031907Z
LAST-MODIFIED:20260306T034904Z
UID:10004648-1773320400-1773324000@reenaseniorliving.com
SUMMARY:Championship TRYathlon - Who will it be? Let's watch it together.
DESCRIPTION:
URL:https://reenaseniorliving.com/event-calendar/championship-tryathlon-who-will-it-be-lets-have-a-party/
LOCATION:Activity Room
CATEGORIES:Assisted Living
END:VEVENT
BEGIN:VEVENT
DTSTART;TZID=America/Chicago:20260312T125500
DTEND;TZID=America/Chicago:20260312T135500
DTSTAMP:20260420T163040
CREATED:20260211T023427Z
LAST-MODIFIED:20260227T065113Z
UID:10004413-1773320100-1773323700@reenaseniorliving.com
SUMMARY:TRYathlon Scrimmage Day! Arm Crank or Leg Crank!
DESCRIPTION:
URL:https://reenaseniorliving.com/event-calendar/tryathlon-scrimmage-day-arm-crank-or-leg-crank-4/
LOCATION:Activity Room
CATEGORIES:Assisted Living,Legacy Court
END:VEVENT
BEGIN:VEVENT
DTSTART;TZID=America/Chicago:20260312T103000
DTEND;TZID=America/Chicago:20260312T113000
DTSTAMP:20260420T163040
CREATED:20260305T033408Z
LAST-MODIFIED:20260312T041929Z
UID:10004740-1773311400-1773315000@reenaseniorliving.com
SUMMARY:Baking - Let's Make a Batch of Brownies - Preparing for the Easter Bunny Weekend.
DESCRIPTION:
URL:https://reenaseniorliving.com/event-calendar/baking-lets-make-a-batch-of-brownies-preparing-for-the-easter-bunny-weekend/
LOCATION:Activity Room
CATEGORIES:Assisted Living
END:VEVENT
BEGIN:VEVENT
DTSTART;TZID=America/Chicago:20260312T103000
DTEND;TZID=America/Chicago:20260312T111500
DTSTAMP:20260420T163040
CREATED:20260211T050525Z
LAST-MODIFIED:20260305T074907Z
UID:10004417-1773311400-1773314100@reenaseniorliving.com
SUMMARY:Let's Make Bread.
DESCRIPTION:
URL:https://reenaseniorliving.com/event-calendar/lets-make-bread-26/
LOCATION:Activity Room
CATEGORIES:Legacy Court
END:VEVENT
BEGIN:VEVENT
DTSTART;TZID=America/Chicago:20260312T091500
DTEND;TZID=America/Chicago:20260312T094500
DTSTAMP:20260420T163040
CREATED:20260211T023427Z
LAST-MODIFIED:20260312T041928Z
UID:10004411-1773306900-1773308700@reenaseniorliving.com
SUMMARY:Movement Class with Kayla
DESCRIPTION:Gentle Movement\, Strength\, Mobility\, Balance\, & More.
URL:https://reenaseniorliving.com/event-calendar/movement-class-with-kayla-157/
LOCATION:Activity Room
CATEGORIES:Assisted Living
END:VEVENT
BEGIN:VEVENT
DTSTART;TZID=America/Chicago:20260312T085000
DTEND;TZID=America/Chicago:20260312T091000
DTSTAMP:20260420T163040
CREATED:20260211T023427Z
LAST-MODIFIED:20260312T041928Z
UID:10004412-1773305400-1773306600@reenaseniorliving.com
SUMMARY:Green Thumbs Garden Club
DESCRIPTION:
URL:https://reenaseniorliving.com/event-calendar/green-thumbs-garden-club-18/
LOCATION:Activity Room
CATEGORIES:Assisted Living
END:VEVENT
BEGIN:VEVENT
DTSTART;TZID=America/Chicago:20260311T221500
DTEND;TZID=America/Chicago:20260311T231500
DTSTAMP:20260420T163040
CREATED:20260212T023418Z
LAST-MODIFIED:20260303T031958Z
UID:10004430-1773267300-1773270900@reenaseniorliving.com
SUMMARY:Non-denominational service
DESCRIPTION:
URL:https://reenaseniorliving.com/event-calendar/non-denominational-service/
LOCATION:Activity Room
CATEGORIES:Assisted Living
END:VEVENT
BEGIN:VEVENT
DTSTART;TZID=America/Chicago:20260311T173000
DTEND;TZID=America/Chicago:20260311T183000
DTSTAMP:20260420T163040
CREATED:20260306T075034Z
LAST-MODIFIED:20260311T081917Z
UID:10004776-1773250200-1773253800@reenaseniorliving.com
SUMMARY:Calm Time- TV - Feel good kind.
DESCRIPTION:
URL:https://reenaseniorliving.com/event-calendar/calm-time-tv-feel-good-kind-3/
LOCATION:Activity Room
CATEGORIES:Legacy Court
END:VEVENT
BEGIN:VEVENT
DTSTART;TZID=America/Chicago:20260311T153000
DTEND;TZID=America/Chicago:20260311T155000
DTSTAMP:20260420T163040
CREATED:20260222T061921Z
LAST-MODIFIED:20260311T081917Z
UID:10004565-1773243000-1773244200@reenaseniorliving.com
SUMMARY:Guided Relaxation
DESCRIPTION:
URL:https://reenaseniorliving.com/event-calendar/guided-relaxation-3/
LOCATION:Activity Room
CATEGORIES:Legacy Court
END:VEVENT
BEGIN:VEVENT
DTSTART;TZID=America/Chicago:20260311T143000
DTEND;TZID=America/Chicago:20260311T160000
DTSTAMP:20260420T163040
CREATED:20260305T033407Z
LAST-MODIFIED:20260311T041904Z
UID:10004739-1773239400-1773244800@reenaseniorliving.com
SUMMARY:Euchre - Resident Run Activity. Come Play or Watch and Learn.
DESCRIPTION:
URL:https://reenaseniorliving.com/event-calendar/euchre-resident-run-activity-come-play-or-watch-and-learn/
LOCATION:Activity Room
CATEGORIES:Assisted Living
END:VEVENT
BEGIN:VEVENT
DTSTART;TZID=America/Chicago:20260311T143000
DTEND;TZID=America/Chicago:20260311T145000
DTSTAMP:20260420T163040
CREATED:20260228T065121Z
LAST-MODIFIED:20260311T081905Z
UID:10004668-1773239400-1773240600@reenaseniorliving.com
SUMMARY:Chaplain Ann Visit
DESCRIPTION:
URL:https://reenaseniorliving.com/event-calendar/chaplain-ann-visit-3/
LOCATION:Activity Room
CATEGORIES:Legacy Court
END:VEVENT
BEGIN:VEVENT
DTSTART;TZID=America/Chicago:20260311T140000
DTEND;TZID=America/Chicago:20260311T150000
DTSTAMP:20260420T163040
CREATED:20260306T075034Z
LAST-MODIFIED:20260311T081904Z
UID:10004775-1773237600-1773241200@reenaseniorliving.com
SUMMARY:Instrumental Music Today
DESCRIPTION:
URL:https://reenaseniorliving.com/event-calendar/instrumental-music-today/
LOCATION:Activity Room
CATEGORIES:Legacy Court
END:VEVENT
BEGIN:VEVENT
DTSTART;TZID=America/Chicago:20260311T140000
DTEND;TZID=America/Chicago:20260311T142500
DTSTAMP:20260420T163040
CREATED:20260210T050438Z
LAST-MODIFIED:20260227T065100Z
UID:10004405-1773237600-1773239100@reenaseniorliving.com
SUMMARY:Reading Poetry and Rhymes Together.
DESCRIPTION:
URL:https://reenaseniorliving.com/event-calendar/reading-poetry-and-rhymes-together-12/
LOCATION:Activity Room
CATEGORIES:Legacy Court
END:VEVENT
BEGIN:VEVENT
DTSTART;TZID=America/Chicago:20260311T133000
DTEND;TZID=America/Chicago:20260311T140000
DTSTAMP:20260420T163040
CREATED:20260210T050438Z
LAST-MODIFIED:20260305T074906Z
UID:10004403-1773235800-1773237600@reenaseniorliving.com
SUMMARY:Records with Dorothy
DESCRIPTION:
URL:https://reenaseniorliving.com/event-calendar/records-with-dorothy-26/
LOCATION:Activity Room
CATEGORIES:Legacy Court
END:VEVENT
BEGIN:VEVENT
DTSTART;TZID=America/Chicago:20260311T101500
DTEND;TZID=America/Chicago:20260311T110000
DTSTAMP:20260420T163040
CREATED:20260303T031957Z
LAST-MODIFIED:20260311T041904Z
UID:10004712-1773224100-1773226800@reenaseniorliving.com
SUMMARY:Non-Denominational Time with Chaplain Ann.
DESCRIPTION:
URL:https://reenaseniorliving.com/event-calendar/non-denominational-service-with-chaplain-ann/
LOCATION:Activity Room
CATEGORIES:Assisted Living,Legacy Court
END:VEVENT
BEGIN:VEVENT
DTSTART;TZID=America/Chicago:20260311T100000
DTEND;TZID=America/Chicago:20260311T101500
DTSTAMP:20260420T163040
CREATED:20260212T050512Z
LAST-MODIFIED:20260311T081903Z
UID:10004462-1773223200-1773224100@reenaseniorliving.com
SUMMARY:Sing-a-long before Catholic Church Service - All are Welcome
DESCRIPTION:
URL:https://reenaseniorliving.com/event-calendar/sing-a-long-before-catholic-church-service-all-are-welcome-4/
LOCATION:Activity Room
CATEGORIES:Legacy Court
END:VEVENT
BEGIN:VEVENT
DTSTART;TZID=America/Chicago:20260311T094500
DTEND;TZID=America/Chicago:20260311T100500
DTSTAMP:20260420T163040
CREATED:20260210T023433Z
LAST-MODIFIED:20260211T023426Z
UID:10004393-1773222300-1773223500@reenaseniorliving.com
SUMMARY:Wellness Walking Group
DESCRIPTION:
URL:https://reenaseniorliving.com/event-calendar/wellness-walking-group-3/
LOCATION:Activity Room
CATEGORIES:Assisted Living
END:VEVENT
BEGIN:VEVENT
DTSTART;TZID=America/Chicago:20260311T091500
DTEND;TZID=America/Chicago:20260311T094500
DTSTAMP:20260420T163040
CREATED:20260210T023432Z
LAST-MODIFIED:20260311T041904Z
UID:10004392-1773220500-1773222300@reenaseniorliving.com
SUMMARY:Movement Class with Kayla
DESCRIPTION:
URL:https://reenaseniorliving.com/event-calendar/movement-class-with-kayla-156/
LOCATION:Activity Room
CATEGORIES:Assisted Living
END:VEVENT
BEGIN:VEVENT
DTSTART;TZID=America/Chicago:20260310T171500
DTEND;TZID=America/Chicago:20260310T190000
DTSTAMP:20260420T163040
CREATED:20260209T023437Z
LAST-MODIFIED:20260310T041919Z
UID:10004384-1773162900-1773169200@reenaseniorliving.com
SUMMARY:Hand & Foot Cards Night.
DESCRIPTION:
URL:https://reenaseniorliving.com/event-calendar/game-night-8/
LOCATION:Activity Room
CATEGORIES:Assisted Living
END:VEVENT
BEGIN:VEVENT
DTSTART;TZID=America/Chicago:20260310T140000
DTEND;TZID=America/Chicago:20260310T143000
DTSTAMP:20260420T163040
CREATED:20260212T023417Z
LAST-MODIFIED:20260303T032037Z
UID:10004429-1773151200-1773153000@reenaseniorliving.com
SUMMARY:Trivia with Danielle
DESCRIPTION:
URL:https://reenaseniorliving.com/event-calendar/trivia-with-danielle/
LOCATION:Activity Room
CATEGORIES:Assisted Living
END:VEVENT
BEGIN:VEVENT
DTSTART;TZID=America/Chicago:20260310T140000
DTEND;TZID=America/Chicago:20260310T142500
DTSTAMP:20260420T163040
CREATED:20260306T034902Z
LAST-MODIFIED:20260310T041919Z
UID:10004759-1773151200-1773152700@reenaseniorliving.com
SUMMARY:Jana Waller Bair (local family) - Elk Hunting - with Marine Veteran
DESCRIPTION:
URL:https://reenaseniorliving.com/event-calendar/jana-waller-bair-local-family-elk-hunting-with-marine-veteran/
LOCATION:Activity Room
CATEGORIES:Assisted Living
END:VEVENT
BEGIN:VEVENT
DTSTART;TZID=America/Chicago:20260310T133000
DTEND;TZID=America/Chicago:20260310T135000
DTSTAMP:20260420T163040
CREATED:20260306T075033Z
LAST-MODIFIED:20260310T082001Z
UID:10004772-1773149400-1773150600@reenaseniorliving.com
SUMMARY:Classic Rhymes - Let's recite them together. Itsy Bitsy Spider is a great place to start.
DESCRIPTION:
URL:https://reenaseniorliving.com/event-calendar/classic-rhymes-lets-recite-them-together-itsy-bitsy-spider-is-a-great-place-to-start/
LOCATION:Activity Room
CATEGORIES:Legacy Court
END:VEVENT
BEGIN:VEVENT
DTSTART;TZID=America/Chicago:20260310T130000
DTEND;TZID=America/Chicago:20260310T140000
DTSTAMP:20260420T163040
CREATED:20260305T033404Z
LAST-MODIFIED:20260306T034902Z
UID:10004738-1773147600-1773151200@reenaseniorliving.com
SUMMARY:Watch Spark Competitors - Semi-Finals
DESCRIPTION:
URL:https://reenaseniorliving.com/event-calendar/watch-spark-competitors-semi-finals/
LOCATION:Activity Room
CATEGORIES:Assisted Living
END:VEVENT
BEGIN:VEVENT
DTSTART;TZID=America/Chicago:20260310T130000
DTEND;TZID=America/Chicago:20260310T133000
DTSTAMP:20260420T163040
CREATED:20260306T075033Z
LAST-MODIFIED:20260310T082001Z
UID:10004771-1773147600-1773149400@reenaseniorliving.com
SUMMARY:Arm Biking
DESCRIPTION:
URL:https://reenaseniorliving.com/event-calendar/arm-biking/
LOCATION:Activity Room
CATEGORIES:Legacy Court
END:VEVENT
BEGIN:VEVENT
DTSTART;TZID=America/Chicago:20260310T125500
DTEND;TZID=America/Chicago:20260310T135500
DTSTAMP:20260420T163040
CREATED:20260209T023436Z
LAST-MODIFIED:20260227T065045Z
UID:10004383-1773147300-1773150900@reenaseniorliving.com
SUMMARY:TRYathlon Day. Join in on the fun! Walking or Seated March.
DESCRIPTION:
URL:https://reenaseniorliving.com/event-calendar/tryathlon-day-join-in-on-the-fun-walking-or-seated-march-4/
LOCATION:Activity Room
CATEGORIES:Assisted Living,Legacy Court
END:VEVENT
BEGIN:VEVENT
DTSTART;TZID=America/Chicago:20260310T100000
DTEND;TZID=America/Chicago:20260310T110000
DTSTAMP:20260420T163040
CREATED:20260306T075032Z
LAST-MODIFIED:20260310T082001Z
UID:10004770-1773136800-1773140400@reenaseniorliving.com
SUMMARY:Paint in a bag with Kayla and Laurie
DESCRIPTION:
URL:https://reenaseniorliving.com/event-calendar/paint-in-a-bag-with-kayla-and-laurie/
LOCATION:Activity Room
CATEGORIES:Legacy Court
END:VEVENT
BEGIN:VEVENT
DTSTART;TZID=America/Chicago:20260310T100000
DTEND;TZID=America/Chicago:20260310T104000
DTSTAMP:20260420T163040
CREATED:20260303T031954Z
LAST-MODIFIED:20260303T032036Z
UID:10004711-1773136800-1773139200@reenaseniorliving.com
SUMMARY:Our Robot Soccer Team! Come learn all about it. We'll review the rules today for the first time.
DESCRIPTION:
URL:https://reenaseniorliving.com/event-calendar/our-robot-soccer-team-come-learn-all-about-it-well-review-the-rules-today-for-the-first-time/
LOCATION:Activity Room
CATEGORIES:Assisted Living
END:VEVENT
BEGIN:VEVENT
DTSTART;TZID=America/Chicago:20260310T093000
DTEND;TZID=America/Chicago:20260310T095000
DTSTAMP:20260420T163040
CREATED:20260306T075032Z
LAST-MODIFIED:20260310T082001Z
UID:10004769-1773135000-1773136200@reenaseniorliving.com
SUMMARY:Sing along with Laurie
DESCRIPTION:
URL:https://reenaseniorliving.com/event-calendar/sing-along-with-laurie-3/
LOCATION:Activity Room
CATEGORIES:Legacy Court
END:VEVENT
BEGIN:VEVENT
DTSTART;TZID=America/Chicago:20260310T091500
DTEND;TZID=America/Chicago:20260310T094500
DTSTAMP:20260420T163040
CREATED:20260209T023435Z
LAST-MODIFIED:20260310T041918Z
UID:10004381-1773134100-1773135900@reenaseniorliving.com
SUMMARY:Movement Class with Kayla
DESCRIPTION:
URL:https://reenaseniorliving.com/event-calendar/movement-class-with-kayla-155/
LOCATION:Activity Room
CATEGORIES:Assisted Living
END:VEVENT
END:VCALENDAR