BEGIN:VCALENDAR
VERSION:2.0
PRODID:-//Reena Senior Living - ECPv6.11.2.1//NONSGML v1.0//EN
CALSCALE:GREGORIAN
METHOD:PUBLISH
X-ORIGINAL-URL:https://reenaseniorliving.com
X-WR-CALDESC:Events for Reena Senior Living
REFRESH-INTERVAL;VALUE=DURATION:PT1H
X-Robots-Tag:noindex
X-PUBLISHED-TTL:PT1H
BEGIN:VTIMEZONE
TZID:America/Chicago
BEGIN:DAYLIGHT
TZOFFSETFROM:-0600
TZOFFSETTO:-0500
TZNAME:CDT
DTSTART:20260308T080000
END:DAYLIGHT
BEGIN:STANDARD
TZOFFSETFROM:-0500
TZOFFSETTO:-0600
TZNAME:CST
DTSTART:20261101T070000
END:STANDARD
END:VTIMEZONE
BEGIN:VEVENT
DTSTART;TZID=America/Chicago:20260307T150500
DTEND;TZID=America/Chicago:20260307T160500
DTSTAMP:20260420T214640
CREATED:20260228T065024Z
LAST-MODIFIED:20260307T075004Z
UID:10004665-1772895900-1772899500@reenaseniorliving.com
SUMMARY:Water Painting or Paint in a Bag
DESCRIPTION:
URL:https://reenaseniorliving.com/event-calendar/water-painting-or-paint-in-a-bag/
LOCATION:Activity Room
CATEGORIES:Legacy Court
END:VEVENT
BEGIN:VEVENT
DTSTART;TZID=America/Chicago:20260306T180000
DTEND;TZID=America/Chicago:20260306T193000
DTSTAMP:20260420T214641
CREATED:20260228T065023Z
LAST-MODIFIED:20260306T075031Z
UID:10004662-1772820000-1772825400@reenaseniorliving.com
SUMMARY:Classic Movie - Feel good kind.
DESCRIPTION:
URL:https://reenaseniorliving.com/event-calendar/classic-movie-feel-good-kind-2/
LOCATION:Activity Room
CATEGORIES:Legacy Court
END:VEVENT
BEGIN:VEVENT
DTSTART;TZID=America/Chicago:20260306T150000
DTEND;TZID=America/Chicago:20260306T151500
DTSTAMP:20260420T214641
CREATED:20260205T023416Z
LAST-MODIFIED:20260306T034903Z
UID:10004336-1772809200-1772810100@reenaseniorliving.com
SUMMARY:Your weekly activity packets will be delivered.
DESCRIPTION:
URL:https://reenaseniorliving.com/event-calendar/your-weekly-activity-packets-will-be-delivered-43/
LOCATION:Activity Room
CATEGORIES:Assisted Living
END:VEVENT
BEGIN:VEVENT
DTSTART;TZID=America/Chicago:20260306T140000
DTEND;TZID=America/Chicago:20260306T143500
DTSTAMP:20260420T214641
CREATED:20260205T023416Z
LAST-MODIFIED:20260306T075031Z
UID:10004335-1772805600-1772807700@reenaseniorliving.com
SUMMARY:Drumming and sing-along with Jen!
DESCRIPTION:
URL:https://reenaseniorliving.com/event-calendar/drumming-and-sing-along-with-jen/
LOCATION:Activity Room
CATEGORIES:Assisted Living,Legacy Court
END:VEVENT
BEGIN:VEVENT
DTSTART;TZID=America/Chicago:20260306T130000
DTEND;TZID=America/Chicago:20260306T140000
DTSTAMP:20260420T214641
CREATED:20260205T023416Z
LAST-MODIFIED:20260306T034903Z
UID:10004334-1772802000-1772805600@reenaseniorliving.com
SUMMARY:The Big Show
DESCRIPTION:
URL:https://reenaseniorliving.com/event-calendar/the-big-show-9/
LOCATION:Activity Room
CATEGORIES:Assisted Living
END:VEVENT
BEGIN:VEVENT
DTSTART;TZID=America/Chicago:20260306T100500
DTEND;TZID=America/Chicago:20260306T102500
DTSTAMP:20260420T214641
CREATED:20260205T045007Z
LAST-MODIFIED:20260306T075030Z
UID:10004338-1772791500-1772792700@reenaseniorliving.com
SUMMARY:Group Movement Class - Strength and Mobility with Kayla and Mary
DESCRIPTION:
URL:https://reenaseniorliving.com/event-calendar/group-movement-class-strength-and-mobility-13/
LOCATION:Activity Room
CATEGORIES:Legacy Court
END:VEVENT
BEGIN:VEVENT
DTSTART;TZID=America/Chicago:20260306T095500
DTEND;TZID=America/Chicago:20260306T104500
DTSTAMP:20260420T214641
CREATED:20260228T031905Z
LAST-MODIFIED:20260306T034903Z
UID:10004645-1772790900-1772793900@reenaseniorliving.com
SUMMARY:Trivia Fun (general assorted topics) with coffee
DESCRIPTION:
URL:https://reenaseniorliving.com/event-calendar/trivia-fun-general-assorted-topics-with-coffee/
LOCATION:Activity Room
CATEGORIES:Assisted Living
END:VEVENT
BEGIN:VEVENT
DTSTART;TZID=America/Chicago:20260306T091500
DTEND;TZID=America/Chicago:20260306T094500
DTSTAMP:20260420T214641
CREATED:20260205T023415Z
LAST-MODIFIED:20260306T034902Z
UID:10004332-1772788500-1772790300@reenaseniorliving.com
SUMMARY:Movement Class with Kayla
DESCRIPTION:
URL:https://reenaseniorliving.com/event-calendar/movement-class-with-kayla-154/
LOCATION:Activity Room
CATEGORIES:Assisted Living
END:VEVENT
BEGIN:VEVENT
DTSTART;TZID=America/Chicago:20260305T180000
DTEND;TZID=America/Chicago:20260305T193000
DTSTAMP:20260420T214641
CREATED:20260228T065008Z
LAST-MODIFIED:20260305T074903Z
UID:10004659-1772733600-1772739000@reenaseniorliving.com
SUMMARY:Classic Movie - Feel good kind.
DESCRIPTION:
URL:https://reenaseniorliving.com/event-calendar/classic-movie-feel-good-kind/
LOCATION:Activity Room
CATEGORIES:Legacy Court
END:VEVENT
BEGIN:VEVENT
DTSTART;TZID=America/Chicago:20260305T173500
DTEND;TZID=America/Chicago:20260305T191500
DTSTAMP:20260420T214641
CREATED:20260228T031904Z
LAST-MODIFIED:20260305T033403Z
UID:10004644-1772732100-1772738100@reenaseniorliving.com
SUMMARY:Let's Play Garbage! We can teach you. Come on down to watch or play.
DESCRIPTION:
URL:https://reenaseniorliving.com/event-calendar/lets-play-garbage-we-can-teach-you-come-on-down-to-watch-or-play/
LOCATION:Activity Room
CATEGORIES:Assisted Living
END:VEVENT
BEGIN:VEVENT
DTSTART;TZID=America/Chicago:20260305T140000
DTEND;TZID=America/Chicago:20260305T150000
DTSTAMP:20260420T214641
CREATED:20260228T031904Z
LAST-MODIFIED:20260305T033403Z
UID:10004643-1772719200-1772722800@reenaseniorliving.com
SUMMARY:Art & History - Journey Through the Civil War - Smithsonian American Art Museum - TV Live
DESCRIPTION:
URL:https://reenaseniorliving.com/event-calendar/art-history-journey-through-the-civil-war-smithsonian-american-art-museum-tv-live/
LOCATION:Activity Room
CATEGORIES:Assisted Living
END:VEVENT
BEGIN:VEVENT
DTSTART;TZID=America/Chicago:20260305T125500
DTEND;TZID=America/Chicago:20260305T135500
DTSTAMP:20260420T214641
CREATED:20260204T023408Z
LAST-MODIFIED:20260305T074902Z
UID:10004324-1772715300-1772718900@reenaseniorliving.com
SUMMARY:TRYathlon Scrimmage Day! Arm Crank or Leg Crank!
DESCRIPTION:
URL:https://reenaseniorliving.com/event-calendar/tryathlon-scrimmage-day-arm-crank-or-leg-crank-3/
LOCATION:Activity Room
CATEGORIES:Assisted Living,Legacy Court
END:VEVENT
BEGIN:VEVENT
DTSTART;TZID=America/Chicago:20260305T095000
DTEND;TZID=America/Chicago:20260305T101000
DTSTAMP:20260420T214641
CREATED:20260204T023408Z
LAST-MODIFIED:20260227T031917Z
UID:10004323-1772704200-1772705400@reenaseniorliving.com
SUMMARY:Green Thumbs Garden Club
DESCRIPTION:
URL:https://reenaseniorliving.com/event-calendar/green-thumbs-garden-club-16/
LOCATION:Activity Room
CATEGORIES:Assisted Living
END:VEVENT
BEGIN:VEVENT
DTSTART;TZID=America/Chicago:20260305T091500
DTEND;TZID=America/Chicago:20260305T094500
DTSTAMP:20260420T214641
CREATED:20260204T023407Z
LAST-MODIFIED:20260305T033403Z
UID:10004322-1772702100-1772703900@reenaseniorliving.com
SUMMARY:Movement Class with Kayla
DESCRIPTION:Gentle Movement\, Strength\, Mobility\, Balance\, & More.
URL:https://reenaseniorliving.com/event-calendar/movement-class-with-kayla-153/
LOCATION:Activity Room
CATEGORIES:Assisted Living
END:VEVENT
BEGIN:VEVENT
DTSTART;TZID=America/Chicago:20260304T174000
DTEND;TZID=America/Chicago:20260304T182000
DTSTAMP:20260420T214641
CREATED:20260228T064950Z
LAST-MODIFIED:20260304T073531Z
UID:10004657-1772646000-1772648400@reenaseniorliving.com
SUMMARY:Biking and Movement Fun with Kayla
DESCRIPTION:
URL:https://reenaseniorliving.com/event-calendar/biking-and-movement-fun-with-kayla/
LOCATION:Activity Room
CATEGORIES:Legacy Court
END:VEVENT
BEGIN:VEVENT
DTSTART;TZID=America/Chicago:20260304T150000
DTEND;TZID=America/Chicago:20260304T152000
DTSTAMP:20260420T214641
CREATED:20260228T064948Z
LAST-MODIFIED:20260304T073517Z
UID:10004656-1772636400-1772637600@reenaseniorliving.com
SUMMARY:Sing along with Laurie
DESCRIPTION:
URL:https://reenaseniorliving.com/event-calendar/sing-along-with-laurie-2/
LOCATION:Activity Room
CATEGORIES:Legacy Court
END:VEVENT
BEGIN:VEVENT
DTSTART;TZID=America/Chicago:20260304T143000
DTEND;TZID=America/Chicago:20260304T145000
DTSTAMP:20260420T214641
CREATED:20260228T064948Z
LAST-MODIFIED:20260304T073516Z
UID:10004655-1772634600-1772635800@reenaseniorliving.com
SUMMARY:Chaplain Ann Visit
DESCRIPTION:
URL:https://reenaseniorliving.com/event-calendar/chaplain-ann-visit-2/
LOCATION:Activity Room
CATEGORIES:Legacy Court
END:VEVENT
BEGIN:VEVENT
DTSTART;TZID=America/Chicago:20260304T140000
DTEND;TZID=America/Chicago:20260304T142500
DTSTAMP:20260420T214641
CREATED:20260203T043424Z
LAST-MODIFIED:20260227T064948Z
UID:10004317-1772632800-1772634300@reenaseniorliving.com
SUMMARY:Reading Poetry and Rhymes Together.
DESCRIPTION:
URL:https://reenaseniorliving.com/event-calendar/reading-poetry-and-rhymes-together-10/
LOCATION:Activity Room
CATEGORIES:Legacy Court
END:VEVENT
BEGIN:VEVENT
DTSTART;TZID=America/Chicago:20260304T133000
DTEND;TZID=America/Chicago:20260304T140000
DTSTAMP:20260420T214641
CREATED:20260203T043424Z
LAST-MODIFIED:20260304T073516Z
UID:10004316-1772631000-1772632800@reenaseniorliving.com
SUMMARY:Records with Dorothy
DESCRIPTION:
URL:https://reenaseniorliving.com/event-calendar/records-with-dorothy-25/
LOCATION:Activity Room
CATEGORIES:Legacy Court
END:VEVENT
BEGIN:VEVENT
DTSTART;TZID=America/Chicago:20260304T130000
DTEND;TZID=America/Chicago:20260304T132000
DTSTAMP:20260420T214641
CREATED:20260222T061914Z
LAST-MODIFIED:20260304T073515Z
UID:10004561-1772629200-1772630400@reenaseniorliving.com
SUMMARY:Guided Relaxation
DESCRIPTION:
URL:https://reenaseniorliving.com/event-calendar/guided-relaxation-2/
LOCATION:Activity Room
CATEGORIES:Legacy Court
END:VEVENT
BEGIN:VEVENT
DTSTART;TZID=America/Chicago:20260304T125000
DTEND;TZID=America/Chicago:20260304T133000
DTSTAMP:20260420T214641
CREATED:20260228T031903Z
LAST-MODIFIED:20260304T031948Z
UID:10004641-1772628600-1772631000@reenaseniorliving.com
SUMMARY:Sign your name on the cardboard playhouse for the BASE youth. It will be delivered this week.
DESCRIPTION:
URL:https://reenaseniorliving.com/event-calendar/sign-your-name-on-the-cardboard-playhouse-for-the-base-youth-it-will-be-delivered-this-week/
LOCATION:Activity Room
CATEGORIES:Assisted Living
END:VEVENT
BEGIN:VEVENT
DTSTART;TZID=America/Chicago:20260304T121500
DTEND;TZID=America/Chicago:20260304T125000
DTSTAMP:20260420T214641
CREATED:20260203T023442Z
LAST-MODIFIED:20260304T031947Z
UID:10004314-1772626500-1772628600@reenaseniorliving.com
SUMMARY:Resident Council - Meet our new Chaplain and Community Life Assistant too.
DESCRIPTION:
URL:https://reenaseniorliving.com/event-calendar/resident-council-11/
LOCATION:Activity Room
CATEGORIES:Assisted Living
END:VEVENT
BEGIN:VEVENT
DTSTART;TZID=America/Chicago:20260304T100000
DTEND;TZID=America/Chicago:20260304T101500
DTSTAMP:20260420T214641
CREATED:20260212T050500Z
LAST-MODIFIED:20260304T073514Z
UID:10004461-1772618400-1772619300@reenaseniorliving.com
SUMMARY:Sing-a-long before Catholic Church Service - All are Welcome
DESCRIPTION:
URL:https://reenaseniorliving.com/event-calendar/sing-a-long-before-catholic-church-service-all-are-welcome-3/
LOCATION:Activity Room
CATEGORIES:Legacy Court
END:VEVENT
BEGIN:VEVENT
DTSTART;TZID=America/Chicago:20260304T094500
DTEND;TZID=America/Chicago:20260304T100500
DTSTAMP:20260420T214641
CREATED:20260203T023442Z
LAST-MODIFIED:20260211T023420Z
UID:10004312-1772617500-1772618700@reenaseniorliving.com
SUMMARY:Wellness Walking Group
DESCRIPTION:
URL:https://reenaseniorliving.com/event-calendar/wellness-walking-group-2/
LOCATION:Activity Room
CATEGORIES:Assisted Living
END:VEVENT
BEGIN:VEVENT
DTSTART;TZID=America/Chicago:20260304T091500
DTEND;TZID=America/Chicago:20260304T094500
DTSTAMP:20260420T214641
CREATED:20260203T023442Z
LAST-MODIFIED:20260304T031946Z
UID:10004311-1772615700-1772617500@reenaseniorliving.com
SUMMARY:Movement Class with Kayla
DESCRIPTION:
URL:https://reenaseniorliving.com/event-calendar/movement-class-with-kayla-152/
LOCATION:Activity Room
CATEGORIES:Assisted Living
END:VEVENT
BEGIN:VEVENT
DTSTART;TZID=America/Chicago:20260303T173500
DTEND;TZID=America/Chicago:20260303T190500
DTSTAMP:20260420T214641
CREATED:20260202T023425Z
LAST-MODIFIED:20260303T031941Z
UID:10004301-1772559300-1772564700@reenaseniorliving.com
SUMMARY:Euchre Night! Room will be set up. Kayla will help you organize groups.
DESCRIPTION:
URL:https://reenaseniorliving.com/event-calendar/game-night-7/
LOCATION:Activity Room
CATEGORIES:Assisted Living
END:VEVENT
BEGIN:VEVENT
DTSTART;TZID=America/Chicago:20260303T125500
DTEND;TZID=America/Chicago:20260303T135500
DTSTAMP:20260420T214641
CREATED:20260202T023425Z
LAST-MODIFIED:20260303T073402Z
UID:10004300-1772542500-1772546100@reenaseniorliving.com
SUMMARY:TRYathlon Day. Join in on the fun! Walking or Seated March.
DESCRIPTION:
URL:https://reenaseniorliving.com/event-calendar/tryathlon-day-join-in-on-the-fun-walking-or-seated-march-3/
LOCATION:Activity Room
CATEGORIES:Assisted Living,Legacy Court
END:VEVENT
BEGIN:VEVENT
DTSTART;TZID=America/Chicago:20260303T102000
DTEND;TZID=America/Chicago:20260303T104500
DTSTAMP:20260420T214641
CREATED:20260228T064917Z
LAST-MODIFIED:20260303T073402Z
UID:10004653-1772533200-1772534700@reenaseniorliving.com
SUMMARY:Parachute Fun!
DESCRIPTION:
URL:https://reenaseniorliving.com/event-calendar/parachute-fun-7/
LOCATION:Activity Room
CATEGORIES:Legacy Court
END:VEVENT
BEGIN:VEVENT
DTSTART;TZID=America/Chicago:20260303T095000
DTEND;TZID=America/Chicago:20260303T101000
DTSTAMP:20260420T214641
CREATED:20260202T023425Z
LAST-MODIFIED:20260227T031915Z
UID:10004298-1772531400-1772532600@reenaseniorliving.com
SUMMARY:Green Thumbs Garden Club
DESCRIPTION:
URL:https://reenaseniorliving.com/event-calendar/green-thumbs-garden-club-15/
LOCATION:Activity Room
CATEGORIES:Assisted Living
END:VEVENT
BEGIN:VEVENT
DTSTART;TZID=America/Chicago:20260303T091500
DTEND;TZID=America/Chicago:20260303T094500
DTSTAMP:20260420T214641
CREATED:20260202T023425Z
LAST-MODIFIED:20260303T031940Z
UID:10004297-1772529300-1772531100@reenaseniorliving.com
SUMMARY:Movement Class with Kayla
DESCRIPTION:
URL:https://reenaseniorliving.com/event-calendar/movement-class-with-kayla-151/
LOCATION:Activity Room
CATEGORIES:Assisted Living
END:VEVENT
END:VCALENDAR