BEGIN:VCALENDAR
VERSION:2.0
PRODID:-//Reena Senior Living - ECPv6.11.2.1//NONSGML v1.0//EN
CALSCALE:GREGORIAN
METHOD:PUBLISH
X-WR-CALNAME:Reena Senior Living
X-ORIGINAL-URL:https://reenaseniorliving.com
X-WR-CALDESC:Events for Reena Senior Living
REFRESH-INTERVAL;VALUE=DURATION:PT1H
X-Robots-Tag:noindex
X-PUBLISHED-TTL:PT1H
BEGIN:VTIMEZONE
TZID:America/Chicago
BEGIN:DAYLIGHT
TZOFFSETFROM:-0600
TZOFFSETTO:-0500
TZNAME:CDT
DTSTART:20260308T080000
END:DAYLIGHT
BEGIN:STANDARD
TZOFFSETFROM:-0500
TZOFFSETTO:-0600
TZNAME:CST
DTSTART:20261101T070000
END:STANDARD
END:VTIMEZONE
BEGIN:VEVENT
DTSTART;TZID=America/Chicago:20260226T091500
DTEND;TZID=America/Chicago:20260226T094500
DTSTAMP:20260421T054322
CREATED:20260128T021924Z
LAST-MODIFIED:20260226T030403Z
UID:10004244-1772097300-1772099100@reenaseniorliving.com
SUMMARY:Movement Class with Kayla
DESCRIPTION:Gentle Movement\, Strength\, Mobility\, Balance\, & More.
URL:https://reenaseniorliving.com/event-calendar/movement-class-with-kayla-148/
LOCATION:Activity Room
CATEGORIES:Assisted Living
END:VEVENT
BEGIN:VEVENT
DTSTART;TZID=America/Chicago:20260225T160000
DTEND;TZID=America/Chicago:20260225T162000
DTSTAMP:20260421T054322
CREATED:20260222T061908Z
LAST-MODIFIED:20260225T063403Z
UID:10004553-1772035200-1772036400@reenaseniorliving.com
SUMMARY:Guided Relaxation
DESCRIPTION:
URL:https://reenaseniorliving.com/event-calendar/guided-relaxation/
LOCATION:Activity Room
CATEGORIES:Legacy Court
END:VEVENT
BEGIN:VEVENT
DTSTART;TZID=America/Chicago:20260225T150000
DTEND;TZID=America/Chicago:20260225T154500
DTSTAMP:20260421T054322
CREATED:20260212T023412Z
LAST-MODIFIED:20260225T030405Z
UID:10004428-1772031600-1772034300@reenaseniorliving.com
SUMMARY:Meet and Greet Chaplain Ann - We'll have a little fun getting to know her with a some hot cocoa.
DESCRIPTION:
URL:https://reenaseniorliving.com/event-calendar/meet-and-greet-chaplain-ann-well-have-a-little-fun-getting-to-know-her-with-a-some-hot-cocoa/
LOCATION:Activity Room
CATEGORIES:Assisted Living
END:VEVENT
BEGIN:VEVENT
DTSTART;TZID=America/Chicago:20260225T150000
DTEND;TZID=America/Chicago:20260225T153000
DTSTAMP:20260421T054322
CREATED:20260127T041916Z
LAST-MODIFIED:20260225T063402Z
UID:10004218-1772031600-1772033400@reenaseniorliving.com
SUMMARY:Records with Dorothy
DESCRIPTION:
URL:https://reenaseniorliving.com/event-calendar/records-with-dorothy-24/
LOCATION:Activity Room
CATEGORIES:Legacy Court
END:VEVENT
BEGIN:VEVENT
DTSTART;TZID=America/Chicago:20260225T140000
DTEND;TZID=America/Chicago:20260225T150000
DTSTAMP:20260421T054322
CREATED:20260127T020419Z
LAST-MODIFIED:20260127T020419Z
UID:10004212-1772028000-1772031600@reenaseniorliving.com
SUMMARY:Birthday Party! Highlights of our Birthday Guests Lives.
DESCRIPTION:Cake and Beverage. Community Members with birthdays this month will have time to share something about themselves. It will be followed with music and singing at 3:00.
URL:https://reenaseniorliving.com/event-calendar/birthday-party-highlights-of-our-birthday-guests-lives-6/
LOCATION:Activity Room
CATEGORIES:Assisted Living
END:VEVENT
BEGIN:VEVENT
DTSTART;TZID=America/Chicago:20260225T140000
DTEND;TZID=America/Chicago:20260225T142500
DTSTAMP:20260421T054322
CREATED:20260127T041916Z
LAST-MODIFIED:20260221T060452Z
UID:10004219-1772028000-1772029500@reenaseniorliving.com
SUMMARY:Reading Poetry and Rhymes Together.
DESCRIPTION:
URL:https://reenaseniorliving.com/event-calendar/reading-poetry-and-rhymes-together-9/
LOCATION:Activity Room
CATEGORIES:Legacy Court
END:VEVENT
BEGIN:VEVENT
DTSTART;TZID=America/Chicago:20260225T134500
DTEND;TZID=America/Chicago:20260225T141500
DTSTAMP:20260421T054322
CREATED:20260222T061908Z
LAST-MODIFIED:20260225T063402Z
UID:10004552-1772027100-1772028900@reenaseniorliving.com
SUMMARY:Chaplain Ann Visit.
DESCRIPTION:
URL:https://reenaseniorliving.com/event-calendar/chaplain-ann-visit/
LOCATION:Activity Room
CATEGORIES:Legacy Court
END:VEVENT
BEGIN:VEVENT
DTSTART;TZID=America/Chicago:20260225T130000
DTEND;TZID=America/Chicago:20260225T134000
DTSTAMP:20260421T054322
CREATED:20260222T061907Z
LAST-MODIFIED:20260225T063402Z
UID:10004551-1772024400-1772026800@reenaseniorliving.com
SUMMARY:Wheel of Fortune - Spin and Solve on Opticon
DESCRIPTION:
URL:https://reenaseniorliving.com/event-calendar/wheel-of-fortune-spin-and-solve-on-opticon/
LOCATION:Activity Room
CATEGORIES:Legacy Court
END:VEVENT
BEGIN:VEVENT
DTSTART;TZID=America/Chicago:20260225T123000
DTEND;TZID=America/Chicago:20260225T143000
DTSTAMP:20260421T054322
CREATED:20260214T023422Z
LAST-MODIFIED:20260225T030405Z
UID:10004470-1772022600-1772029800@reenaseniorliving.com
SUMMARY:Nail Spa Day
DESCRIPTION:
URL:https://reenaseniorliving.com/event-calendar/nail-spa-day-9/
LOCATION:Activity Room
CATEGORIES:Assisted Living
END:VEVENT
BEGIN:VEVENT
DTSTART;TZID=America/Chicago:20260225T100000
DTEND;TZID=America/Chicago:20260225T101500
DTSTAMP:20260421T054322
CREATED:20260212T050442Z
LAST-MODIFIED:20260221T060438Z
UID:10004460-1772013600-1772014500@reenaseniorliving.com
SUMMARY:Sing-a-long before Catholic Church Service - All are Welcome
DESCRIPTION:
URL:https://reenaseniorliving.com/event-calendar/sing-a-long-before-catholic-church-service-all-are-welcome-2/
LOCATION:Activity Room
CATEGORIES:Legacy Court
END:VEVENT
BEGIN:VEVENT
DTSTART;TZID=America/Chicago:20260225T094500
DTEND;TZID=America/Chicago:20260225T100500
DTSTAMP:20260421T054322
CREATED:20260127T020419Z
LAST-MODIFIED:20260211T023413Z
UID:10004209-1772012700-1772013900@reenaseniorliving.com
SUMMARY:Wellness Walking Group
DESCRIPTION:
URL:https://reenaseniorliving.com/event-calendar/wellness-walking-group/
LOCATION:Activity Room
CATEGORIES:Assisted Living
END:VEVENT
BEGIN:VEVENT
DTSTART;TZID=America/Chicago:20260225T091500
DTEND;TZID=America/Chicago:20260225T094500
DTSTAMP:20260421T054322
CREATED:20260127T020419Z
LAST-MODIFIED:20260225T030405Z
UID:10004208-1772010900-1772012700@reenaseniorliving.com
SUMMARY:Movement Class with Kayla
DESCRIPTION:
URL:https://reenaseniorliving.com/event-calendar/movement-class-with-kayla-147/
LOCATION:Activity Room
CATEGORIES:Assisted Living
END:VEVENT
BEGIN:VEVENT
DTSTART;TZID=America/Chicago:20260225T090000
DTEND;TZID=America/Chicago:20260225T090000
DTSTAMP:20260421T054322
CREATED:20260222T061907Z
LAST-MODIFIED:20260225T063402Z
UID:10004550-1772010000-1772010000@reenaseniorliving.com
SUMMARY:Babies - Clean them up and redress them
DESCRIPTION:
URL:https://reenaseniorliving.com/event-calendar/babies-clean-them-up-and-redress-them/
LOCATION:Activity Room
CATEGORIES:Legacy Court
END:VEVENT
BEGIN:VEVENT
DTSTART;TZID=America/Chicago:20260224T174500
DTEND;TZID=America/Chicago:20260224T184500
DTSTAMP:20260421T054322
CREATED:20260126T020429Z
LAST-MODIFIED:20260224T030404Z
UID:10004192-1771955100-1771958700@reenaseniorliving.com
SUMMARY:Hand and Foot or Garbage.
DESCRIPTION:
URL:https://reenaseniorliving.com/event-calendar/game-night-6/
LOCATION:Activity Room
CATEGORIES:Assisted Living
END:VEVENT
BEGIN:VEVENT
DTSTART;TZID=America/Chicago:20260224T140000
DTEND;TZID=America/Chicago:20260224T150000
DTSTAMP:20260421T054322
CREATED:20260126T020429Z
LAST-MODIFIED:20260224T030404Z
UID:10004191-1771941600-1771945200@reenaseniorliving.com
SUMMARY:Birthday Party! Highlights of our Birthday Guests Lives.
DESCRIPTION:Cake and Beverage. Community Members with birthdays this month will have time to share something about themselves. It will be followed with music and singing at 3:00.
URL:https://reenaseniorliving.com/event-calendar/birthday-party-highlights-of-our-birthday-guests-lives-5/
LOCATION:Activity Room
CATEGORIES:Assisted Living
END:VEVENT
BEGIN:VEVENT
DTSTART;TZID=America/Chicago:20260224T125500
DTEND;TZID=America/Chicago:20260224T134500
DTSTAMP:20260421T054322
CREATED:20260126T020429Z
LAST-MODIFIED:20260224T061902Z
UID:10004190-1771937700-1771940700@reenaseniorliving.com
SUMMARY:TRYathlon Day. Walking or Seated March. Come cheer them on!
DESCRIPTION:
URL:https://reenaseniorliving.com/event-calendar/tryathlon-day-join-in-on-the-fun-walking-or-seated-march-2/
LOCATION:Activity Room
CATEGORIES:Assisted Living,Legacy Court
END:VEVENT
BEGIN:VEVENT
DTSTART;TZID=America/Chicago:20260224T100000
DTEND;TZID=America/Chicago:20260224T113000
DTSTAMP:20260421T054322
CREATED:20260220T030404Z
LAST-MODIFIED:20260224T030403Z
UID:10004530-1771927200-1771932600@reenaseniorliving.com
SUMMARY:Let's prep the cardboard playhouse for our friends at BASE. Coloring open house.
DESCRIPTION:
URL:https://reenaseniorliving.com/event-calendar/lets-prep-the-cardboard-playhouse-for-our-friends-at-base-coloring-open-house/
LOCATION:Activity Room
CATEGORIES:Assisted Living
END:VEVENT
BEGIN:VEVENT
DTSTART;TZID=America/Chicago:20260224T095000
DTEND;TZID=America/Chicago:20260224T101000
DTSTAMP:20260421T054322
CREATED:20260126T020428Z
LAST-MODIFIED:20260219T030430Z
UID:10004189-1771926600-1771927800@reenaseniorliving.com
SUMMARY:Green Thumbs Garden Club
DESCRIPTION:
URL:https://reenaseniorliving.com/event-calendar/green-thumbs-garden-club-13/
LOCATION:Activity Room
CATEGORIES:Assisted Living
END:VEVENT
BEGIN:VEVENT
DTSTART;TZID=America/Chicago:20260224T091500
DTEND;TZID=America/Chicago:20260224T094500
DTSTAMP:20260421T054322
CREATED:20260126T020428Z
LAST-MODIFIED:20260224T030403Z
UID:10004188-1771924500-1771926300@reenaseniorliving.com
SUMMARY:Movement Class with Kayla
DESCRIPTION:
URL:https://reenaseniorliving.com/event-calendar/movement-class-with-kayla-146/
LOCATION:Activity Room
CATEGORIES:Assisted Living
END:VEVENT
BEGIN:VEVENT
DTSTART;TZID=America/Chicago:20260224T090000
DTEND;TZID=America/Chicago:20260224T094500
DTSTAMP:20260421T054322
CREATED:20260222T061904Z
LAST-MODIFIED:20260224T061902Z
UID:10004546-1771923600-1771926300@reenaseniorliving.com
SUMMARY:Painting Time: In a bag tactile fun.
DESCRIPTION:
URL:https://reenaseniorliving.com/event-calendar/painting-time-in-a-bag-tactile-fun/
LOCATION:Activity Room
CATEGORIES:Legacy Court
END:VEVENT
BEGIN:VEVENT
DTSTART;TZID=America/Chicago:20260223T153000
DTEND;TZID=America/Chicago:20260223T161500
DTSTAMP:20260421T054322
CREATED:20260127T020419Z
LAST-MODIFIED:20260223T030404Z
UID:10004207-1771860600-1771863300@reenaseniorliving.com
SUMMARY:Knitting\, Crochet\, & Crafting. This week ladies from Senior Center Crafting Group will be visting
DESCRIPTION:
URL:https://reenaseniorliving.com/event-calendar/knitting-crochet-crafting-and-social-time-4/
LOCATION:Activity Room
CATEGORIES:Assisted Living
END:VEVENT
BEGIN:VEVENT
DTSTART;TZID=America/Chicago:20260223T151500
DTEND;TZID=America/Chicago:20260223T161500
DTSTAMP:20260421T054322
CREATED:20260125T020407Z
LAST-MODIFIED:20260126T020428Z
UID:10004174-1771859700-1771863300@reenaseniorliving.com
SUMMARY:Knitting and Crafting Group! Bring your projects and share time together.
DESCRIPTION:
URL:https://reenaseniorliving.com/event-calendar/knitting-and-crafting-group-bring-your-projects-and-share-time-together-2/
LOCATION:Activity Room
CATEGORIES:Assisted Living
END:VEVENT
BEGIN:VEVENT
DTSTART;TZID=America/Chicago:20260223T130000
DTEND;TZID=America/Chicago:20260223T143000
DTSTAMP:20260421T054322
CREATED:20260128T021924Z
LAST-MODIFIED:20260213T023416Z
UID:10004242-1771851600-1771857000@reenaseniorliving.com
SUMMARY:Nail Spa Day
DESCRIPTION:
URL:https://reenaseniorliving.com/event-calendar/nail-spa-day-6/
LOCATION:Activity Room
CATEGORIES:Assisted Living
END:VEVENT
BEGIN:VEVENT
DTSTART;TZID=America/Chicago:20260223T112000
DTEND;TZID=America/Chicago:20260223T113000
DTSTAMP:20260421T054322
CREATED:20260220T030403Z
LAST-MODIFIED:20260223T030404Z
UID:10004529-1771845600-1771846200@reenaseniorliving.com
SUMMARY:Green Thumbs Garden Club
DESCRIPTION:
URL:https://reenaseniorliving.com/event-calendar/green-thumbs-garden-club-21/
LOCATION:Activity Room
CATEGORIES:Assisted Living
END:VEVENT
BEGIN:VEVENT
DTSTART;TZID=America/Chicago:20260223T103000
DTEND;TZID=America/Chicago:20260223T111000
DTSTAMP:20260421T054322
CREATED:20260212T023410Z
LAST-MODIFIED:20260223T030404Z
UID:10004427-1771842600-1771845000@reenaseniorliving.com
SUMMARY:Fox Talk - Trivia Fun with Coffee and Cookies!
DESCRIPTION:
URL:https://reenaseniorliving.com/event-calendar/fox-talk/
LOCATION:Activity Room
CATEGORIES:Assisted Living
END:VEVENT
BEGIN:VEVENT
DTSTART;TZID=America/Chicago:20260223T103000
DTEND;TZID=America/Chicago:20260223T105000
DTSTAMP:20260421T054322
CREATED:20260125T040416Z
LAST-MODIFIED:20260221T060408Z
UID:10004179-1771842600-1771843800@reenaseniorliving.com
SUMMARY:Balance Training with Kayla - Hallway near Activity Room
DESCRIPTION:
URL:https://reenaseniorliving.com/event-calendar/balance-training-with-kayla-hallway-near-activity-room-21/
LOCATION:Activity Room
CATEGORIES:Legacy Court
END:VEVENT
BEGIN:VEVENT
DTSTART;TZID=America/Chicago:20260223T100000
DTEND;TZID=America/Chicago:20260223T102500
DTSTAMP:20260421T054322
CREATED:20260206T023414Z
LAST-MODIFIED:20260223T030403Z
UID:10004347-1771840800-1771842300@reenaseniorliving.com
SUMMARY:Interview with Kavan for the Big Show! TRYathlon Team please join us.
DESCRIPTION:
URL:https://reenaseniorliving.com/event-calendar/interview-with-kavan-for-the-big-show-tryathlon-team-please-join-us/
LOCATION:Activity Room
CATEGORIES:Assisted Living
END:VEVENT
BEGIN:VEVENT
DTSTART;TZID=America/Chicago:20260223T095000
DTEND;TZID=America/Chicago:20260223T103000
DTSTAMP:20260421T054322
CREATED:20260125T040416Z
LAST-MODIFIED:20260221T060420Z
UID:10004178-1771840200-1771842600@reenaseniorliving.com
SUMMARY:Games!
DESCRIPTION:
URL:https://reenaseniorliving.com/event-calendar/games-with-kayla-6/
LOCATION:Activity Room
CATEGORIES:Legacy Court
END:VEVENT
BEGIN:VEVENT
DTSTART;TZID=America/Chicago:20260223T093000
DTEND;TZID=America/Chicago:20260223T100000
DTSTAMP:20260421T054322
CREATED:20260222T061903Z
LAST-MODIFIED:20260223T062003Z
UID:10004543-1771839000-1771840800@reenaseniorliving.com
SUMMARY:Sing along with Laurie
DESCRIPTION:
URL:https://reenaseniorliving.com/event-calendar/sing-along-with-laurie/
LOCATION:Activity Room
CATEGORIES:Legacy Court
END:VEVENT
BEGIN:VEVENT
DTSTART;TZID=America/Chicago:20260223T091500
DTEND;TZID=America/Chicago:20260223T094500
DTSTAMP:20260421T054322
CREATED:20260125T020407Z
LAST-MODIFIED:20260223T030403Z
UID:10004172-1771838100-1771839900@reenaseniorliving.com
SUMMARY:Movement with Kayla (AR)
DESCRIPTION:
URL:https://reenaseniorliving.com/event-calendar/movement-with-kayla-ar-9/
LOCATION:Activity Room
CATEGORIES:Assisted Living
END:VEVENT
END:VCALENDAR