BEGIN:VCALENDAR
VERSION:2.0
PRODID:-//Reena Senior Living - ECPv6.11.2.1//NONSGML v1.0//EN
CALSCALE:GREGORIAN
METHOD:PUBLISH
X-ORIGINAL-URL:https://reenaseniorliving.com
X-WR-CALDESC:Events for Reena Senior Living
REFRESH-INTERVAL;VALUE=DURATION:PT1H
X-Robots-Tag:noindex
X-PUBLISHED-TTL:PT1H
BEGIN:VTIMEZONE
TZID:America/Chicago
BEGIN:DAYLIGHT
TZOFFSETFROM:-0600
TZOFFSETTO:-0500
TZNAME:CDT
DTSTART:20260308T080000
END:DAYLIGHT
BEGIN:STANDARD
TZOFFSETFROM:-0500
TZOFFSETTO:-0600
TZNAME:CST
DTSTART:20261101T070000
END:STANDARD
END:VTIMEZONE
BEGIN:VEVENT
DTSTART;TZID=America/Chicago:20260219T091500
DTEND;TZID=America/Chicago:20260219T094500
DTSTAMP:20260421T120609
CREATED:20260121T020413Z
LAST-MODIFIED:20260219T030403Z
UID:10004126-1771492500-1771494300@reenaseniorliving.com
SUMMARY:Movement Class with Kayla
DESCRIPTION:Gentle Movement\, Strength\, Mobility\, Balance\, & More.
URL:https://reenaseniorliving.com/event-calendar/movement-class-with-kayla-144/
LOCATION:Activity Room
CATEGORIES:Assisted Living
END:VEVENT
BEGIN:VEVENT
DTSTART;TZID=America/Chicago:20260219T085000
DTEND;TZID=America/Chicago:20260219T091000
DTSTAMP:20260421T120609
CREATED:20260121T020413Z
LAST-MODIFIED:20260127T020418Z
UID:10004127-1771491000-1771492200@reenaseniorliving.com
SUMMARY:Green Thumbs Garden Club
DESCRIPTION:
URL:https://reenaseniorliving.com/event-calendar/green-thumbs-garden-club-12/
LOCATION:Activity Room
CATEGORIES:Assisted Living
END:VEVENT
BEGIN:VEVENT
DTSTART;TZID=America/Chicago:20260219T085000
DTEND;TZID=America/Chicago:20260219T090500
DTSTAMP:20260421T120609
CREATED:20260128T021922Z
LAST-MODIFIED:20260219T030403Z
UID:10004235-1771491000-1771491900@reenaseniorliving.com
SUMMARY:Green Thumbs.
DESCRIPTION:
URL:https://reenaseniorliving.com/event-calendar/green-thumbs-4/
LOCATION:Activity Room
CATEGORIES:Assisted Living
END:VEVENT
BEGIN:VEVENT
DTSTART;TZID=America/Chicago:20260218T140000
DTEND;TZID=America/Chicago:20260218T143000
DTSTAMP:20260421T120609
CREATED:20260128T021922Z
LAST-MODIFIED:20260202T023422Z
UID:10004233-1771423200-1771425000@reenaseniorliving.com
SUMMARY:Olympic Trivia & TBD Review of Medals with Beverage.
DESCRIPTION:
URL:https://reenaseniorliving.com/event-calendar/olympic-trivia-tbd-review-of-medals-with-beverage/
LOCATION:Activity Room
CATEGORIES:Assisted Living
END:VEVENT
BEGIN:VEVENT
DTSTART;TZID=America/Chicago:20260218T140000
DTEND;TZID=America/Chicago:20260218T142500
DTSTAMP:20260421T120609
CREATED:20260120T040421Z
LAST-MODIFIED:20260211T050526Z
UID:10004119-1771423200-1771424700@reenaseniorliving.com
SUMMARY:Reading Poetry and Rhymes Together.
DESCRIPTION:
URL:https://reenaseniorliving.com/event-calendar/reading-poetry-and-rhymes-together-8/
LOCATION:Activity Room
CATEGORIES:Legacy Court
END:VEVENT
BEGIN:VEVENT
DTSTART;TZID=America/Chicago:20260218T133000
DTEND;TZID=America/Chicago:20260218T140000
DTSTAMP:20260421T120609
CREATED:20260120T040421Z
LAST-MODIFIED:20260211T050526Z
UID:10004118-1771421400-1771423200@reenaseniorliving.com
SUMMARY:Records with Dorothy
DESCRIPTION:
URL:https://reenaseniorliving.com/event-calendar/records-with-dorothy-23/
LOCATION:Activity Room
CATEGORIES:Legacy Court
END:VEVENT
BEGIN:VEVENT
DTSTART;TZID=America/Chicago:20260218T130000
DTEND;TZID=America/Chicago:20260218T133000
DTSTAMP:20260421T120609
CREATED:20260212T050421Z
LAST-MODIFIED:20260218T051904Z
UID:10004449-1771419600-1771421400@reenaseniorliving.com
SUMMARY:Match Games!
DESCRIPTION:
URL:https://reenaseniorliving.com/event-calendar/match-games/
LOCATION:Activity Room
CATEGORIES:Legacy Court
END:VEVENT
BEGIN:VEVENT
DTSTART;TZID=America/Chicago:20260218T100000
DTEND;TZID=America/Chicago:20260218T101500
DTSTAMP:20260421T120609
CREATED:20260212T050420Z
LAST-MODIFIED:20260218T051904Z
UID:10004448-1771408800-1771409700@reenaseniorliving.com
SUMMARY:Sing-a-long before Catholic Church Service - All are Welcome
DESCRIPTION:
URL:https://reenaseniorliving.com/event-calendar/sing-a-long-before-catholic-church-service-all-are-welcome/
LOCATION:Activity Room
CATEGORIES:Legacy Court
END:VEVENT
BEGIN:VEVENT
DTSTART;TZID=America/Chicago:20260218T094500
DTEND;TZID=America/Chicago:20260218T100500
DTSTAMP:20260421T120609
CREATED:20260120T020410Z
LAST-MODIFIED:20260211T023409Z
UID:10004111-1771407900-1771409100@reenaseniorliving.com
SUMMARY:Wellness Walking Group
DESCRIPTION:
URL:https://reenaseniorliving.com/event-calendar/wellness-walking-group-self-paced-guided-by-community-life-wellness-team-4/
LOCATION:Activity Room
CATEGORIES:Assisted Living
END:VEVENT
BEGIN:VEVENT
DTSTART;TZID=America/Chicago:20260218T091500
DTEND;TZID=America/Chicago:20260218T094500
DTSTAMP:20260421T120609
CREATED:20260120T020410Z
LAST-MODIFIED:20260218T030404Z
UID:10004110-1771406100-1771407900@reenaseniorliving.com
SUMMARY:Movement Class with Kayla
DESCRIPTION:
URL:https://reenaseniorliving.com/event-calendar/movement-class-with-kayla-143/
LOCATION:Activity Room
CATEGORIES:Assisted Living
END:VEVENT
BEGIN:VEVENT
DTSTART;TZID=America/Chicago:20260217T174500
DTEND;TZID=America/Chicago:20260217T184500
DTSTAMP:20260421T120609
CREATED:20260119T020409Z
LAST-MODIFIED:20260217T030404Z
UID:10004089-1771350300-1771353900@reenaseniorliving.com
SUMMARY:Bowling Night!
DESCRIPTION:
URL:https://reenaseniorliving.com/event-calendar/game-night-5/
LOCATION:Activity Room
CATEGORIES:Assisted Living
END:VEVENT
BEGIN:VEVENT
DTSTART;TZID=America/Chicago:20260217T153000
DTEND;TZID=America/Chicago:20260217T163000
DTSTAMP:20260421T120609
CREATED:20260212T050418Z
LAST-MODIFIED:20260217T051909Z
UID:10004446-1771342200-1771345800@reenaseniorliving.com
SUMMARY:Let's Make a Thank You Card for the Chamber Orchestra!
DESCRIPTION:
URL:https://reenaseniorliving.com/event-calendar/lets-make-a-thank-you-card-for-the-chamber-orchestra/
LOCATION:Activity Room
CATEGORIES:Legacy Court
END:VEVENT
BEGIN:VEVENT
DTSTART;TZID=America/Chicago:20260217T141500
DTEND;TZID=America/Chicago:20260217T150000
DTSTAMP:20260421T120609
CREATED:20260128T043412Z
LAST-MODIFIED:20260217T051908Z
UID:10004248-1771337700-1771340400@reenaseniorliving.com
SUMMARY:Shrove Tuesday Party!
DESCRIPTION:
URL:https://reenaseniorliving.com/event-calendar/shrove-tuesday-party/
LOCATION:Activity Room
CATEGORIES:Legacy Court
END:VEVENT
BEGIN:VEVENT
DTSTART;TZID=America/Chicago:20260217T140000
DTEND;TZID=America/Chicago:20260217T143000
DTSTAMP:20260421T120609
CREATED:20260128T021922Z
LAST-MODIFIED:20260202T023421Z
UID:10004232-1771336800-1771338600@reenaseniorliving.com
SUMMARY:Biking and Arm Crank Practice.
DESCRIPTION:
URL:https://reenaseniorliving.com/event-calendar/biking-and-arm-crank-practice/
LOCATION:Activity Room
CATEGORIES:Assisted Living
END:VEVENT
BEGIN:VEVENT
DTSTART;TZID=America/Chicago:20260217T125500
DTEND;TZID=America/Chicago:20260217T135500
DTSTAMP:20260421T120609
CREATED:20260119T020409Z
LAST-MODIFIED:20260217T051907Z
UID:10004088-1771332900-1771336500@reenaseniorliving.com
SUMMARY:TRYathlon Day. Join in on the fun! Walking or Seated March.
DESCRIPTION:
URL:https://reenaseniorliving.com/event-calendar/tryathlon-day-join-in-on-the-fun-walking-or-seated-march/
LOCATION:Activity Room
CATEGORIES:Assisted Living,Legacy Court
END:VEVENT
BEGIN:VEVENT
DTSTART;TZID=America/Chicago:20260217T103000
DTEND;TZID=America/Chicago:20260217T105000
DTSTAMP:20260421T120609
CREATED:20260128T021922Z
LAST-MODIFIED:20260217T030404Z
UID:10004231-1771324200-1771325400@reenaseniorliving.com
SUMMARY:Forklift Driving! 18" tall; remote controlled. We will be receiving cool robots. Come Check it Out!
DESCRIPTION:
URL:https://reenaseniorliving.com/event-calendar/forklift-driving-18-tall-remote-controlled-we-will-be-receiving-cool-robots-come-check-it-out/
LOCATION:Activity Room
CATEGORIES:Assisted Living
END:VEVENT
BEGIN:VEVENT
DTSTART;TZID=America/Chicago:20260217T100000
DTEND;TZID=America/Chicago:20260217T101500
DTSTAMP:20260421T120609
CREATED:20260211T023408Z
LAST-MODIFIED:20260217T030403Z
UID:10004409-1771322400-1771323300@reenaseniorliving.com
SUMMARY:TED Talks - Laughing Yoga Ted Talk 6minutes YouTube
DESCRIPTION:
URL:https://reenaseniorliving.com/event-calendar/ted-talks-laughing-yoga-ted-talk-6minutes-youtube/
LOCATION:Activity Room
CATEGORIES:Assisted Living
END:VEVENT
BEGIN:VEVENT
DTSTART;TZID=America/Chicago:20260217T094500
DTEND;TZID=America/Chicago:20260217T104500
DTSTAMP:20260421T120609
CREATED:20260212T050416Z
LAST-MODIFIED:20260217T051907Z
UID:10004445-1771321500-1771325100@reenaseniorliving.com
SUMMARY:Country Music Classics
DESCRIPTION:
URL:https://reenaseniorliving.com/event-calendar/country-music-classics/
LOCATION:Activity Room
CATEGORIES:Legacy Court
END:VEVENT
BEGIN:VEVENT
DTSTART;TZID=America/Chicago:20260217T091500
DTEND;TZID=America/Chicago:20260217T094500
DTSTAMP:20260421T120609
CREATED:20260119T020409Z
LAST-MODIFIED:20260217T030403Z
UID:10004086-1771319700-1771321500@reenaseniorliving.com
SUMMARY:Movement Class with Kayla
DESCRIPTION:
URL:https://reenaseniorliving.com/event-calendar/movement-class-with-kayla-141/
LOCATION:Activity Room
CATEGORIES:Assisted Living
END:VEVENT
BEGIN:VEVENT
DTSTART;TZID=America/Chicago:20260217T090000
DTEND;TZID=America/Chicago:20260217T090000
DTSTAMP:20260421T120609
CREATED:20260212T050415Z
LAST-MODIFIED:20260217T051906Z
UID:10004443-1771318800-1771318800@reenaseniorliving.com
SUMMARY:Social Time - Events\, News\, & Reminisce
DESCRIPTION:
URL:https://reenaseniorliving.com/event-calendar/social-time-events-news-reminisce-8/
LOCATION:Activity Room
CATEGORIES:Legacy Court
END:VEVENT
BEGIN:VEVENT
DTSTART;TZID=America/Chicago:20260217T085000
DTEND;TZID=America/Chicago:20260217T091000
DTSTAMP:20260421T120609
CREATED:20260119T020409Z
LAST-MODIFIED:20260217T030403Z
UID:10004087-1771318200-1771319400@reenaseniorliving.com
SUMMARY:Green Thumbs Garden Club
DESCRIPTION:
URL:https://reenaseniorliving.com/event-calendar/green-thumbs-garden-club-11/
LOCATION:Activity Room
CATEGORIES:Assisted Living
END:VEVENT
BEGIN:VEVENT
DTSTART;TZID=America/Chicago:20260216T153000
DTEND;TZID=America/Chicago:20260216T161500
DTSTAMP:20260421T120609
CREATED:20260127T020417Z
LAST-MODIFIED:20260216T024906Z
UID:10004205-1771255800-1771258500@reenaseniorliving.com
SUMMARY:Knitting\, Crochet\, Crafting\, and Social Time.
DESCRIPTION:
URL:https://reenaseniorliving.com/event-calendar/knitting-crochet-crafting-and-social-time-3/
LOCATION:Activity Room
CATEGORIES:Assisted Living
END:VEVENT
BEGIN:VEVENT
DTSTART;TZID=America/Chicago:20260216T133000
DTEND;TZID=America/Chicago:20260216T135000
DTSTAMP:20260421T120609
CREATED:20260203T023437Z
LAST-MODIFIED:20260205T023504Z
UID:10004309-1771248600-1771249800@reenaseniorliving.com
SUMMARY:Review of Medals the USA Teams have won!
DESCRIPTION:
URL:https://reenaseniorliving.com/event-calendar/review-of-medals-the-usa-teams-have-won/
LOCATION:Activity Room
CATEGORIES:Assisted Living
END:VEVENT
BEGIN:VEVENT
DTSTART;TZID=America/Chicago:20260216T130000
DTEND;TZID=America/Chicago:20260216T133000
DTSTAMP:20260421T120609
CREATED:20260128T021921Z
LAST-MODIFIED:20260216T024906Z
UID:10004230-1771246800-1771248600@reenaseniorliving.com
SUMMARY:Spin and Solve - Think Wheel of Fortune. It's all about the fun!
DESCRIPTION:
URL:https://reenaseniorliving.com/event-calendar/spin-and-solve-think-wheel-of-fortune-its-all-about-the-fun/
LOCATION:Activity Room
CATEGORIES:Assisted Living
END:VEVENT
BEGIN:VEVENT
DTSTART;TZID=America/Chicago:20260216T103000
DTEND;TZID=America/Chicago:20260216T111500
DTSTAMP:20260421T120609
CREATED:20260212T050413Z
LAST-MODIFIED:20260216T051907Z
UID:10004441-1771237800-1771240500@reenaseniorliving.com
SUMMARY:Water Painting
DESCRIPTION:
URL:https://reenaseniorliving.com/event-calendar/water-painting/
LOCATION:Activity Room
CATEGORIES:Legacy Court
END:VEVENT
BEGIN:VEVENT
DTSTART;TZID=America/Chicago:20260216T103000
DTEND;TZID=America/Chicago:20260216T105000
DTSTAMP:20260421T120609
CREATED:20260118T035250Z
LAST-MODIFIED:20260211T050457Z
UID:10004077-1771237800-1771239000@reenaseniorliving.com
SUMMARY:Balance Training with Kayla - Hallway near Activity Room
DESCRIPTION:
URL:https://reenaseniorliving.com/event-calendar/balance-training-with-kayla-hallway-near-activity-room-20/
LOCATION:Activity Room
CATEGORIES:Legacy Court
END:VEVENT
BEGIN:VEVENT
DTSTART;TZID=America/Chicago:20260216T101500
DTEND;TZID=America/Chicago:20260216T113000
DTSTAMP:20260421T120609
CREATED:20260118T020420Z
LAST-MODIFIED:20260216T024905Z
UID:10004072-1771236900-1771241400@reenaseniorliving.com
SUMMARY:Trinity Lutheran Visit with Coffee Social Hour
DESCRIPTION:Coffee will be offered. Please join us.
URL:https://reenaseniorliving.com/event-calendar/trinity-lutheran-visit-with-coffee-social-hour-3/
LOCATION:Activity Room
CATEGORIES:Assisted Living
END:VEVENT
BEGIN:VEVENT
DTSTART;TZID=America/Chicago:20260216T095000
DTEND;TZID=America/Chicago:20260216T103000
DTSTAMP:20260421T120609
CREATED:20260118T035250Z
LAST-MODIFIED:20260211T050456Z
UID:10004076-1771235400-1771237800@reenaseniorliving.com
SUMMARY:Games!
DESCRIPTION:
URL:https://reenaseniorliving.com/event-calendar/games-with-kayla-5/
LOCATION:Activity Room
CATEGORIES:Legacy Court
END:VEVENT
BEGIN:VEVENT
DTSTART;TZID=America/Chicago:20260216T094500
DTEND;TZID=America/Chicago:20260216T100000
DTSTAMP:20260421T120609
CREATED:20260128T021921Z
LAST-MODIFIED:20260205T044933Z
UID:10004229-1771235100-1771236000@reenaseniorliving.com
SUMMARY:Punch Ball Fun! Think yoyo but with more ease and fun!
DESCRIPTION:
URL:https://reenaseniorliving.com/event-calendar/punch-ball-fun-think-yoyo-but-with-more-ease-and-fun/
LOCATION:Activity Room
CATEGORIES:Assisted Living,Legacy Court
END:VEVENT
BEGIN:VEVENT
DTSTART;TZID=America/Chicago:20260216T091500
DTEND;TZID=America/Chicago:20260216T094500
DTSTAMP:20260421T120609
CREATED:20260118T020420Z
LAST-MODIFIED:20260216T024905Z
UID:10004070-1771233300-1771235100@reenaseniorliving.com
SUMMARY:Movement with Kayla (AR)
DESCRIPTION:
URL:https://reenaseniorliving.com/event-calendar/movement-with-kayla-ar-8/
LOCATION:Activity Room
CATEGORIES:Assisted Living
END:VEVENT
END:VCALENDAR