BEGIN:VCALENDAR
VERSION:2.0
PRODID:-//Reena Senior Living - ECPv6.11.2.1//NONSGML v1.0//EN
CALSCALE:GREGORIAN
METHOD:PUBLISH
X-ORIGINAL-URL:https://reenaseniorliving.com
X-WR-CALDESC:Events for Reena Senior Living
REFRESH-INTERVAL;VALUE=DURATION:PT1H
X-Robots-Tag:noindex
X-PUBLISHED-TTL:PT1H
BEGIN:VTIMEZONE
TZID:America/Chicago
BEGIN:DAYLIGHT
TZOFFSETFROM:-0600
TZOFFSETTO:-0500
TZNAME:CDT
DTSTART:20260308T080000
END:DAYLIGHT
BEGIN:STANDARD
TZOFFSETFROM:-0500
TZOFFSETTO:-0600
TZNAME:CST
DTSTART:20261101T070000
END:STANDARD
END:VTIMEZONE
BEGIN:VEVENT
DTSTART;TZID=America/Chicago:20260205T093000
DTEND;TZID=America/Chicago:20260205T100000
DTSTAMP:20260421T232840
CREATED:20260131T043411Z
LAST-MODIFIED:20260205T044922Z
UID:10004275-1770283800-1770285600@reenaseniorliving.com
SUMMARY:Ping Pong Game
DESCRIPTION:
URL:https://reenaseniorliving.com/event-calendar/ping-pong-game/
LOCATION:Activity Room
CATEGORIES:Legacy Court
END:VEVENT
BEGIN:VEVENT
DTSTART;TZID=America/Chicago:20260205T091500
DTEND;TZID=America/Chicago:20260205T094500
DTSTAMP:20260421T232840
CREATED:20260107T014939Z
LAST-MODIFIED:20260205T023403Z
UID:10003915-1770282900-1770284700@reenaseniorliving.com
SUMMARY:Movement Class with Kayla
DESCRIPTION:Gentle Movement\, Strength\, Mobility\, Balance\, & More.
URL:https://reenaseniorliving.com/event-calendar/movement-class-with-kayla-135/
LOCATION:Activity Room
CATEGORIES:Assisted Living
END:VEVENT
BEGIN:VEVENT
DTSTART;TZID=America/Chicago:20260204T140000
DTEND;TZID=America/Chicago:20260204T142500
DTSTAMP:20260421T232840
CREATED:20260106T030412Z
LAST-MODIFIED:20260204T044912Z
UID:10003910-1770213600-1770215100@reenaseniorliving.com
SUMMARY:Reading Poetry and Rhymes Together.
DESCRIPTION:
URL:https://reenaseniorliving.com/event-calendar/reading-poetry-and-rhymes-together-5/
LOCATION:Activity Room
CATEGORIES:Legacy Court
END:VEVENT
BEGIN:VEVENT
DTSTART;TZID=America/Chicago:20260204T133000
DTEND;TZID=America/Chicago:20260204T140000
DTSTAMP:20260421T232840
CREATED:20260106T030412Z
LAST-MODIFIED:20260204T044912Z
UID:10003909-1770211800-1770213600@reenaseniorliving.com
SUMMARY:Music\, Music\, Music
DESCRIPTION:
URL:https://reenaseniorliving.com/event-calendar/records-with-dorothy-21/
LOCATION:Activity Room
CATEGORIES:Legacy Court
END:VEVENT
BEGIN:VEVENT
DTSTART;TZID=America/Chicago:20260204T130000
DTEND;TZID=America/Chicago:20260204T134500
DTSTAMP:20260421T232840
CREATED:20260128T021917Z
LAST-MODIFIED:20260204T023402Z
UID:10004224-1770210000-1770212700@reenaseniorliving.com
SUMMARY:Let's Honor the Olympic Games with some fun! Ice Curling & Hoop Racing. Join in the Fun!
DESCRIPTION:
URL:https://reenaseniorliving.com/event-calendar/lets-honor-the-olympic-games-with-some-fun-ice-curling-hoop-racing-join-in-the-fun/
LOCATION:Activity Room
CATEGORIES:Assisted Living,Legacy Court
END:VEVENT
BEGIN:VEVENT
DTSTART;TZID=America/Chicago:20260204T121500
DTEND;TZID=America/Chicago:20260204T130000
DTSTAMP:20260421T232840
CREATED:20260106T014912Z
LAST-MODIFIED:20260204T023401Z
UID:10003905-1770207300-1770210000@reenaseniorliving.com
SUMMARY:Resident Council
DESCRIPTION:
URL:https://reenaseniorliving.com/event-calendar/resident-council-10/
LOCATION:Activity Room
CATEGORIES:Assisted Living
END:VEVENT
BEGIN:VEVENT
DTSTART;TZID=America/Chicago:20260204T094500
DTEND;TZID=America/Chicago:20260204T100500
DTSTAMP:20260421T232840
CREATED:20260106T014912Z
LAST-MODIFIED:20260204T023401Z
UID:10003903-1770198300-1770199500@reenaseniorliving.com
SUMMARY:Wellness Walking Group
DESCRIPTION:
URL:https://reenaseniorliving.com/event-calendar/wellness-walking-group-self-paced-guided-by-community-life-wellness-team-2/
LOCATION:Activity Room
CATEGORIES:Assisted Living
END:VEVENT
BEGIN:VEVENT
DTSTART;TZID=America/Chicago:20260204T091500
DTEND;TZID=America/Chicago:20260204T094500
DTSTAMP:20260421T232840
CREATED:20260106T014912Z
LAST-MODIFIED:20260204T023401Z
UID:10003902-1770196500-1770198300@reenaseniorliving.com
SUMMARY:Movement Class with Kayla
DESCRIPTION:
URL:https://reenaseniorliving.com/event-calendar/movement-class-with-kayla-134/
LOCATION:Activity Room
CATEGORIES:Assisted Living
END:VEVENT
BEGIN:VEVENT
DTSTART;TZID=America/Chicago:20260203T171500
DTEND;TZID=America/Chicago:20260203T190000
DTSTAMP:20260421T232840
CREATED:20260105T014906Z
LAST-MODIFIED:20260203T023435Z
UID:10003892-1770138900-1770145200@reenaseniorliving.com
SUMMARY:Hand and Foot Card Night
DESCRIPTION:
URL:https://reenaseniorliving.com/event-calendar/game-night-2/
LOCATION:Activity Room
CATEGORIES:Assisted Living
END:VEVENT
BEGIN:VEVENT
DTSTART;TZID=America/Chicago:20260203T125000
DTEND;TZID=America/Chicago:20260203T135000
DTSTAMP:20260421T232840
CREATED:20260105T014906Z
LAST-MODIFIED:20260203T043416Z
UID:10003891-1770123000-1770126600@reenaseniorliving.com
SUMMARY:TRYathlon Day. Join in on the fun! Walking or Seated March.
DESCRIPTION:
URL:https://reenaseniorliving.com/event-calendar/tryathlon-day-join-in-on-the-fun-2/
LOCATION:Activity Room
CATEGORIES:Assisted Living,Legacy Court
END:VEVENT
BEGIN:VEVENT
DTSTART;TZID=America/Chicago:20260203T101000
DTEND;TZID=America/Chicago:20260203T103000
DTSTAMP:20260421T232840
CREATED:20260108T014935Z
LAST-MODIFIED:20260203T023435Z
UID:10003930-1770113400-1770114600@reenaseniorliving.com
SUMMARY:Green Thumbs Garden Club
DESCRIPTION:
URL:https://reenaseniorliving.com/event-calendar/green-thumbs-garden-club-7/
LOCATION:Activity Room
CATEGORIES:Assisted Living
END:VEVENT
BEGIN:VEVENT
DTSTART;TZID=America/Chicago:20260203T100000
DTEND;TZID=America/Chicago:20260203T104500
DTSTAMP:20260421T232840
CREATED:20260131T043409Z
LAST-MODIFIED:20260203T043416Z
UID:10004272-1770112800-1770115500@reenaseniorliving.com
SUMMARY:Biking Time - Arm or Leg
DESCRIPTION:
URL:https://reenaseniorliving.com/event-calendar/biking-time-arm-or-leg/
LOCATION:Activity Room
CATEGORIES:Legacy Court
END:VEVENT
BEGIN:VEVENT
DTSTART;TZID=America/Chicago:20260203T094500
DTEND;TZID=America/Chicago:20260203T100000
DTSTAMP:20260421T232840
CREATED:20260120T020406Z
LAST-MODIFIED:20260203T023435Z
UID:10004105-1770111900-1770112800@reenaseniorliving.com
SUMMARY:Arm Crank (Arm Biking)
DESCRIPTION:
URL:https://reenaseniorliving.com/event-calendar/arm-bike-1-minute-per-person/
LOCATION:Activity Room
CATEGORIES:Assisted Living
END:VEVENT
BEGIN:VEVENT
DTSTART;TZID=America/Chicago:20260203T091500
DTEND;TZID=America/Chicago:20260203T094500
DTSTAMP:20260421T232840
CREATED:20260105T014905Z
LAST-MODIFIED:20260203T023435Z
UID:10003889-1770110100-1770111900@reenaseniorliving.com
SUMMARY:Movement Class with Kayla
DESCRIPTION:
URL:https://reenaseniorliving.com/event-calendar/movement-class-with-kayla-133/
LOCATION:Activity Room
CATEGORIES:Assisted Living
END:VEVENT
BEGIN:VEVENT
DTSTART;TZID=America/Chicago:20260202T153000
DTEND;TZID=America/Chicago:20260202T161500
DTSTAMP:20260421T232840
CREATED:20260127T020414Z
LAST-MODIFIED:20260202T023416Z
UID:10004202-1770046200-1770048900@reenaseniorliving.com
SUMMARY:Knitting\, Crochet\, Crafting\, and Social Time.
DESCRIPTION:
URL:https://reenaseniorliving.com/event-calendar/knitting-crochet-crafting-and-social-time/
LOCATION:Activity Room
CATEGORIES:Assisted Living
END:VEVENT
BEGIN:VEVENT
DTSTART;TZID=America/Chicago:20260202T103000
DTEND;TZID=America/Chicago:20260202T105000
DTSTAMP:20260421T232840
CREATED:20260104T024912Z
LAST-MODIFIED:20260202T043402Z
UID:10003880-1770028200-1770029400@reenaseniorliving.com
SUMMARY:Balance Training with Kayla - Hallway near Activity Room
DESCRIPTION:
URL:https://reenaseniorliving.com/event-calendar/balance-training-with-kayla-hallway-near-activity-room-17/
LOCATION:Activity Room
CATEGORIES:Legacy Court
END:VEVENT
BEGIN:VEVENT
DTSTART;TZID=America/Chicago:20260202T095000
DTEND;TZID=America/Chicago:20260202T103000
DTSTAMP:20260421T232840
CREATED:20260104T024911Z
LAST-MODIFIED:20260202T043402Z
UID:10003879-1770025800-1770028200@reenaseniorliving.com
SUMMARY:Games!
DESCRIPTION:
URL:https://reenaseniorliving.com/event-calendar/games-with-kayla/
LOCATION:Activity Room
CATEGORIES:Legacy Court
END:VEVENT
BEGIN:VEVENT
DTSTART;TZID=America/Chicago:20260202T091500
DTEND;TZID=America/Chicago:20260202T094500
DTSTAMP:20260421T232840
CREATED:20260104T014924Z
LAST-MODIFIED:20260202T023416Z
UID:10003874-1770023700-1770025500@reenaseniorliving.com
SUMMARY:Movement with Kayla - Plate Skiing Included in Honor of the Winter Olympics
DESCRIPTION:
URL:https://reenaseniorliving.com/event-calendar/movement-with-kayla-ar-6/
LOCATION:Activity Room
CATEGORIES:Assisted Living
END:VEVENT
BEGIN:VEVENT
DTSTART;TZID=America/Chicago:20260202T090000
DTEND;TZID=America/Chicago:20260202T093000
DTSTAMP:20260421T232840
CREATED:20260104T024911Z
LAST-MODIFIED:20260202T043402Z
UID:10003877-1770022800-1770024600@reenaseniorliving.com
SUMMARY:Ground Hog Day - Linked Senior (Monthly)
DESCRIPTION:
URL:https://reenaseniorliving.com/event-calendar/social-time-events-news-reminisce-2/
LOCATION:Activity Room
CATEGORIES:Legacy Court
END:VEVENT
BEGIN:VEVENT
DTSTART;TZID=America/Chicago:20260130T140000
DTEND;TZID=America/Chicago:20260130T141500
DTSTAMP:20260421T232840
CREATED:20260101T013411Z
LAST-MODIFIED:20260130T023404Z
UID:10003854-1769781600-1769782500@reenaseniorliving.com
SUMMARY:Your weekly activity packets will be delivered.
DESCRIPTION:
URL:https://reenaseniorliving.com/event-calendar/your-weekly-activity-packets-will-be-delivered-38/
LOCATION:Activity Room
CATEGORIES:Assisted Living
END:VEVENT
BEGIN:VEVENT
DTSTART;TZID=America/Chicago:20260130T131500
DTEND;TZID=America/Chicago:20260130T134500
DTSTAMP:20260421T232840
CREATED:20260124T040417Z
LAST-MODIFIED:20260130T043403Z
UID:10004169-1769778900-1769780700@reenaseniorliving.com
SUMMARY:Biking Day!
DESCRIPTION:
URL:https://reenaseniorliving.com/event-calendar/biking-day/
LOCATION:Activity Room
CATEGORIES:Legacy Court
END:VEVENT
BEGIN:VEVENT
DTSTART;TZID=America/Chicago:20260130T130000
DTEND;TZID=America/Chicago:20260130T140000
DTSTAMP:20260421T232840
CREATED:20260101T013411Z
LAST-MODIFIED:20260130T023404Z
UID:10003853-1769778000-1769781600@reenaseniorliving.com
SUMMARY:The Big Show
DESCRIPTION:
URL:https://reenaseniorliving.com/event-calendar/the-big-show-4/
LOCATION:Activity Room
CATEGORIES:Assisted Living
END:VEVENT
BEGIN:VEVENT
DTSTART;TZID=America/Chicago:20260130T123000
DTEND;TZID=America/Chicago:20260130T131500
DTSTAMP:20260421T232840
CREATED:20260101T024942Z
LAST-MODIFIED:20260130T043402Z
UID:10003857-1769776200-1769778900@reenaseniorliving.com
SUMMARY:Group Movement Class - Strength and Mobility
DESCRIPTION:
URL:https://reenaseniorliving.com/event-calendar/group-movement-class-strength-and-mobility-8/
LOCATION:Activity Room
CATEGORIES:Legacy Court
END:VEVENT
BEGIN:VEVENT
DTSTART;TZID=America/Chicago:20260130T103000
DTEND;TZID=America/Chicago:20260130T113000
DTSTAMP:20260421T232840
CREATED:20260120T020405Z
LAST-MODIFIED:20260130T023403Z
UID:10004104-1769769000-1769772600@reenaseniorliving.com
SUMMARY:Assembly of our Valentines Bags for 3rd Graders at Luther School.
DESCRIPTION:
URL:https://reenaseniorliving.com/event-calendar/assembly-of-our-valentines-bags-for-3rd-graders-at-luther-school-3/
LOCATION:Activity Room
CATEGORIES:Assisted Living
END:VEVENT
BEGIN:VEVENT
DTSTART;TZID=America/Chicago:20260130T091500
DTEND;TZID=America/Chicago:20260130T094500
DTSTAMP:20260421T232840
CREATED:20260101T013411Z
LAST-MODIFIED:20260130T023403Z
UID:10003851-1769764500-1769766300@reenaseniorliving.com
SUMMARY:Movement Class with Kayla
DESCRIPTION:
URL:https://reenaseniorliving.com/event-calendar/movement-class-with-kayla-132/
LOCATION:Activity Room
CATEGORIES:Assisted Living
END:VEVENT
BEGIN:VEVENT
DTSTART;TZID=America/Chicago:20260129T174500
DTEND;TZID=America/Chicago:20260129T184500
DTSTAMP:20260421T232840
CREATED:20260117T020424Z
LAST-MODIFIED:20260129T021903Z
UID:10004064-1769708700-1769712300@reenaseniorliving.com
SUMMARY:Game Night! Garbage or Connect Four
DESCRIPTION:
URL:https://reenaseniorliving.com/event-calendar/game-night-4/
LOCATION:Activity Room
CATEGORIES:Assisted Living
END:VEVENT
BEGIN:VEVENT
DTSTART;TZID=America/Chicago:20260129T144000
DTEND;TZID=America/Chicago:20260129T150000
DTSTAMP:20260421T232840
CREATED:20260108T014934Z
LAST-MODIFIED:20260129T021902Z
UID:10003929-1769697600-1769698800@reenaseniorliving.com
SUMMARY:Green Thumbs Garden Club
DESCRIPTION:
URL:https://reenaseniorliving.com/event-calendar/green-thumbs-garden-club-6/
LOCATION:Activity Room
CATEGORIES:Assisted Living
END:VEVENT
BEGIN:VEVENT
DTSTART;TZID=America/Chicago:20260129T140500
DTEND;TZID=America/Chicago:20260129T143500
DTSTAMP:20260421T232840
CREATED:20251231T013405Z
LAST-MODIFIED:20260129T021902Z
UID:10003822-1769695500-1769697300@reenaseniorliving.com
SUMMARY:Spark Team Meeting - Funds\, Shirts\, and more.
DESCRIPTION:
URL:https://reenaseniorliving.com/event-calendar/spark-team-meeting-funds-shirts-and-more/
LOCATION:Activity Room
CATEGORIES:Assisted Living
END:VEVENT
BEGIN:VEVENT
DTSTART;TZID=America/Chicago:20260129T125000
DTEND;TZID=America/Chicago:20260129T135000
DTSTAMP:20260421T232840
CREATED:20251231T013405Z
LAST-MODIFIED:20260129T043459Z
UID:10003821-1769691000-1769694600@reenaseniorliving.com
SUMMARY:TRYathlon Scrimmage Day! Arm Crank or Leg Crank!
DESCRIPTION:
URL:https://reenaseniorliving.com/event-calendar/tryathlon-walking-day-let-walk-or-do-seated-marching-as-a-team-3/
LOCATION:Activity Room
CATEGORIES:Assisted Living,Legacy Court
END:VEVENT
BEGIN:VEVENT
DTSTART;TZID=America/Chicago:20260129T093000
DTEND;TZID=America/Chicago:20260129T103000
DTSTAMP:20260421T232840
CREATED:20260121T040407Z
LAST-MODIFIED:20260129T043459Z
UID:10004140-1769679000-1769682600@reenaseniorliving.com
SUMMARY:Linked Senior Fun!
DESCRIPTION:
URL:https://reenaseniorliving.com/event-calendar/linked-senior-fun-12/
LOCATION:Activity Room
CATEGORIES:Legacy Court
END:VEVENT
END:VCALENDAR