BEGIN:VCALENDAR
VERSION:2.0
PRODID:-//Reena Senior Living - ECPv6.11.2.1//NONSGML v1.0//EN
CALSCALE:GREGORIAN
METHOD:PUBLISH
X-WR-CALNAME:Reena Senior Living
X-ORIGINAL-URL:https://reenaseniorliving.com
X-WR-CALDESC:Events for Reena Senior Living
REFRESH-INTERVAL;VALUE=DURATION:PT1H
X-Robots-Tag:noindex
X-PUBLISHED-TTL:PT1H
BEGIN:VTIMEZONE
TZID:America/Chicago
BEGIN:DAYLIGHT
TZOFFSETFROM:-0600
TZOFFSETTO:-0500
TZNAME:CDT
DTSTART:20260308T080000
END:DAYLIGHT
BEGIN:STANDARD
TZOFFSETFROM:-0500
TZOFFSETTO:-0600
TZNAME:CST
DTSTART:20261101T070000
END:STANDARD
END:VTIMEZONE
BEGIN:VEVENT
DTSTART;TZID=America/Chicago:20260126T150500
DTEND;TZID=America/Chicago:20260126T153000
DTSTAMP:20260422T052834
CREATED:20251228T021912Z
LAST-MODIFIED:20260121T040406Z
UID:10003781-1769439900-1769441400@reenaseniorliving.com
SUMMARY:Movement with Balls\, Noodles\, & Weights.
DESCRIPTION:
URL:https://reenaseniorliving.com/event-calendar/movement-with-balls-noodles-weights-36/
LOCATION:Activity Room
CATEGORIES:Legacy Court
END:VEVENT
BEGIN:VEVENT
DTSTART;TZID=America/Chicago:20260126T143000
DTEND;TZID=America/Chicago:20260126T160000
DTSTAMP:20260422T052834
CREATED:20260103T013421Z
LAST-MODIFIED:20260119T020403Z
UID:10003865-1769437800-1769443200@reenaseniorliving.com
SUMMARY:Assembly of our Valentines Bags for 3rd Graders at Luther School.
DESCRIPTION:
URL:https://reenaseniorliving.com/event-calendar/assembly-of-our-valentines-bags-for-3rd-graders-at-luther-school-2/
LOCATION:Activity Room
CATEGORIES:Assisted Living
END:VEVENT
BEGIN:VEVENT
DTSTART;TZID=America/Chicago:20260126T133000
DTEND;TZID=America/Chicago:20260126T143000
DTSTAMP:20260422T052834
CREATED:20260106T014910Z
LAST-MODIFIED:20260126T020424Z
UID:10003901-1769434200-1769437800@reenaseniorliving.com
SUMMARY:Bingo for Fun! No Prize Day!
DESCRIPTION:
URL:https://reenaseniorliving.com/event-calendar/bingo-bash/
LOCATION:Activity Room
CATEGORIES:Assisted Living
END:VEVENT
BEGIN:VEVENT
DTSTART;TZID=America/Chicago:20260126T103000
DTEND;TZID=America/Chicago:20260126T105000
DTSTAMP:20260422T052834
CREATED:20251231T023415Z
LAST-MODIFIED:20260126T040404Z
UID:10003843-1769423400-1769424600@reenaseniorliving.com
SUMMARY:Balance Training with Kayla - Hallway near Activity Room
DESCRIPTION:
URL:https://reenaseniorliving.com/event-calendar/balance-training-with-kayla-hallway-near-activity-room-16/
LOCATION:Activity Room
CATEGORIES:Legacy Court
END:VEVENT
BEGIN:VEVENT
DTSTART;TZID=America/Chicago:20260126T100000
DTEND;TZID=America/Chicago:20260126T110500
DTSTAMP:20260422T052834
CREATED:20260120T020404Z
LAST-MODIFIED:20260126T020424Z
UID:10004100-1769421600-1769425500@reenaseniorliving.com
SUMMARY:Clay Heart - with Artist Sally Koehler - Made by you and glazed and fired by Sally.
DESCRIPTION:
URL:https://reenaseniorliving.com/event-calendar/clay-heart-with-artist-sally-koehler-made-by-you-and-glazed-and-fired-by-sally/
LOCATION:Activity Room
CATEGORIES:Assisted Living
END:VEVENT
BEGIN:VEVENT
DTSTART;TZID=America/Chicago:20260126T095000
DTEND;TZID=America/Chicago:20260126T103000
DTSTAMP:20260422T052834
CREATED:20251228T021912Z
LAST-MODIFIED:20260126T040404Z
UID:10003774-1769421000-1769423400@reenaseniorliving.com
SUMMARY:Games with Kayla!
DESCRIPTION:
URL:https://reenaseniorliving.com/event-calendar/dot-fun-game-or-garbage-or-war-in-cards-6/
LOCATION:Activity Room
CATEGORIES:Legacy Court
END:VEVENT
BEGIN:VEVENT
DTSTART;TZID=America/Chicago:20260126T091500
DTEND;TZID=America/Chicago:20260126T094500
DTSTAMP:20260422T052834
CREATED:20251228T010420Z
LAST-MODIFIED:20260126T020424Z
UID:10003769-1769418900-1769420700@reenaseniorliving.com
SUMMARY:Movement with Kayla (AR)
DESCRIPTION:
URL:https://reenaseniorliving.com/event-calendar/movement-with-kayla-ar-5/
LOCATION:Activity Room
CATEGORIES:Assisted Living
END:VEVENT
BEGIN:VEVENT
DTSTART;TZID=America/Chicago:20260126T090000
DTEND;TZID=America/Chicago:20260126T093000
DTSTAMP:20260422T052834
CREATED:20251228T021912Z
LAST-MODIFIED:20260126T040404Z
UID:10003772-1769418000-1769419800@reenaseniorliving.com
SUMMARY:Social Time - Events\, News\, & Reminisce
DESCRIPTION:
URL:https://reenaseniorliving.com/event-calendar/grandmas-garden-social-time-events-news-reminensce-6/
LOCATION:Activity Room
CATEGORIES:Legacy Court
END:VEVENT
BEGIN:VEVENT
DTSTART;TZID=America/Chicago:20260125T140000
DTEND;TZID=America/Chicago:20260125T163000
DTSTAMP:20260422T052834
CREATED:20260121T040405Z
LAST-MODIFIED:20260125T040404Z
UID:10004133-1769349600-1769358600@reenaseniorliving.com
SUMMARY:Patriots vs. Broncos Playoffs for NFL
DESCRIPTION:
URL:https://reenaseniorliving.com/event-calendar/patriots-vs-broncos-playoffs-for-nfl/
LOCATION:Activity Room
CATEGORIES:Legacy Court
END:VEVENT
BEGIN:VEVENT
DTSTART;TZID=America/Chicago:20260124T153000
DTEND;TZID=America/Chicago:20260124T160000
DTSTAMP:20260422T052834
CREATED:20260114T033410Z
LAST-MODIFIED:20260124T040416Z
UID:10004021-1769268600-1769270400@reenaseniorliving.com
SUMMARY:Movement Class with Laurie
DESCRIPTION:
URL:https://reenaseniorliving.com/event-calendar/movement-class-with-laurie/
LOCATION:Activity Room
CATEGORIES:Legacy Court
END:VEVENT
BEGIN:VEVENT
DTSTART;TZID=America/Chicago:20260124T143000
DTEND;TZID=America/Chicago:20260124T161500
DTSTAMP:20260422T052834
CREATED:20251231T013404Z
LAST-MODIFIED:20260124T020417Z
UID:10003818-1769265000-1769271300@reenaseniorliving.com
SUMMARY:Nails with Laurie - Sign-up for a Trim or Polish
DESCRIPTION:
URL:https://reenaseniorliving.com/event-calendar/nails-with-laurie-sign-up-for-a-trim-or-polish/
LOCATION:Activity Room
CATEGORIES:Assisted Living
END:VEVENT
BEGIN:VEVENT
DTSTART;TZID=America/Chicago:20260124T101500
DTEND;TZID=America/Chicago:20260124T111500
DTSTAMP:20260422T052834
CREATED:20260114T033410Z
LAST-MODIFIED:20260124T040416Z
UID:10004020-1769249700-1769253300@reenaseniorliving.com
SUMMARY:Seated Bowling with Laurie
DESCRIPTION:
URL:https://reenaseniorliving.com/event-calendar/seated-bowling-with-laurie/
LOCATION:Activity Room
CATEGORIES:Legacy Court
END:VEVENT
BEGIN:VEVENT
DTSTART;TZID=America/Chicago:20260124T100000
DTEND;TZID=America/Chicago:20260124T103000
DTSTAMP:20260422T052834
CREATED:20251227T010411Z
LAST-MODIFIED:20260124T020417Z
UID:10003759-1769248800-1769250600@reenaseniorliving.com
SUMMARY:Coffee and Winter Olympic Overview with Laurie
DESCRIPTION:
URL:https://reenaseniorliving.com/event-calendar/coffee-and-funny-animal-videos-and-bloopers-with-laurie/
LOCATION:Activity Room
CATEGORIES:Assisted Living
END:VEVENT
BEGIN:VEVENT
DTSTART;TZID=America/Chicago:20260124T090000
DTEND;TZID=America/Chicago:20260124T100000
DTSTAMP:20260422T052834
CREATED:20260114T033410Z
LAST-MODIFIED:20260124T040416Z
UID:10004019-1769245200-1769248800@reenaseniorliving.com
SUMMARY:Senior Center Project.
DESCRIPTION:
URL:https://reenaseniorliving.com/event-calendar/senior-center-project/
LOCATION:Activity Room
CATEGORIES:Legacy Court
END:VEVENT
BEGIN:VEVENT
DTSTART;TZID=America/Chicago:20260123T150000
DTEND;TZID=America/Chicago:20260123T151500
DTSTAMP:20260422T052834
CREATED:20251225T010424Z
LAST-MODIFIED:20260123T020402Z
UID:10003723-1769180400-1769181300@reenaseniorliving.com
SUMMARY:Your weekly activity packets will be delivered.
DESCRIPTION:
URL:https://reenaseniorliving.com/event-calendar/your-weekly-activity-packets-will-be-delivered-37/
LOCATION:Activity Room
CATEGORIES:Assisted Living
END:VEVENT
BEGIN:VEVENT
DTSTART;TZID=America/Chicago:20260123T143000
DTEND;TZID=America/Chicago:20260123T150000
DTSTAMP:20260422T052834
CREATED:20260116T033405Z
LAST-MODIFIED:20260123T040403Z
UID:10004062-1769178600-1769180400@reenaseniorliving.com
SUMMARY:Grandma's Basket - Talk About Laundry Days
DESCRIPTION:
URL:https://reenaseniorliving.com/event-calendar/grandmas-basket-talk-about-laundry-days/
LOCATION:Activity Room
CATEGORIES:Legacy Court
END:VEVENT
BEGIN:VEVENT
DTSTART;TZID=America/Chicago:20260123T130000
DTEND;TZID=America/Chicago:20260123T140000
DTSTAMP:20260422T052834
CREATED:20251231T013404Z
LAST-MODIFIED:20260123T020402Z
UID:10003817-1769173200-1769176800@reenaseniorliving.com
SUMMARY:The Big Show
DESCRIPTION:
URL:https://reenaseniorliving.com/event-calendar/the-big-show-3/
LOCATION:Activity Room
CATEGORIES:Assisted Living
END:VEVENT
BEGIN:VEVENT
DTSTART;TZID=America/Chicago:20260123T123000
DTEND;TZID=America/Chicago:20260123T131500
DTSTAMP:20260422T052834
CREATED:20251225T020415Z
LAST-MODIFIED:20260123T040403Z
UID:10003734-1769171400-1769174100@reenaseniorliving.com
SUMMARY:Group Movement Class - Strength and Mobility
DESCRIPTION:
URL:https://reenaseniorliving.com/event-calendar/group-movement-class-strength-and-mobility-7/
LOCATION:Activity Room
CATEGORIES:Legacy Court
END:VEVENT
BEGIN:VEVENT
DTSTART;TZID=America/Chicago:20260123T103000
DTEND;TZID=America/Chicago:20260123T104000
DTSTAMP:20260422T052834
CREATED:20260116T020403Z
LAST-MODIFIED:20260123T020402Z
UID:10004046-1769164200-1769164800@reenaseniorliving.com
SUMMARY:PBS Ep. - Milwaukee Wood Worker Builds Furniture from Lost Frank Lloyd Wright Designs
DESCRIPTION:
URL:https://reenaseniorliving.com/event-calendar/pbs-ep-milwaukee-wood-worker-builds-furniture-from-lost-frank-lloyd-wright-designs/
LOCATION:Activity Room
CATEGORIES:Assisted Living
END:VEVENT
BEGIN:VEVENT
DTSTART;TZID=America/Chicago:20260123T100000
DTEND;TZID=America/Chicago:20260123T110000
DTSTAMP:20260422T052834
CREATED:20260116T033405Z
LAST-MODIFIED:20260123T040402Z
UID:10004061-1769162400-1769166000@reenaseniorliving.com
SUMMARY:Hand Massages with Kayla with Classic TV. - Linked Senior Youtube
DESCRIPTION:
URL:https://reenaseniorliving.com/event-calendar/hand-massages-with-kayla-with-classic-tv-linked-senior-youtube/
LOCATION:Activity Room
CATEGORIES:Legacy Court
END:VEVENT
BEGIN:VEVENT
DTSTART;TZID=America/Chicago:20260123T100000
DTEND;TZID=America/Chicago:20260123T103000
DTSTAMP:20260422T052834
CREATED:20260116T020403Z
LAST-MODIFIED:20260123T020402Z
UID:10004045-1769162400-1769164200@reenaseniorliving.com
SUMMARY:PBS - Episode 10 - Wisconsin Life Rhythm Makers - L. Niedecker is woven in heavily. 27min.
DESCRIPTION:
URL:https://reenaseniorliving.com/event-calendar/pbs-episode-10-wisconsin-life-rhythm-makers-l-niedecker-is-woven-in-heavily-27min/
LOCATION:Activity Room
CATEGORIES:Assisted Living
END:VEVENT
BEGIN:VEVENT
DTSTART;TZID=America/Chicago:20260123T091500
DTEND;TZID=America/Chicago:20260123T094500
DTSTAMP:20260422T052834
CREATED:20251225T010424Z
LAST-MODIFIED:20260123T020402Z
UID:10003721-1769159700-1769161500@reenaseniorliving.com
SUMMARY:Movement Class with Kayla
DESCRIPTION:
URL:https://reenaseniorliving.com/event-calendar/movement-class-with-kayla-127/
LOCATION:Activity Room
CATEGORIES:Assisted Living
END:VEVENT
BEGIN:VEVENT
DTSTART;TZID=America/Chicago:20260123T090000
DTEND;TZID=America/Chicago:20260123T091500
DTSTAMP:20260422T052834
CREATED:20260116T033405Z
LAST-MODIFIED:20260123T040402Z
UID:10004059-1769158800-1769159700@reenaseniorliving.com
SUMMARY:Walking for our health.
DESCRIPTION:
URL:https://reenaseniorliving.com/event-calendar/walking-for-our-health-2/
LOCATION:Activity Room
CATEGORIES:Legacy Court
END:VEVENT
BEGIN:VEVENT
DTSTART;TZID=America/Chicago:20260122T174500
DTEND;TZID=America/Chicago:20260122T181500
DTSTAMP:20260422T052834
CREATED:20260109T030405Z
LAST-MODIFIED:20260122T040417Z
UID:10003947-1769103900-1769105700@reenaseniorliving.com
SUMMARY:Games with Kayla!
DESCRIPTION:
URL:https://reenaseniorliving.com/event-calendar/games-with-kayla-3/
LOCATION:Activity Room
CATEGORIES:Legacy Court
END:VEVENT
BEGIN:VEVENT
DTSTART;TZID=America/Chicago:20260122T171500
DTEND;TZID=America/Chicago:20260122T190000
DTSTAMP:20260422T052834
CREATED:20251224T010411Z
LAST-MODIFIED:20251226T010411Z
UID:10003700-1769102100-1769108400@reenaseniorliving.com
SUMMARY:Hand & Foot Cards & Trouble the Board Game.
DESCRIPTION:
URL:https://reenaseniorliving.com/event-calendar/hand-foot-cards-trouble-the-board-game-10/
LOCATION:Activity Room
CATEGORIES:Assisted Living
END:VEVENT
BEGIN:VEVENT
DTSTART;TZID=America/Chicago:20260122T143000
DTEND;TZID=America/Chicago:20260122T153000
DTSTAMP:20260422T052834
CREATED:20251227T010411Z
LAST-MODIFIED:20260122T020423Z
UID:10003757-1769092200-1769095800@reenaseniorliving.com
SUMMARY:Birthday Party! Highlights of our Birthday Guests Lives.
DESCRIPTION:Cake and Beverage. Community Members with birthdays this month will have time to share something about themselves. It will be followed with music and singing at 3:00.
URL:https://reenaseniorliving.com/event-calendar/birthday-party-highlights-of-our-birthday-guests-lives-4/
LOCATION:Activity Room
CATEGORIES:Assisted Living
END:VEVENT
BEGIN:VEVENT
DTSTART;TZID=America/Chicago:20260122T125000
DTEND;TZID=America/Chicago:20260122T135000
DTSTAMP:20260422T052834
CREATED:20251227T010411Z
LAST-MODIFIED:20260122T040406Z
UID:10003756-1769086200-1769089800@reenaseniorliving.com
SUMMARY:TRYathlon Scrimmage Day! Arm Crank or Leg Crank!
DESCRIPTION:
URL:https://reenaseniorliving.com/event-calendar/tryathlon-walking-day-let-walk-or-do-seated-marching-as-a-team-2/
LOCATION:Activity Room
CATEGORIES:Assisted Living,Legacy Court
END:VEVENT
BEGIN:VEVENT
DTSTART;TZID=America/Chicago:20260122T103000
DTEND;TZID=America/Chicago:20260122T111500
DTSTAMP:20260422T052834
CREATED:20251224T020418Z
LAST-MODIFIED:20251226T020415Z
UID:10003704-1769077800-1769080500@reenaseniorliving.com
SUMMARY:Let's Make Bread.
DESCRIPTION:
URL:https://reenaseniorliving.com/event-calendar/lets-make-bread-22/
LOCATION:Activity Room
CATEGORIES:Legacy Court
END:VEVENT
BEGIN:VEVENT
DTSTART;TZID=America/Chicago:20260122T103000
DTEND;TZID=America/Chicago:20260122T104500
DTSTAMP:20260422T052834
CREATED:20260116T033404Z
LAST-MODIFIED:20260122T040406Z
UID:10004058-1769077800-1769078700@reenaseniorliving.com
SUMMARY:Anne Geddes Baby Slideshow & more - Suggestion\, Jan. Inspire your Heart
DESCRIPTION:
URL:https://reenaseniorliving.com/event-calendar/anne-geddes-baby-slideshow-more-suggestion-jan-inspire-your-heart/
LOCATION:Activity Room
CATEGORIES:Legacy Court
END:VEVENT
BEGIN:VEVENT
DTSTART;TZID=America/Chicago:20260122T101500
DTEND;TZID=America/Chicago:20260122T103000
DTSTAMP:20260422T052834
CREATED:20260116T033404Z
LAST-MODIFIED:20260122T040406Z
UID:10004057-1769076900-1769077800@reenaseniorliving.com
SUMMARY:Sports! Linked Senior
DESCRIPTION:
URL:https://reenaseniorliving.com/event-calendar/sports-linked-senior/
LOCATION:Activity Room
CATEGORIES:Legacy Court
END:VEVENT
END:VCALENDAR