BEGIN:VCALENDAR
VERSION:2.0
PRODID:-//Reena Senior Living - ECPv6.11.2.1//NONSGML v1.0//EN
CALSCALE:GREGORIAN
METHOD:PUBLISH
X-WR-CALNAME:Reena Senior Living
X-ORIGINAL-URL:https://reenaseniorliving.com
X-WR-CALDESC:Events for Reena Senior Living
REFRESH-INTERVAL;VALUE=DURATION:PT1H
X-Robots-Tag:noindex
X-PUBLISHED-TTL:PT1H
BEGIN:VTIMEZONE
TZID:America/Chicago
BEGIN:DAYLIGHT
TZOFFSETFROM:-0600
TZOFFSETTO:-0500
TZNAME:CDT
DTSTART:20260308T080000
END:DAYLIGHT
BEGIN:STANDARD
TZOFFSETFROM:-0500
TZOFFSETTO:-0600
TZNAME:CST
DTSTART:20261101T070000
END:STANDARD
END:VTIMEZONE
BEGIN:VEVENT
DTSTART;TZID=America/Chicago:20260409T140000
DTEND;TZID=America/Chicago:20260409T150000
DTSTAMP:20260419T163834
CREATED:20260311T041914Z
LAST-MODIFIED:20260327T054928Z
UID:10004842-1775743200-1775746800@reenaseniorliving.com
SUMMARY:Learning Event
DESCRIPTION:
URL:https://reenaseniorliving.com/event-calendar/learning-event/
LOCATION:Activity Room
CATEGORIES:Assisted Living
END:VEVENT
BEGIN:VEVENT
DTSTART;TZID=America/Chicago:20260409T140000
DTEND;TZID=America/Chicago:20260409T141000
DTSTAMP:20260419T163834
CREATED:20260404T060413Z
LAST-MODIFIED:20260409T060454Z
UID:10005097-1775743200-1775743800@reenaseniorliving.com
SUMMARY:Guided Relaxation - Breathwork
DESCRIPTION:
URL:https://reenaseniorliving.com/event-calendar/guided-relaxation-breathwork/
LOCATION:Activity Room
CATEGORIES:Assisted Living
END:VEVENT
BEGIN:VEVENT
DTSTART;TZID=America/Chicago:20260409T133000
DTEND;TZID=America/Chicago:20260409T134500
DTSTAMP:20260419T163834
CREATED:20260404T060413Z
LAST-MODIFIED:20260409T060453Z
UID:10005096-1775741400-1775742300@reenaseniorliving.com
SUMMARY:Arm Chair Tour - Portland's World Class Japanese Garden - Oregon Public Broadcasting - 15 min.
DESCRIPTION:
URL:https://reenaseniorliving.com/event-calendar/arm-chair-tour-portlands-world-class-japanese-garden-oregon-public-broadcasting-15-min/
LOCATION:Activity Room
CATEGORIES:Assisted Living
END:VEVENT
BEGIN:VEVENT
DTSTART;TZID=America/Chicago:20260409T130000
DTEND;TZID=America/Chicago:20260409T134500
DTSTAMP:20260419T163834
CREATED:20260311T041914Z
LAST-MODIFIED:20260409T060453Z
UID:10004841-1775739600-1775742300@reenaseniorliving.com
SUMMARY:Hoard Museum Art Design Contest Starts Today. Let's get our ideas brainstormed today.
DESCRIPTION:
URL:https://reenaseniorliving.com/event-calendar/hoard-museum-cow-contest-team-starts-today-lets-get-our-ideas-brainstormed-today/
LOCATION:Activity Room
CATEGORIES:Assisted Living
END:VEVENT
BEGIN:VEVENT
DTSTART;TZID=America/Chicago:20260409T130000
DTEND;TZID=America/Chicago:20260409T133000
DTSTAMP:20260419T163834
CREATED:20260314T085322Z
LAST-MODIFIED:20260325T094918Z
UID:10004885-1775739600-1775741400@reenaseniorliving.com
SUMMARY:Rhythm Time! Song "Happy" Cheer Team Prep
DESCRIPTION:
URL:https://reenaseniorliving.com/event-calendar/rhythm-time-song-happy-cheer-team-prep-4/
LOCATION:Activity Room
CATEGORIES:Legacy Court
END:VEVENT
BEGIN:VEVENT
DTSTART;TZID=America/Chicago:20260409T103000
DTEND;TZID=America/Chicago:20260409T111500
DTSTAMP:20260419T163834
CREATED:20260311T082000Z
LAST-MODIFIED:20260325T094917Z
UID:10004843-1775730600-1775733300@reenaseniorliving.com
SUMMARY:Let's Make Bread.
DESCRIPTION:
URL:https://reenaseniorliving.com/event-calendar/lets-make-bread-28/
LOCATION:Activity Room
CATEGORIES:Legacy Court
END:VEVENT
BEGIN:VEVENT
DTSTART;TZID=America/Chicago:20260409T100000
DTEND;TZID=America/Chicago:20260409T104000
DTSTAMP:20260419T163834
CREATED:20260328T054959Z
LAST-MODIFIED:20260409T060453Z
UID:10005043-1775728800-1775731200@reenaseniorliving.com
SUMMARY:Robot Soccer Practice.
DESCRIPTION:
URL:https://reenaseniorliving.com/event-calendar/robot-soccer-practice-taking-turns-driving-and-score-keeping-breaks-built-in-to-discuss-stategy-5/
LOCATION:Activity Room
CATEGORIES:Assisted Living
END:VEVENT
BEGIN:VEVENT
DTSTART;TZID=America/Chicago:20260409T091500
DTEND;TZID=America/Chicago:20260409T094500
DTSTAMP:20260419T163834
CREATED:20260311T041913Z
LAST-MODIFIED:20260409T060453Z
UID:10004840-1775726100-1775727900@reenaseniorliving.com
SUMMARY:Movement Class
DESCRIPTION:Gentle Movement\, Strength\, Mobility\, Balance\, & More.
URL:https://reenaseniorliving.com/event-calendar/movement-class-with-kayla-174/
LOCATION:Activity Room
CATEGORIES:Assisted Living
END:VEVENT
BEGIN:VEVENT
DTSTART;TZID=America/Chicago:20260409T085000
DTEND;TZID=America/Chicago:20260409T091000
DTSTAMP:20260419T163834
CREATED:20260311T041913Z
LAST-MODIFIED:20260327T054928Z
UID:10004839-1775724600-1775725800@reenaseniorliving.com
SUMMARY:Green Thumbs Garden Club
DESCRIPTION:
URL:https://reenaseniorliving.com/event-calendar/green-thumbs-garden-club-28/
LOCATION:Activity Room
CATEGORIES:Assisted Living
END:VEVENT
BEGIN:VEVENT
DTSTART;TZID=America/Chicago:20260408T171500
DTEND;TZID=America/Chicago:20260408T191500
DTSTAMP:20260419T163834
CREATED:20260318T053448Z
LAST-MODIFIED:20260408T060411Z
UID:10004937-1775668500-1775675700@reenaseniorliving.com
SUMMARY:Euchre Night
DESCRIPTION:
URL:https://reenaseniorliving.com/event-calendar/euchre-night-3/
LOCATION:Activity Room
CATEGORIES:Assisted Living
END:VEVENT
BEGIN:VEVENT
DTSTART;TZID=America/Chicago:20260408T153000
DTEND;TZID=America/Chicago:20260408T160500
DTSTAMP:20260419T163834
CREATED:20260311T041913Z
LAST-MODIFIED:20260327T054928Z
UID:10004838-1775662200-1775664300@reenaseniorliving.com
SUMMARY:Non-denominational Time with Chaplain Ann
DESCRIPTION:
URL:https://reenaseniorliving.com/event-calendar/non-denominational-time-with-chaplain-ann/
LOCATION:Activity Room
CATEGORIES:Assisted Living
END:VEVENT
BEGIN:VEVENT
DTSTART;TZID=America/Chicago:20260408T143000
DTEND;TZID=America/Chicago:20260408T151500
DTSTAMP:20260419T163834
CREATED:20260310T042016Z
LAST-MODIFIED:20260327T054928Z
UID:10004820-1775658600-1775661300@reenaseniorliving.com
SUMMARY:TRYathlon Celebration - Desserts and Hors d' oeuves for the team.
DESCRIPTION:
URL:https://reenaseniorliving.com/event-calendar/tryathlon-luncheon-invite-for-team-members/
LOCATION:Activity Room
CATEGORIES:Assisted Living
END:VEVENT
BEGIN:VEVENT
DTSTART;TZID=America/Chicago:20260408T143000
DTEND;TZID=America/Chicago:20260408T145000
DTSTAMP:20260419T163834
CREATED:20260310T082038Z
LAST-MODIFIED:20260325T094917Z
UID:10004826-1775658600-1775659800@reenaseniorliving.com
SUMMARY:Chaplain Ann Visit
DESCRIPTION:
URL:https://reenaseniorliving.com/event-calendar/chaplain-ann-visit-7/
LOCATION:Activity Room
CATEGORIES:Legacy Court
END:VEVENT
BEGIN:VEVENT
DTSTART;TZID=America/Chicago:20260408T133000
DTEND;TZID=America/Chicago:20260408T140000
DTSTAMP:20260419T163834
CREATED:20260310T082038Z
LAST-MODIFIED:20260325T094917Z
UID:10004824-1775655000-1775656800@reenaseniorliving.com
SUMMARY:Records with Dorothy
DESCRIPTION:
URL:https://reenaseniorliving.com/event-calendar/records-with-dorothy-30/
LOCATION:Activity Room
CATEGORIES:Legacy Court
END:VEVENT
BEGIN:VEVENT
DTSTART;TZID=America/Chicago:20260408T130000
DTEND;TZID=America/Chicago:20260408T132000
DTSTAMP:20260419T163834
CREATED:20260310T082038Z
LAST-MODIFIED:20260325T094916Z
UID:10004823-1775653200-1775654400@reenaseniorliving.com
SUMMARY:Guided Relaxation
DESCRIPTION:
URL:https://reenaseniorliving.com/event-calendar/guided-relaxation-7/
LOCATION:Activity Room
CATEGORIES:Legacy Court
END:VEVENT
BEGIN:VEVENT
DTSTART;TZID=America/Chicago:20260408T100000
DTEND;TZID=America/Chicago:20260408T101500
DTSTAMP:20260419T163834
CREATED:20260310T082038Z
LAST-MODIFIED:20260325T094916Z
UID:10004821-1775642400-1775643300@reenaseniorliving.com
SUMMARY:Sing-a-long before Catholic Church Service - All are Welcome
DESCRIPTION:
URL:https://reenaseniorliving.com/event-calendar/sing-a-long-before-catholic-church-service-all-are-welcome-8/
LOCATION:Activity Room
CATEGORIES:Legacy Court
END:VEVENT
BEGIN:VEVENT
DTSTART;TZID=America/Chicago:20260408T091500
DTEND;TZID=America/Chicago:20260408T094500
DTSTAMP:20260419T163834
CREATED:20260310T042015Z
LAST-MODIFIED:20260408T060411Z
UID:10004818-1775639700-1775641500@reenaseniorliving.com
SUMMARY:Movement Class with Kayla
DESCRIPTION:
URL:https://reenaseniorliving.com/event-calendar/movement-class-with-kayla-173/
LOCATION:Activity Room
CATEGORIES:Assisted Living
END:VEVENT
BEGIN:VEVENT
DTSTART;TZID=America/Chicago:20260407T173500
DTEND;TZID=America/Chicago:20260407T190000
DTSTAMP:20260419T163834
CREATED:20260404T060410Z
LAST-MODIFIED:20260407T060505Z
UID:10005095-1775583300-1775588400@reenaseniorliving.com
SUMMARY:Nail Spa Evening - sign -up
DESCRIPTION:
URL:https://reenaseniorliving.com/event-calendar/nail-spa-evening-sign-up/
LOCATION:Activity Room
CATEGORIES:Assisted Living
END:VEVENT
BEGIN:VEVENT
DTSTART;TZID=America/Chicago:20260407T171500
DTEND;TZID=America/Chicago:20260407T190000
DTSTAMP:20260419T163834
CREATED:20260309T040429Z
LAST-MODIFIED:20260403T055023Z
UID:10004808-1775582100-1775588400@reenaseniorliving.com
SUMMARY:Game Night!
DESCRIPTION:
URL:https://reenaseniorliving.com/event-calendar/game-night-12/
LOCATION:Activity Room
CATEGORIES:Assisted Living
END:VEVENT
BEGIN:VEVENT
DTSTART;TZID=America/Chicago:20260407T130000
DTEND;TZID=America/Chicago:20260407T140000
DTSTAMP:20260419T163834
CREATED:20260311T041912Z
LAST-MODIFIED:20260317T052112Z
UID:10004837-1775566800-1775570400@reenaseniorliving.com
SUMMARY:Hoard Museum Dairy Shrine Tour
DESCRIPTION:
URL:https://reenaseniorliving.com/event-calendar/hoard-museum-dairy-shrine-tour/
LOCATION:Activity Room
CATEGORIES:Assisted Living
END:VEVENT
BEGIN:VEVENT
DTSTART;TZID=America/Chicago:20260407T091500
DTEND;TZID=America/Chicago:20260407T094500
DTSTAMP:20260419T163834
CREATED:20260309T040428Z
LAST-MODIFIED:20260407T060505Z
UID:10004806-1775553300-1775555100@reenaseniorliving.com
SUMMARY:Movement Class with Kayla
DESCRIPTION:
URL:https://reenaseniorliving.com/event-calendar/movement-class-with-kayla-172/
LOCATION:Activity Room
CATEGORIES:Assisted Living
END:VEVENT
BEGIN:VEVENT
DTSTART;TZID=America/Chicago:20260407T085000
DTEND;TZID=America/Chicago:20260407T091000
DTSTAMP:20260419T163834
CREATED:20260309T040428Z
LAST-MODIFIED:20260327T054927Z
UID:10004805-1775551800-1775553000@reenaseniorliving.com
SUMMARY:Green Thumbs Garden Club
DESCRIPTION:
URL:https://reenaseniorliving.com/event-calendar/green-thumbs-garden-club-27/
LOCATION:Activity Room
CATEGORIES:Assisted Living
END:VEVENT
BEGIN:VEVENT
DTSTART;TZID=America/Chicago:20260406T153000
DTEND;TZID=America/Chicago:20260406T161500
DTSTAMP:20260419T163834
CREATED:20260308T035056Z
LAST-MODIFIED:20260406T060413Z
UID:10004794-1775489400-1775492100@reenaseniorliving.com
SUMMARY:Knitting\, Crochet\, Crafting\, and Social Time.
DESCRIPTION:
URL:https://reenaseniorliving.com/event-calendar/knitting-crochet-crafting-and-social-time-10/
LOCATION:Activity Room
CATEGORIES:Assisted Living
END:VEVENT
BEGIN:VEVENT
DTSTART;TZID=America/Chicago:20260406T133000
DTEND;TZID=America/Chicago:20260406T143000
DTSTAMP:20260419T163834
CREATED:20260404T060408Z
LAST-MODIFIED:20260406T060413Z
UID:10005094-1775482200-1775485800@reenaseniorliving.com
SUMMARY:Paper Tearing Art - Rescheduled for Today. Sign-up this weekend - So we know how many to prep.
DESCRIPTION:
URL:https://reenaseniorliving.com/event-calendar/paper-tearing-art-rescheduled-for-today-sign-up-this-weekend-so-we-know-how-many-to-prep/
LOCATION:Activity Room
CATEGORIES:Assisted Living
END:VEVENT
BEGIN:VEVENT
DTSTART;TZID=America/Chicago:20260406T105000
DTEND;TZID=America/Chicago:20260406T110500
DTSTAMP:20260419T163834
CREATED:20260404T060408Z
LAST-MODIFIED:20260404T060408Z
UID:10005093-1775472600-1775473500@reenaseniorliving.com
SUMMARY:DIY Moose Hunt II with 13-Year-Old Taylor - with local Jana Waller Bair - 13 minutes
DESCRIPTION:
URL:https://reenaseniorliving.com/event-calendar/diy-moose-hunt-ii-with-13-year-old-taylor-with-local-jana-waller-bair-13-minutes-2/
LOCATION:Activity Room
CATEGORIES:Assisted Living
END:VEVENT
BEGIN:VEVENT
DTSTART;TZID=America/Chicago:20260406T105000
DTEND;TZID=America/Chicago:20260406T110500
DTSTAMP:20260419T163834
CREATED:20260404T060407Z
LAST-MODIFIED:20260406T060413Z
UID:10005091-1775472600-1775473500@reenaseniorliving.com
SUMMARY:DIY Moose Hunt II with 13-Year-Old Taylor - with local Jana Waller Bair - 13 minutes
DESCRIPTION:
URL:https://reenaseniorliving.com/event-calendar/diy-moose-hunt-ii-with-13-year-old-taylor-with-local-jana-waller-bair-13-minutes/
LOCATION:Activity Room
CATEGORIES:Assisted Living
END:VEVENT
BEGIN:VEVENT
DTSTART;TZID=America/Chicago:20260406T103000
DTEND;TZID=America/Chicago:20260406T105000
DTSTAMP:20260419T163834
CREATED:20260404T060407Z
LAST-MODIFIED:20260406T060413Z
UID:10005090-1775471400-1775472600@reenaseniorliving.com
SUMMARY:DIY Montana Bear Hunt Gets Wild... Grizzlies Up Close with local Jana on Youtube
DESCRIPTION:
URL:https://reenaseniorliving.com/event-calendar/diy-montana-bear-hunt-gets-wild-grizzlies-up-close-with-local-jana-on-youtube-2/
LOCATION:Activity Room
CATEGORIES:Assisted Living
END:VEVENT
BEGIN:VEVENT
DTSTART;TZID=America/Chicago:20260406T103000
DTEND;TZID=America/Chicago:20260406T105000
DTSTAMP:20260419T163834
CREATED:20260404T060407Z
LAST-MODIFIED:20260404T060407Z
UID:10005092-1775471400-1775472600@reenaseniorliving.com
SUMMARY:DIY Montana Bear Hunt Gets Wild... Grizzlies Up Close with local Jana on Youtube
DESCRIPTION:
URL:https://reenaseniorliving.com/event-calendar/diy-montana-bear-hunt-gets-wild-grizzlies-up-close-with-local-jana-on-youtube/
LOCATION:Activity Room
CATEGORIES:Assisted Living
END:VEVENT
BEGIN:VEVENT
DTSTART;TZID=America/Chicago:20260406T093000
DTEND;TZID=America/Chicago:20260406T101000
DTSTAMP:20260419T163834
CREATED:20260308T080618Z
LAST-MODIFIED:20260325T094915Z
UID:10004796-1775467800-1775470200@reenaseniorliving.com
SUMMARY:Games!
DESCRIPTION:
URL:https://reenaseniorliving.com/event-calendar/games-7/
LOCATION:Activity Room
CATEGORIES:Legacy Court
END:VEVENT
BEGIN:VEVENT
DTSTART;TZID=America/Chicago:20260406T091500
DTEND;TZID=America/Chicago:20260406T094500
DTSTAMP:20260419T163834
CREATED:20260308T035055Z
LAST-MODIFIED:20260406T060413Z
UID:10004792-1775466900-1775468700@reenaseniorliving.com
SUMMARY:Movement with Kayla (AR)
DESCRIPTION:
URL:https://reenaseniorliving.com/event-calendar/movement-with-kayla-ar-16/
LOCATION:Activity Room
CATEGORIES:Assisted Living
END:VEVENT
END:VCALENDAR