BEGIN:VCALENDAR
VERSION:2.0
PRODID:-//Reena Senior Living - ECPv6.11.2.1//NONSGML v1.0//EN
CALSCALE:GREGORIAN
METHOD:PUBLISH
X-ORIGINAL-URL:https://reenaseniorliving.com
X-WR-CALDESC:Events for Reena Senior Living
REFRESH-INTERVAL;VALUE=DURATION:PT1H
X-Robots-Tag:noindex
X-PUBLISHED-TTL:PT1H
BEGIN:VTIMEZONE
TZID:America/Chicago
BEGIN:DAYLIGHT
TZOFFSETFROM:-0600
TZOFFSETTO:-0500
TZNAME:CDT
DTSTART:20260308T080000
END:DAYLIGHT
BEGIN:STANDARD
TZOFFSETFROM:-0500
TZOFFSETTO:-0600
TZNAME:CST
DTSTART:20261101T070000
END:STANDARD
END:VTIMEZONE
BEGIN:VEVENT
DTSTART;TZID=America/Chicago:20260427T093000
DTEND;TZID=America/Chicago:20260427T101000
DTSTAMP:20260419T152906
CREATED:20260417T135012Z
LAST-MODIFIED:20260419T151941Z
UID:10005223-1777282200-1777284600@reenaseniorliving.com
SUMMARY:Games!
DESCRIPTION:
URL:https://reenaseniorliving.com/event-calendar/games-10/
LOCATION:Activity Room
CATEGORIES:Legacy Court
END:VEVENT
BEGIN:VEVENT
DTSTART;TZID=America/Chicago:20260427T133000
DTEND;TZID=America/Chicago:20260427T150000
DTSTAMP:20260419T152906
CREATED:20260409T060505Z
LAST-MODIFIED:20260419T063422Z
UID:10005132-1777296600-1777302000@reenaseniorliving.com
SUMMARY:Cow - Art Project for Hoard Museum -Pop in and take a look at the action or help the group.
DESCRIPTION:
URL:https://reenaseniorliving.com/event-calendar/cow-art-project-for-hoard-museum-pop-in-and-take-a-look-at-the-action-or-help-the-group/
LOCATION:Activity Room
CATEGORIES:Assisted Living
END:VEVENT
BEGIN:VEVENT
DTSTART;TZID=America/Chicago:20260427T143500
DTEND;TZID=America/Chicago:20260427T151500
DTSTAMP:20260419T152906
CREATED:20260329T054907Z
LAST-MODIFIED:20260408T060416Z
UID:10005073-1777300500-1777302900@reenaseniorliving.com
SUMMARY:Cheer Routine - Intergenerational Music Fun with our CLCA Student Visitors
DESCRIPTION:
URL:https://reenaseniorliving.com/event-calendar/cheer-routine-intergenerational-music-fun-with-our-clca-student-visitors/
LOCATION:Activity Room
CATEGORIES:Assisted Living
END:VEVENT
BEGIN:VEVENT
DTSTART;TZID=America/Chicago:20260427T150000
DTEND;TZID=America/Chicago:20260427T155000
DTSTAMP:20260419T152906
CREATED:20260414T061906Z
LAST-MODIFIED:20260419T063422Z
UID:10005173-1777302000-1777305000@reenaseniorliving.com
SUMMARY:Reena Rocker Cheer Routine with Crown of Life Group
DESCRIPTION:
URL:https://reenaseniorliving.com/event-calendar/reena-rocker-cheer-routine-with-crown-of-life-group/
LOCATION:Activity Room
CATEGORIES:Assisted Living
END:VEVENT
BEGIN:VEVENT
DTSTART;TZID=America/Chicago:20260428T091500
DTEND;TZID=America/Chicago:20260428T094500
DTSTAMP:20260419T152906
CREATED:20260330T054908Z
LAST-MODIFIED:20260419T063422Z
UID:10005075-1777367700-1777369500@reenaseniorliving.com
SUMMARY:Movement Class with Kayla
DESCRIPTION:
URL:https://reenaseniorliving.com/event-calendar/movement-class-with-kayla-181/
LOCATION:Activity Room
CATEGORIES:Assisted Living
END:VEVENT
BEGIN:VEVENT
DTSTART;TZID=America/Chicago:20260428T124500
DTEND;TZID=America/Chicago:20260428T140000
DTSTAMP:20260419T152906
CREATED:20260330T054909Z
LAST-MODIFIED:20260419T063423Z
UID:10005076-1777380300-1777384800@reenaseniorliving.com
SUMMARY:Robot Soccer Season Begins! Join us!
DESCRIPTION:
URL:https://reenaseniorliving.com/event-calendar/robot-soccer-season-begins-join-us-play-cheer-enjoy-3/
LOCATION:Activity Room
CATEGORIES:Assisted Living
END:VEVENT
BEGIN:VEVENT
DTSTART;TZID=America/Chicago:20260428T171500
DTEND;TZID=America/Chicago:20260428T190000
DTSTAMP:20260419T152906
CREATED:20260330T054909Z
LAST-MODIFIED:20260419T063423Z
UID:10005077-1777396500-1777402800@reenaseniorliving.com
SUMMARY:Hand and Foot.
DESCRIPTION:
URL:https://reenaseniorliving.com/event-calendar/game-night-16/
LOCATION:Activity Room
CATEGORIES:Assisted Living
END:VEVENT
BEGIN:VEVENT
DTSTART;TZID=America/Chicago:20260429T091500
DTEND;TZID=America/Chicago:20260429T094500
DTSTAMP:20260419T152906
CREATED:20260331T055020Z
LAST-MODIFIED:20260419T063424Z
UID:10005078-1777454100-1777455900@reenaseniorliving.com
SUMMARY:Movement Class with Kayla
DESCRIPTION:
URL:https://reenaseniorliving.com/event-calendar/movement-class-with-kayla-182/
LOCATION:Activity Room
CATEGORIES:Assisted Living
END:VEVENT
BEGIN:VEVENT
DTSTART;TZID=America/Chicago:20260429T100000
DTEND;TZID=America/Chicago:20260429T101500
DTSTAMP:20260419T152906
CREATED:20260417T135015Z
LAST-MODIFIED:20260419T151944Z
UID:10005235-1777456800-1777457700@reenaseniorliving.com
SUMMARY:Sing-a-long before Catholic Church Service - All are Welcome
DESCRIPTION:
URL:https://reenaseniorliving.com/event-calendar/sing-a-long-before-catholic-church-service-all-are-welcome-11/
LOCATION:Activity Room
CATEGORIES:Legacy Court
END:VEVENT
BEGIN:VEVENT
DTSTART;TZID=America/Chicago:20260429T123000
DTEND;TZID=America/Chicago:20260429T125000
DTSTAMP:20260419T152906
CREATED:20260417T135015Z
LAST-MODIFIED:20260419T151944Z
UID:10005237-1777465800-1777467000@reenaseniorliving.com
SUMMARY:Spin and Solve - Linked Senior
DESCRIPTION:
URL:https://reenaseniorliving.com/event-calendar/spin-and-solve-linked-senior-2/
LOCATION:Activity Room
CATEGORIES:Legacy Court
END:VEVENT
BEGIN:VEVENT
DTSTART;TZID=America/Chicago:20260429T130000
DTEND;TZID=America/Chicago:20260429T132000
DTSTAMP:20260419T152906
CREATED:20260417T135016Z
LAST-MODIFIED:20260419T151945Z
UID:10005238-1777467600-1777468800@reenaseniorliving.com
SUMMARY:Guided Relaxation
DESCRIPTION:
URL:https://reenaseniorliving.com/event-calendar/guided-relaxation-10/
LOCATION:Activity Room
CATEGORIES:Legacy Court
END:VEVENT
BEGIN:VEVENT
DTSTART;TZID=America/Chicago:20260429T132500
DTEND;TZID=America/Chicago:20260429T134500
DTSTAMP:20260419T152906
CREATED:20260417T135016Z
LAST-MODIFIED:20260419T151945Z
UID:10005239-1777469100-1777470300@reenaseniorliving.com
SUMMARY:Records with Dorothy
DESCRIPTION:
URL:https://reenaseniorliving.com/event-calendar/records-with-dorothy-33/
LOCATION:Activity Room
CATEGORIES:Legacy Court
END:VEVENT
BEGIN:VEVENT
DTSTART;TZID=America/Chicago:20260429T140000
DTEND;TZID=America/Chicago:20260429T144500
DTSTAMP:20260419T152906
CREATED:20260409T060506Z
LAST-MODIFIED:20260419T063424Z
UID:10005133-1777471200-1777473900@reenaseniorliving.com
SUMMARY:TRYathlon Celebration - Desserts and Hors d' oeuves for the team.
DESCRIPTION:
URL:https://reenaseniorliving.com/event-calendar/tryathlon-celebration-desserts-and-hors-d-oeuves-for-the-team-2/
LOCATION:Activity Room
CATEGORIES:Assisted Living
END:VEVENT
BEGIN:VEVENT
DTSTART;TZID=America/Chicago:20260429T171500
DTEND;TZID=America/Chicago:20260429T191500
DTSTAMP:20260419T152906
CREATED:20260331T055020Z
LAST-MODIFIED:20260419T063424Z
UID:10005080-1777482900-1777490100@reenaseniorliving.com
SUMMARY:Euchre Night
DESCRIPTION:
URL:https://reenaseniorliving.com/event-calendar/euchre-night-6/
LOCATION:Activity Room
CATEGORIES:Assisted Living
END:VEVENT
BEGIN:VEVENT
DTSTART;TZID=America/Chicago:20260430T091500
DTEND;TZID=America/Chicago:20260430T094500
DTSTAMP:20260419T152906
CREATED:20260401T055012Z
LAST-MODIFIED:20260419T063425Z
UID:10005081-1777540500-1777542300@reenaseniorliving.com
SUMMARY:Movement Class
DESCRIPTION:Gentle Movement\, Strength\, Mobility\, Balance\, & More.
URL:https://reenaseniorliving.com/event-calendar/movement-class-96/
LOCATION:Activity Room
CATEGORIES:Assisted Living
END:VEVENT
BEGIN:VEVENT
DTSTART;TZID=America/Chicago:20260430T100000
DTEND;TZID=America/Chicago:20260430T110000
DTSTAMP:20260419T152906
CREATED:20260401T055012Z
LAST-MODIFIED:20260408T060418Z
UID:10005082-1777543200-1777546800@reenaseniorliving.com
SUMMARY:Hoard Museum Cow Contest Team Starts Today. Let's get our ideas brainstormed today.
DESCRIPTION:
URL:https://reenaseniorliving.com/event-calendar/hoard-museum-cow-contest-team-starts-today-lets-get-our-ideas-brainstormed-today-5/
LOCATION:Activity Room
CATEGORIES:Assisted Living
END:VEVENT
BEGIN:VEVENT
DTSTART;TZID=America/Chicago:20260430T130000
DTEND;TZID=America/Chicago:20260430T133000
DTSTAMP:20260419T152906
CREATED:20260417T135017Z
LAST-MODIFIED:20260419T151946Z
UID:10005244-1777554000-1777555800@reenaseniorliving.com
SUMMARY:Rhythm Time! Song "Happy" Cheer Team Prep
DESCRIPTION:
URL:https://reenaseniorliving.com/event-calendar/rhythm-time-song-happy-cheer-team-prep-7/
LOCATION:Activity Room
CATEGORIES:Legacy Court
END:VEVENT
BEGIN:VEVENT
DTSTART;TZID=America/Chicago:20260430T143000
DTEND;TZID=America/Chicago:20260430T153000
DTSTAMP:20260419T152906
CREATED:20260401T055012Z
LAST-MODIFIED:20260419T063425Z
UID:10005083-1777559400-1777563000@reenaseniorliving.com
SUMMARY:Birthday Party! Highlights of our Birthday Guests Lives.
DESCRIPTION:Cake and Beverage. Community Members with birthdays this month will have time to share something about themselves. It will be followed with music and singing at 3:00.
URL:https://reenaseniorliving.com/event-calendar/birthday-party-highlights-of-our-birthday-guests-lives-9/
LOCATION:Activity Room
CATEGORIES:Assisted Living
END:VEVENT
BEGIN:VEVENT
DTSTART;TZID=America/Chicago:20260430T180000
DTEND;TZID=America/Chicago:20260430T190000
DTSTAMP:20260419T152906
CREATED:20260417T135018Z
LAST-MODIFIED:20260419T151947Z
UID:10005248-1777572000-1777575600@reenaseniorliving.com
SUMMARY:Calm Time- TV - Feel good kind.
DESCRIPTION:
URL:https://reenaseniorliving.com/event-calendar/calm-time-tv-feel-good-kind-12/
LOCATION:Activity Room
CATEGORIES:Legacy Court
END:VEVENT
BEGIN:VEVENT
DTSTART;TZID=America/Chicago:20260501T110000
DTEND;TZID=America/Chicago:20260501T113000
DTSTAMP:20260419T152906
CREATED:20260402T054941Z
LAST-MODIFIED:20260419T063426Z
UID:10005087-1777633200-1777635000@reenaseniorliving.com
SUMMARY:Your weekly activity packets will be delivered.
DESCRIPTION:
URL:https://reenaseniorliving.com/event-calendar/your-weekly-activity-packets-will-be-delivered-51/
LOCATION:Activity Room
CATEGORIES:Assisted Living
END:VEVENT
BEGIN:VEVENT
DTSTART;TZID=America/Chicago:20260501T123000
DTEND;TZID=America/Chicago:20260501T131500
DTSTAMP:20260419T152906
CREATED:20260417T135019Z
LAST-MODIFIED:20260419T151948Z
UID:10005250-1777638600-1777641300@reenaseniorliving.com
SUMMARY:Group Movement Class - Strength and Mobility
DESCRIPTION:
URL:https://reenaseniorliving.com/event-calendar/group-movement-class-strength-and-mobility-21/
LOCATION:Activity Room
CATEGORIES:Legacy Court
END:VEVENT
BEGIN:VEVENT
DTSTART;TZID=America/Chicago:20260501T130000
DTEND;TZID=America/Chicago:20260501T133000
DTSTAMP:20260419T152906
CREATED:20260402T054941Z
LAST-MODIFIED:20260419T063426Z
UID:10005086-1777640400-1777642200@reenaseniorliving.com
SUMMARY:Big Show - Scrimmage Follow-up
DESCRIPTION:
URL:https://reenaseniorliving.com/event-calendar/big-show-scrimmage-follow-up-2/
LOCATION:Activity Room
CATEGORIES:Assisted Living
END:VEVENT
BEGIN:VEVENT
DTSTART;TZID=America/Chicago:20260501T180000
DTEND;TZID=America/Chicago:20260501T190000
DTSTAMP:20260419T152906
CREATED:20260417T135020Z
LAST-MODIFIED:20260419T151949Z
UID:10005253-1777658400-1777662000@reenaseniorliving.com
SUMMARY:Calm Time- TV - Feel good kind.
DESCRIPTION:
URL:https://reenaseniorliving.com/event-calendar/calm-time-tv-feel-good-kind-13/
LOCATION:Activity Room
CATEGORIES:Legacy Court
END:VEVENT
BEGIN:VEVENT
DTSTART;TZID=America/Chicago:20260502T091500
DTEND;TZID=America/Chicago:20260502T094500
DTSTAMP:20260419T152906
CREATED:20260409T060507Z
LAST-MODIFIED:20260419T063427Z
UID:10005138-1777713300-1777715100@reenaseniorliving.com
SUMMARY:Movement Class
DESCRIPTION:
URL:https://reenaseniorliving.com/event-calendar/movement-class-98/
LOCATION:Activity Room
CATEGORIES:Assisted Living
END:VEVENT
BEGIN:VEVENT
DTSTART;TZID=America/Chicago:20260503T091500
DTEND;TZID=America/Chicago:20260503T095000
DTSTAMP:20260419T152906
CREATED:20260409T060508Z
LAST-MODIFIED:20260419T063428Z
UID:10005140-1777799700-1777801800@reenaseniorliving.com
SUMMARY:Movement Class with Kayla
DESCRIPTION:
URL:https://reenaseniorliving.com/event-calendar/movement-class-with-kayla-185/
LOCATION:Activity Room
CATEGORIES:Assisted Living
END:VEVENT
BEGIN:VEVENT
DTSTART;TZID=America/Chicago:20260504T090000
DTEND;TZID=America/Chicago:20260504T093000
DTSTAMP:20260419T152906
CREATED:20260417T135021Z
LAST-MODIFIED:20260419T151950Z
UID:10005259-1777885200-1777887000@reenaseniorliving.com
SUMMARY:Social Time - Linked Senior Events\, News\, & Reminisce
DESCRIPTION:
URL:https://reenaseniorliving.com/event-calendar/social-time-linked-senior-events-news-reminisce-7/
LOCATION:Activity Room
CATEGORIES:Legacy Court
END:VEVENT
BEGIN:VEVENT
DTSTART;TZID=America/Chicago:20260504T091500
DTEND;TZID=America/Chicago:20260504T094500
DTSTAMP:20260419T152906
CREATED:20260405T060420Z
LAST-MODIFIED:20260419T063429Z
UID:10005104-1777886100-1777887900@reenaseniorliving.com
SUMMARY:Movement with Kayla (AR)
DESCRIPTION:
URL:https://reenaseniorliving.com/event-calendar/movement-with-kayla-ar-20/
LOCATION:Activity Room
CATEGORIES:Assisted Living
END:VEVENT
BEGIN:VEVENT
DTSTART;TZID=America/Chicago:20260504T093000
DTEND;TZID=America/Chicago:20260504T101000
DTSTAMP:20260419T152906
CREATED:20260417T135021Z
LAST-MODIFIED:20260419T151950Z
UID:10005261-1777887000-1777889400@reenaseniorliving.com
SUMMARY:Games!
DESCRIPTION:
URL:https://reenaseniorliving.com/event-calendar/games-11/
LOCATION:Activity Room
CATEGORIES:Legacy Court
END:VEVENT
BEGIN:VEVENT
DTSTART;TZID=America/Chicago:20260504T133000
DTEND;TZID=America/Chicago:20260504T150000
DTSTAMP:20260419T152906
CREATED:20260409T060509Z
LAST-MODIFIED:20260419T063429Z
UID:10005143-1777901400-1777906800@reenaseniorliving.com
SUMMARY:Cow - Art Project for Hoard Museum Dairy Days Contest.
DESCRIPTION:
URL:https://reenaseniorliving.com/event-calendar/cow-art-project-for-hoard-museum-pop-in-and-take-a-look-at-the-action-or-help-the-group-2/
LOCATION:Activity Room
CATEGORIES:Assisted Living
END:VEVENT
BEGIN:VEVENT
DTSTART;TZID=America/Chicago:20260504T143500
DTEND;TZID=America/Chicago:20260504T151500
DTSTAMP:20260419T152906
CREATED:20260405T060420Z
LAST-MODIFIED:20260408T060418Z
UID:10005106-1777905300-1777907700@reenaseniorliving.com
SUMMARY:Nerf Target Fun with our CLCA Student Visitors
DESCRIPTION:
URL:https://reenaseniorliving.com/event-calendar/nerf-target-fun-with-our-clca-student-visitors-2/
LOCATION:Activity Room
CATEGORIES:Assisted Living
END:VEVENT
END:VCALENDAR