BEGIN:VCALENDAR
VERSION:2.0
PRODID:-//Reena Senior Living - ECPv6.11.2.1//NONSGML v1.0//EN
CALSCALE:GREGORIAN
METHOD:PUBLISH
X-ORIGINAL-URL:https://reenaseniorliving.com
X-WR-CALDESC:Events for Reena Senior Living
REFRESH-INTERVAL;VALUE=DURATION:PT1H
X-Robots-Tag:noindex
X-PUBLISHED-TTL:PT1H
BEGIN:VTIMEZONE
TZID:America/Chicago
BEGIN:DAYLIGHT
TZOFFSETFROM:-0600
TZOFFSETTO:-0500
TZNAME:CDT
DTSTART:20260308T080000
END:DAYLIGHT
BEGIN:STANDARD
TZOFFSETFROM:-0500
TZOFFSETTO:-0600
TZNAME:CST
DTSTART:20261101T070000
END:STANDARD
END:VTIMEZONE
BEGIN:VEVENT
DTSTART;TZID=America/Chicago:20260106T141500
DTEND;TZID=America/Chicago:20260106T150000
DTSTAMP:20260422T222647
CREATED:20251208T003406Z
LAST-MODIFIED:20251226T020405Z
UID:10003490-1767708900-1767711600@reenaseniorliving.com
SUMMARY:Sing a Long Karaoke on TV with Anne
DESCRIPTION:
URL:https://reenaseniorliving.com/event-calendar/sing-a-long-karaoke-on-tv-with-anne-12/
LOCATION:Activity Room
CATEGORIES:Assisted Living,Legacy Court
END:VEVENT
BEGIN:VEVENT
DTSTART;TZID=America/Chicago:20260106T140000
DTEND;TZID=America/Chicago:20260106T142500
DTSTAMP:20260422T222647
CREATED:20251208T004926Z
LAST-MODIFIED:20251230T023408Z
UID:10003497-1767708000-1767709500@reenaseniorliving.com
SUMMARY:Balance Training with Kayla - Hallway near Activity Room
DESCRIPTION:
URL:https://reenaseniorliving.com/event-calendar/balance-training-with-kayla-hallway-near-activity-room-10/
LOCATION:Activity Room
CATEGORIES:Legacy Court
END:VEVENT
BEGIN:VEVENT
DTSTART;TZID=America/Chicago:20260106T134500
DTEND;TZID=America/Chicago:20260106T140000
DTSTAMP:20260422T222647
CREATED:20251231T023405Z
LAST-MODIFIED:20260106T030403Z
UID:10003829-1767707100-1767708000@reenaseniorliving.com
SUMMARY:Reading Poetry and Rhymes Together.
DESCRIPTION:
URL:https://reenaseniorliving.com/event-calendar/reading-poetry-and-rhymes-together-4/
LOCATION:Activity Room
CATEGORIES:Legacy Court
END:VEVENT
BEGIN:VEVENT
DTSTART;TZID=America/Chicago:20260106T130000
DTEND;TZID=America/Chicago:20260106T132500
DTSTAMP:20260422T222647
CREATED:20251208T004926Z
LAST-MODIFIED:20251212T013451Z
UID:10003495-1767704400-1767705900@reenaseniorliving.com
SUMMARY:Balloon Ball!
DESCRIPTION:
URL:https://reenaseniorliving.com/event-calendar/balloon-ball-10/
LOCATION:Activity Room
CATEGORIES:Legacy Court
END:VEVENT
BEGIN:VEVENT
DTSTART;TZID=America/Chicago:20260106T123000
DTEND;TZID=America/Chicago:20260106T133000
DTSTAMP:20260422T222647
CREATED:20251231T023405Z
LAST-MODIFIED:20260106T030403Z
UID:10003828-1767702600-1767706200@reenaseniorliving.com
SUMMARY:Moon Cycles Exploration & Coloring
DESCRIPTION:
URL:https://reenaseniorliving.com/event-calendar/moon-cycles-exploration-coloring/
LOCATION:Activity Room
CATEGORIES:Legacy Court
END:VEVENT
BEGIN:VEVENT
DTSTART;TZID=America/Chicago:20260106T093000
DTEND;TZID=America/Chicago:20260106T101500
DTSTAMP:20260422T222647
CREATED:20251231T023405Z
LAST-MODIFIED:20260106T030403Z
UID:10003827-1767691800-1767694500@reenaseniorliving.com
SUMMARY:Coffee and Chat with Laurie
DESCRIPTION:
URL:https://reenaseniorliving.com/event-calendar/coffee-and-chat-with-laurie-2/
LOCATION:Activity Room
CATEGORIES:Legacy Court
END:VEVENT
BEGIN:VEVENT
DTSTART;TZID=America/Chicago:20260106T091500
DTEND;TZID=America/Chicago:20260106T094500
DTSTAMP:20260422T222647
CREATED:20251208T003406Z
LAST-MODIFIED:20260106T014907Z
UID:10003487-1767690900-1767692700@reenaseniorliving.com
SUMMARY:Movement Class with Kayla
DESCRIPTION:
URL:https://reenaseniorliving.com/event-calendar/movement-class-with-kayla-116/
LOCATION:Activity Room
CATEGORIES:Assisted Living
END:VEVENT
BEGIN:VEVENT
DTSTART;TZID=America/Chicago:20260105T173000
DTEND;TZID=America/Chicago:20260105T181500
DTSTAMP:20260422T222647
CREATED:20251231T023405Z
LAST-MODIFIED:20260105T024918Z
UID:10003826-1767634200-1767636900@reenaseniorliving.com
SUMMARY:Bike and Stretch with Kayla
DESCRIPTION:
URL:https://reenaseniorliving.com/event-calendar/bike-and-stretch-with-kayla/
LOCATION:Activity Room
CATEGORIES:Legacy Court
END:VEVENT
BEGIN:VEVENT
DTSTART;TZID=America/Chicago:20260105T131500
DTEND;TZID=America/Chicago:20260105T134500
DTSTAMP:20260422T222647
CREATED:20251231T023404Z
LAST-MODIFIED:20260105T024918Z
UID:10003825-1767618900-1767620700@reenaseniorliving.com
SUMMARY:Timeslips with Kayla and Dawn
DESCRIPTION:
URL:https://reenaseniorliving.com/event-calendar/timeslips-with-kayla-and-dawn/
LOCATION:Activity Room
CATEGORIES:Legacy Court
END:VEVENT
BEGIN:VEVENT
DTSTART;TZID=America/Chicago:20260105T130000
DTEND;TZID=America/Chicago:20260105T140000
DTSTAMP:20260422T222647
CREATED:20251207T003411Z
LAST-MODIFIED:20251210T003414Z
UID:10003460-1767618000-1767621600@reenaseniorliving.com
SUMMARY:Bingo
DESCRIPTION:
URL:https://reenaseniorliving.com/event-calendar/bingo-68/
LOCATION:Activity Room
CATEGORIES:Assisted Living
END:VEVENT
BEGIN:VEVENT
DTSTART;TZID=America/Chicago:20260105T124500
DTEND;TZID=America/Chicago:20260105T131000
DTSTAMP:20260422T222647
CREATED:20251207T004947Z
LAST-MODIFIED:20260105T024918Z
UID:10003485-1767617100-1767618600@reenaseniorliving.com
SUMMARY:Movement with Balls\, Noodles\, & Weights.
DESCRIPTION:
URL:https://reenaseniorliving.com/event-calendar/movement-with-balls-noodles-weights-27/
LOCATION:Activity Room
CATEGORIES:Legacy Court
END:VEVENT
BEGIN:VEVENT
DTSTART;TZID=America/Chicago:20260105T095000
DTEND;TZID=America/Chicago:20260105T103000
DTSTAMP:20260422T222647
CREATED:20251215T013423Z
LAST-MODIFIED:20260105T024918Z
UID:10003600-1767606600-1767609000@reenaseniorliving.com
SUMMARY:Games with Kayla!
DESCRIPTION:
URL:https://reenaseniorliving.com/event-calendar/dot-fun-game-or-garbage-or-war-in-cards-3/
LOCATION:Activity Room
CATEGORIES:Legacy Court
END:VEVENT
BEGIN:VEVENT
DTSTART;TZID=America/Chicago:20260105T095000
DTEND;TZID=America/Chicago:20260105T101500
DTSTAMP:20260422T222647
CREATED:20251215T003414Z
LAST-MODIFIED:20251226T010408Z
UID:10003578-1767606600-1767608100@reenaseniorliving.com
SUMMARY:Biking Class - Introduction & Interval Training - Leave feeling refreshed and invigorated!
DESCRIPTION:
URL:https://reenaseniorliving.com/event-calendar/biking-class-introduction-interval-training-leave-feeling-refreshed-and-invigorated-3/
LOCATION:Activity Room
CATEGORIES:Assisted Living
END:VEVENT
BEGIN:VEVENT
DTSTART;TZID=America/Chicago:20260105T094500
DTEND;TZID=America/Chicago:20260105T104500
DTSTAMP:20260422T222647
CREATED:20251227T010408Z
LAST-MODIFIED:20260105T014901Z
UID:10003740-1767606300-1767609900@reenaseniorliving.com
SUMMARY:Coffee and Late 1950's Review Remininsce with Dawn
DESCRIPTION:
URL:https://reenaseniorliving.com/event-calendar/coffee-and-late-1950s-review-remininsce-with-dawn/
LOCATION:Activity Room
CATEGORIES:Assisted Living
END:VEVENT
BEGIN:VEVENT
DTSTART;TZID=America/Chicago:20260105T091500
DTEND;TZID=America/Chicago:20260105T094500
DTSTAMP:20260422T222647
CREATED:20251207T003411Z
LAST-MODIFIED:20260105T014901Z
UID:10003459-1767604500-1767606300@reenaseniorliving.com
SUMMARY:Movement with Kayla (AR)
DESCRIPTION:
URL:https://reenaseniorliving.com/event-calendar/movement-with-kayla-ar-2/
LOCATION:Activity Room
CATEGORIES:Assisted Living
END:VEVENT
BEGIN:VEVENT
DTSTART;TZID=America/Chicago:20260104T133000
DTEND;TZID=America/Chicago:20260104T143000
DTSTAMP:20260422T222647
CREATED:20251227T021909Z
LAST-MODIFIED:20260104T024903Z
UID:10003764-1767533400-1767537000@reenaseniorliving.com
SUMMARY:Bingo with Laurie!
DESCRIPTION:
URL:https://reenaseniorliving.com/event-calendar/bingo-with-laurie/
LOCATION:Activity Room
CATEGORIES:Legacy Court
END:VEVENT
BEGIN:VEVENT
DTSTART;TZID=America/Chicago:20260104T110000
DTEND;TZID=America/Chicago:20260104T112000
DTSTAMP:20260422T222647
CREATED:20251231T023404Z
LAST-MODIFIED:20260104T024903Z
UID:10003824-1767524400-1767525600@reenaseniorliving.com
SUMMARY:Walking Group Time
DESCRIPTION:
URL:https://reenaseniorliving.com/event-calendar/walking-group-time/
LOCATION:Activity Room
CATEGORIES:Legacy Court
END:VEVENT
BEGIN:VEVENT
DTSTART;TZID=America/Chicago:20260104T093000
DTEND;TZID=America/Chicago:20260104T103000
DTSTAMP:20260422T222647
CREATED:20251227T010408Z
LAST-MODIFIED:20260104T014920Z
UID:10003739-1767519000-1767522600@reenaseniorliving.com
SUMMARY:Coffee and Sing-along with Laurie.
DESCRIPTION:Linked Senior
URL:https://reenaseniorliving.com/event-calendar/homemade-punch-and-vintage-picture-trivia-together/
LOCATION:Activity Room
CATEGORIES:Assisted Living
END:VEVENT
BEGIN:VEVENT
DTSTART;TZID=America/Chicago:20260104T090000
DTEND;TZID=America/Chicago:20260104T094500
DTSTAMP:20260422T222647
CREATED:20251227T021909Z
LAST-MODIFIED:20251230T023406Z
UID:10003763-1767517200-1767519900@reenaseniorliving.com
SUMMARY:Coffee and Chat with Laurie
DESCRIPTION:
URL:https://reenaseniorliving.com/event-calendar/coffee-and-chat-with-laurie/
LOCATION:Activity Room
CATEGORIES:Legacy Court
END:VEVENT
BEGIN:VEVENT
DTSTART;TZID=America/Chicago:20260102T150000
DTEND;TZID=America/Chicago:20260102T151500
DTSTAMP:20260422T222647
CREATED:20251204T000421Z
LAST-MODIFIED:20260102T013405Z
UID:10003439-1767366000-1767366900@reenaseniorliving.com
SUMMARY:Your weekly activity packets will be delivered.
DESCRIPTION:
URL:https://reenaseniorliving.com/event-calendar/your-weekly-activity-packets-will-be-delivered-34/
LOCATION:Activity Room
CATEGORIES:Assisted Living
END:VEVENT
BEGIN:VEVENT
DTSTART;TZID=America/Chicago:20260102T140000
DTEND;TZID=America/Chicago:20260102T150000
DTSTAMP:20260422T222647
CREATED:20251212T003404Z
LAST-MODIFIED:20260102T013405Z
UID:10003545-1767362400-1767366000@reenaseniorliving.com
SUMMARY:Life Magazine - Presentation via TV Live - Reminisce with Revelence
DESCRIPTION:
URL:https://reenaseniorliving.com/event-calendar/lifelong-learning-presentation-via-tv-live/
LOCATION:Activity Room
CATEGORIES:Assisted Living
END:VEVENT
BEGIN:VEVENT
DTSTART;TZID=America/Chicago:20260102T133000
DTEND;TZID=America/Chicago:20260102T143000
DTSTAMP:20260422T222647
CREATED:20251225T020405Z
LAST-MODIFIED:20260102T024910Z
UID:10003731-1767360600-1767364200@reenaseniorliving.com
SUMMARY:Karaoke & Song Discussion with Kayla
DESCRIPTION:
URL:https://reenaseniorliving.com/event-calendar/karaoke-song-discussion-with-kayla/
LOCATION:Activity Room
CATEGORIES:Legacy Court
END:VEVENT
BEGIN:VEVENT
DTSTART;TZID=America/Chicago:20260102T131500
DTEND;TZID=America/Chicago:20260102T134500
DTSTAMP:20260422T222647
CREATED:20251225T010420Z
LAST-MODIFIED:20260102T013405Z
UID:10003714-1767359700-1767361500@reenaseniorliving.com
SUMMARY:Valentine's Day Planning for our Intergenerational friends at Luther Elementary School
DESCRIPTION:
URL:https://reenaseniorliving.com/event-calendar/valentines-day-planning-for-our-intergenerational-friends-at-luther-elementary-school/
LOCATION:Activity Room
CATEGORIES:Assisted Living
END:VEVENT
BEGIN:VEVENT
DTSTART;TZID=America/Chicago:20260102T123000
DTEND;TZID=America/Chicago:20260102T131500
DTSTAMP:20260422T222647
CREATED:20251207T004945Z
LAST-MODIFIED:20260102T024909Z
UID:10003477-1767357000-1767359700@reenaseniorliving.com
SUMMARY:Group Movement Class - Strength and Mobility
DESCRIPTION:
URL:https://reenaseniorliving.com/event-calendar/group-movement-class-strength-and-mobility-4/
LOCATION:Activity Room
CATEGORIES:Legacy Court
END:VEVENT
BEGIN:VEVENT
DTSTART;TZID=America/Chicago:20260102T093000
DTEND;TZID=America/Chicago:20260102T095000
DTSTAMP:20260422T222647
CREATED:20251225T020404Z
LAST-MODIFIED:20260102T024909Z
UID:10003729-1767346200-1767347400@reenaseniorliving.com
SUMMARY:Walking for our Health
DESCRIPTION:
URL:https://reenaseniorliving.com/event-calendar/walking-for-our-health/
LOCATION:Activity Room
CATEGORIES:Legacy Court
END:VEVENT
BEGIN:VEVENT
DTSTART;TZID=America/Chicago:20260102T091500
DTEND;TZID=America/Chicago:20260102T094500
DTSTAMP:20260422T222647
CREATED:20251204T000421Z
LAST-MODIFIED:20260102T013405Z
UID:10003437-1767345300-1767347100@reenaseniorliving.com
SUMMARY:Movement Class with Kayla
DESCRIPTION:
URL:https://reenaseniorliving.com/event-calendar/movement-class-with-kayla-115/
LOCATION:Activity Room
CATEGORIES:Assisted Living
END:VEVENT
BEGIN:VEVENT
DTSTART;TZID=America/Chicago:20260101T171500
DTEND;TZID=America/Chicago:20260101T190000
DTSTAMP:20260422T222647
CREATED:20251203T000413Z
LAST-MODIFIED:20251211T003408Z
UID:10003428-1767287700-1767294000@reenaseniorliving.com
SUMMARY:Hand & Foot Cards & Trouble the Board Game.
DESCRIPTION:
URL:https://reenaseniorliving.com/event-calendar/hand-foot-cards-trouble-the-board-game-7/
LOCATION:Activity Room
CATEGORIES:Assisted Living
END:VEVENT
BEGIN:VEVENT
DTSTART;TZID=America/Chicago:20260101T140000
DTEND;TZID=America/Chicago:20260101T150000
DTSTAMP:20260422T222647
CREATED:20251203T000413Z
LAST-MODIFIED:20251211T003408Z
UID:10003427-1767276000-1767279600@reenaseniorliving.com
SUMMARY:The Incredible Life of John B. Jones! Slavery to Freedom\, Lighthouse Keeper & More.
DESCRIPTION:Monthly Live Interactive Presentations with Q&A Time
URL:https://reenaseniorliving.com/event-calendar/the-incredible-life-of-john-b-jones-slavery-to-freedom-lighthouse-keeper-more-4/
LOCATION:Activity Room
CATEGORIES:Assisted Living
END:VEVENT
BEGIN:VEVENT
DTSTART;TZID=America/Chicago:20260101T103000
DTEND;TZID=America/Chicago:20260101T104500
DTSTAMP:20260422T222647
CREATED:20251225T020404Z
LAST-MODIFIED:20260101T024930Z
UID:10003727-1767263400-1767264300@reenaseniorliving.com
SUMMARY:Parachute Fun
DESCRIPTION:
URL:https://reenaseniorliving.com/event-calendar/parachute-fun-5/
LOCATION:Activity Room
CATEGORIES:Legacy Court
END:VEVENT
BEGIN:VEVENT
DTSTART;TZID=America/Chicago:20260101T093000
DTEND;TZID=America/Chicago:20260101T103000
DTSTAMP:20260422T222647
CREATED:20251203T004947Z
LAST-MODIFIED:20251224T020407Z
UID:10003431-1767259800-1767263400@reenaseniorliving.com
SUMMARY:Christmas Art and Projects
DESCRIPTION:
URL:https://reenaseniorliving.com/event-calendar/christmas-art-and-projects/
LOCATION:Activity Room
CATEGORIES:Legacy Court
END:VEVENT
END:VCALENDAR