BEGIN:VCALENDAR
VERSION:2.0
PRODID:-//Reena Senior Living - ECPv6.11.2.1//NONSGML v1.0//EN
CALSCALE:GREGORIAN
METHOD:PUBLISH
X-WR-CALNAME:Reena Senior Living
X-ORIGINAL-URL:https://reenaseniorliving.com
X-WR-CALDESC:Events for Reena Senior Living
REFRESH-INTERVAL;VALUE=DURATION:PT1H
X-Robots-Tag:noindex
X-PUBLISHED-TTL:PT1H
BEGIN:VTIMEZONE
TZID:America/Chicago
BEGIN:DAYLIGHT
TZOFFSETFROM:-0600
TZOFFSETTO:-0500
TZNAME:CDT
DTSTART:20250309T080000
END:DAYLIGHT
BEGIN:STANDARD
TZOFFSETFROM:-0500
TZOFFSETTO:-0600
TZNAME:CST
DTSTART:20251102T070000
END:STANDARD
BEGIN:DAYLIGHT
TZOFFSETFROM:-0600
TZOFFSETTO:-0500
TZNAME:CDT
DTSTART:20260308T080000
END:DAYLIGHT
BEGIN:STANDARD
TZOFFSETFROM:-0500
TZOFFSETTO:-0600
TZNAME:CST
DTSTART:20261101T070000
END:STANDARD
END:VTIMEZONE
BEGIN:VEVENT
DTSTART;TZID=America/Chicago:20260101T093000
DTEND;TZID=America/Chicago:20260101T101500
DTSTAMP:20260423T031545
CREATED:20251225T020404Z
LAST-MODIFIED:20260101T024930Z
UID:10003728-1767259800-1767262500@reenaseniorliving.com
SUMMARY:Rose Bowl & New Years' Day Slideshows - Linked Senior
DESCRIPTION:
URL:https://reenaseniorliving.com/event-calendar/rose-bowl-new-years-day-slideshows-linked-senior/
LOCATION:Activity Room
CATEGORIES:Legacy Court
END:VEVENT
BEGIN:VEVENT
DTSTART;TZID=America/Chicago:20260101T091500
DTEND;TZID=America/Chicago:20260101T094500
DTSTAMP:20260423T031545
CREATED:20251203T000413Z
LAST-MODIFIED:20251211T003408Z
UID:10003425-1767258900-1767260700@reenaseniorliving.com
SUMMARY:Movement Class with Kayla
DESCRIPTION:Gentle Movement\, Strength\, Mobility\, Balance\, & More.
URL:https://reenaseniorliving.com/event-calendar/movement-class-with-kayla-114/
LOCATION:Activity Room
CATEGORIES:Assisted Living
END:VEVENT
BEGIN:VEVENT
DTSTART;TZID=America/Chicago:20251231T173000
DTEND;TZID=America/Chicago:20251231T181500
DTSTAMP:20260423T031545
CREATED:20251225T010419Z
LAST-MODIFIED:20251231T013402Z
UID:10003712-1767202200-1767204900@reenaseniorliving.com
SUMMARY:Games with Kayla - Come join in!
DESCRIPTION:
URL:https://reenaseniorliving.com/event-calendar/games-with-kayla-come-join-in/
LOCATION:Activity Room
CATEGORIES:Assisted Living
END:VEVENT
BEGIN:VEVENT
DTSTART;TZID=America/Chicago:20251231T160000
DTEND;TZID=America/Chicago:20251231T162000
DTSTAMP:20260423T031545
CREATED:20251202T003504Z
LAST-MODIFIED:20251206T004911Z
UID:10003424-1767196800-1767198000@reenaseniorliving.com
SUMMARY:Walking with Anne! Find the pond view; have a seat and reminisce.
DESCRIPTION:
URL:https://reenaseniorliving.com/event-calendar/walking-with-anne-find-the-pond-view-have-a-seat-and-reminisce-10/
LOCATION:Activity Room
CATEGORIES:Legacy Court
END:VEVENT
BEGIN:VEVENT
DTSTART;TZID=America/Chicago:20251231T153000
DTEND;TZID=America/Chicago:20251231T155500
DTSTAMP:20260423T031545
CREATED:20251202T003504Z
LAST-MODIFIED:20251231T023403Z
UID:10003423-1767195000-1767196500@reenaseniorliving.com
SUMMARY:Movement with Balls\, Noodles\, & Weights.
DESCRIPTION:
URL:https://reenaseniorliving.com/event-calendar/movement-with-balls-noodles-weights-25/
LOCATION:Activity Room
CATEGORIES:Legacy Court
END:VEVENT
BEGIN:VEVENT
DTSTART;TZID=America/Chicago:20251231T150000
DTEND;TZID=America/Chicago:20251231T152500
DTSTAMP:20260423T031545
CREATED:20251202T003504Z
LAST-MODIFIED:20251231T023403Z
UID:10003418-1767193200-1767194700@reenaseniorliving.com
SUMMARY:Reading Poetry and Rhymes Together.
DESCRIPTION:
URL:https://reenaseniorliving.com/event-calendar/book-the-sunsets-of-miss-olivia-wiggins-read-by-dorothy-9/
LOCATION:Activity Room
CATEGORIES:Legacy Court
END:VEVENT
BEGIN:VEVENT
DTSTART;TZID=America/Chicago:20251231T133000
DTEND;TZID=America/Chicago:20251231T143000
DTSTAMP:20260423T031545
CREATED:20251202T003504Z
LAST-MODIFIED:20251231T023403Z
UID:10003417-1767187800-1767191400@reenaseniorliving.com
SUMMARY:Records with Dorothy
DESCRIPTION:
URL:https://reenaseniorliving.com/event-calendar/records-with-dorothy-16/
LOCATION:Activity Room
CATEGORIES:Legacy Court
END:VEVENT
BEGIN:VEVENT
DTSTART;TZID=America/Chicago:20251231T130000
DTEND;TZID=America/Chicago:20251231T134500
DTSTAMP:20260423T031545
CREATED:20251202T003504Z
LAST-MODIFIED:20251212T013450Z
UID:10003416-1767186000-1767188700@reenaseniorliving.com
SUMMARY:Spark - Leg Bike and Quiz
DESCRIPTION:
URL:https://reenaseniorliving.com/event-calendar/spark-leg-bike-and-quiz-8/
LOCATION:Activity Room
CATEGORIES:Legacy Court
END:VEVENT
BEGIN:VEVENT
DTSTART;TZID=America/Chicago:20251231T094500
DTEND;TZID=America/Chicago:20251231T100500
DTSTAMP:20260423T031545
CREATED:20251215T003413Z
LAST-MODIFIED:20251231T013402Z
UID:10003577-1767174300-1767175500@reenaseniorliving.com
SUMMARY:Wellness Walking Group - Self-Paced - Guided by Community Life & Wellness Team
DESCRIPTION:
URL:https://reenaseniorliving.com/event-calendar/winter-walking-group-self-paced-yet-guided-by-community-life-wellness-team-2/
LOCATION:Activity Room
CATEGORIES:Assisted Living
END:VEVENT
BEGIN:VEVENT
DTSTART;TZID=America/Chicago:20251231T091500
DTEND;TZID=America/Chicago:20251231T094500
DTSTAMP:20260423T031545
CREATED:20251202T000417Z
LAST-MODIFIED:20251231T013402Z
UID:10003410-1767172500-1767174300@reenaseniorliving.com
SUMMARY:Movement Class with Kayla
DESCRIPTION:
URL:https://reenaseniorliving.com/event-calendar/movement-class-with-kayla-113/
LOCATION:Activity Room
CATEGORIES:Assisted Living
END:VEVENT
BEGIN:VEVENT
DTSTART;TZID=America/Chicago:20251230T174500
DTEND;TZID=America/Chicago:20251230T191500
DTSTAMP:20260423T031545
CREATED:20251225T010419Z
LAST-MODIFIED:20251230T011901Z
UID:10003711-1767116700-1767122100@reenaseniorliving.com
SUMMARY:Nails with Kayla - sign-up
DESCRIPTION:
URL:https://reenaseniorliving.com/event-calendar/nails-with-kayla-sign-up/
LOCATION:Activity Room
CATEGORIES:Assisted Living
END:VEVENT
BEGIN:VEVENT
DTSTART;TZID=America/Chicago:20251230T140000
DTEND;TZID=America/Chicago:20251230T150000
DTSTAMP:20260423T031545
CREATED:20251201T000407Z
LAST-MODIFIED:20251230T023403Z
UID:10003397-1767103200-1767106800@reenaseniorliving.com
SUMMARY:Talent Show - Rock River Clovers 4H
DESCRIPTION:
URL:https://reenaseniorliving.com/event-calendar/talent-show-rock-river-clovers-4h/
LOCATION:Activity Room
CATEGORIES:Assisted Living,Legacy Court
END:VEVENT
BEGIN:VEVENT
DTSTART;TZID=America/Chicago:20251230T140000
DTEND;TZID=America/Chicago:20251230T142500
DTSTAMP:20260423T031545
CREATED:20251201T003459Z
LAST-MODIFIED:20251224T020405Z
UID:10003404-1767103200-1767104700@reenaseniorliving.com
SUMMARY:Balance Training with Kayla - Hallway near Activity Room
DESCRIPTION:
URL:https://reenaseniorliving.com/event-calendar/balance-training-with-kayla-hallway-near-activity-room-9/
LOCATION:Activity Room
CATEGORIES:Legacy Court
END:VEVENT
BEGIN:VEVENT
DTSTART;TZID=America/Chicago:20251230T130000
DTEND;TZID=America/Chicago:20251230T132500
DTSTAMP:20260423T031545
CREATED:20251201T003459Z
LAST-MODIFIED:20251212T013449Z
UID:10003402-1767099600-1767101100@reenaseniorliving.com
SUMMARY:Balloon Ball!
DESCRIPTION:
URL:https://reenaseniorliving.com/event-calendar/balloon-ball-9/
LOCATION:Activity Room
CATEGORIES:Legacy Court
END:VEVENT
BEGIN:VEVENT
DTSTART;TZID=America/Chicago:20251230T101500
DTEND;TZID=America/Chicago:20251230T104000
DTSTAMP:20260423T031545
CREATED:20251201T003459Z
LAST-MODIFIED:20251230T023403Z
UID:10003407-1767089700-1767091200@reenaseniorliving.com
SUMMARY:Movement with Balls\, Noodles\, & Weights.
DESCRIPTION:
URL:https://reenaseniorliving.com/event-calendar/movement-with-balls-noodles-weights-24/
LOCATION:Activity Room
CATEGORIES:Legacy Court
END:VEVENT
BEGIN:VEVENT
DTSTART;TZID=America/Chicago:20251230T100000
DTEND;TZID=America/Chicago:20251230T113000
DTSTAMP:20260423T031545
CREATED:20251225T010419Z
LAST-MODIFIED:20251230T011901Z
UID:10003710-1767088800-1767094200@reenaseniorliving.com
SUMMARY:Nails with Kayla - sign-up please
DESCRIPTION:
URL:https://reenaseniorliving.com/event-calendar/nails-with-kayla-sign-up-please/
LOCATION:Activity Room
CATEGORIES:Assisted Living
END:VEVENT
BEGIN:VEVENT
DTSTART;TZID=America/Chicago:20251230T091500
DTEND;TZID=America/Chicago:20251230T094500
DTSTAMP:20260423T031545
CREATED:20251201T000407Z
LAST-MODIFIED:20251230T011901Z
UID:10003395-1767086100-1767087900@reenaseniorliving.com
SUMMARY:Movement Class with Kayla
DESCRIPTION:
URL:https://reenaseniorliving.com/event-calendar/movement-class-with-kayla-112/
LOCATION:Activity Room
CATEGORIES:Assisted Living
END:VEVENT
BEGIN:VEVENT
DTSTART;TZID=America/Chicago:20251229T151500
DTEND;TZID=America/Chicago:20251229T154000
DTSTAMP:20260423T031545
CREATED:20251130T000419Z
LAST-MODIFIED:20251229T021928Z
UID:10003389-1767021300-1767022800@reenaseniorliving.com
SUMMARY:Movement with Balls\, Noodles\, & Weights.
DESCRIPTION:
URL:https://reenaseniorliving.com/event-calendar/movement-with-balls-noodles-weights-23/
LOCATION:Activity Room
CATEGORIES:Legacy Court
END:VEVENT
BEGIN:VEVENT
DTSTART;TZID=America/Chicago:20251229T130000
DTEND;TZID=America/Chicago:20251229T140000
DTSTAMP:20260423T031545
CREATED:20251130T000625Z
LAST-MODIFIED:20251210T003412Z
UID:10003393-1767013200-1767016800@reenaseniorliving.com
SUMMARY:Bingo
DESCRIPTION:
URL:https://reenaseniorliving.com/event-calendar/bingo-67/
LOCATION:Activity Room
CATEGORIES:Assisted Living
END:VEVENT
BEGIN:VEVENT
DTSTART;TZID=America/Chicago:20251229T091500
DTEND;TZID=America/Chicago:20251229T094500
DTSTAMP:20260423T031545
CREATED:20251130T000624Z
LAST-MODIFIED:20251229T011901Z
UID:10003391-1766999700-1767001500@reenaseniorliving.com
SUMMARY:Movement with Kayla (AR)
DESCRIPTION:
URL:https://reenaseniorliving.com/event-calendar/movement-with-kayla-18/
LOCATION:Activity Room
CATEGORIES:Assisted Living
END:VEVENT
BEGIN:VEVENT
DTSTART;TZID=America/Chicago:20251227T133000
DTEND;TZID=America/Chicago:20251227T143000
DTSTAMP:20260423T031545
CREATED:20251215T013413Z
LAST-MODIFIED:20251227T021906Z
UID:10003595-1766842200-1766845800@reenaseniorliving.com
SUMMARY:Balance and Strength with Kayla
DESCRIPTION:
URL:https://reenaseniorliving.com/event-calendar/balance-and-strength-with-kayla/
LOCATION:Activity Room
CATEGORIES:Legacy Court
END:VEVENT
BEGIN:VEVENT
DTSTART;TZID=America/Chicago:20251227T130000
DTEND;TZID=America/Chicago:20251227T133000
DTSTAMP:20260423T031545
CREATED:20251215T013413Z
LAST-MODIFIED:20251227T021906Z
UID:10003594-1766840400-1766842200@reenaseniorliving.com
SUMMARY:Movement Fun with Kayla!
DESCRIPTION:
URL:https://reenaseniorliving.com/event-calendar/movement-fun-with-kayla-2/
LOCATION:Activity Room
CATEGORIES:Legacy Court
END:VEVENT
BEGIN:VEVENT
DTSTART;TZID=America/Chicago:20251227T103000
DTEND;TZID=America/Chicago:20251227T111000
DTSTAMP:20260423T031545
CREATED:20251215T003412Z
LAST-MODIFIED:20251227T010406Z
UID:10003574-1766831400-1766833800@reenaseniorliving.com
SUMMARY:Biking - Each person has their own progression that we help you with. Kayla Ran Today
DESCRIPTION:
URL:https://reenaseniorliving.com/event-calendar/biking-each-person-has-their-own-progression-that-we-help-you-with-kayla-ran-today/
LOCATION:Activity Room
CATEGORIES:Assisted Living
END:VEVENT
BEGIN:VEVENT
DTSTART;TZID=America/Chicago:20251226T150000
DTEND;TZID=America/Chicago:20251226T151500
DTSTAMP:20260423T031545
CREATED:20251128T122111Z
LAST-MODIFIED:20251226T010408Z
UID:10003376-1766761200-1766762100@reenaseniorliving.com
SUMMARY:Your weekly activity packets will be delivered.
DESCRIPTION:
URL:https://reenaseniorliving.com/event-calendar/your-weekly-activity-packets-will-be-delivered-33/
LOCATION:Activity Room
CATEGORIES:Assisted Living
END:VEVENT
BEGIN:VEVENT
DTSTART;TZID=America/Chicago:20251226T133000
DTEND;TZID=America/Chicago:20251226T143000
DTSTAMP:20260423T031545
CREATED:20251210T003412Z
LAST-MODIFIED:20251226T020401Z
UID:10003518-1766755800-1766759400@reenaseniorliving.com
SUMMARY:* Entertainer: Richard Shanten! Christmas and The Oldies!
DESCRIPTION:
URL:https://reenaseniorliving.com/event-calendar/christmas-and-oldies-with-richard-shanten/
LOCATION:Activity Room
CATEGORIES:Assisted Living,Legacy Court
END:VEVENT
BEGIN:VEVENT
DTSTART;TZID=America/Chicago:20251226T123000
DTEND;TZID=America/Chicago:20251226T131500
DTSTAMP:20260423T031545
CREATED:20251207T004941Z
LAST-MODIFIED:20251226T020401Z
UID:10003476-1766752200-1766754900@reenaseniorliving.com
SUMMARY:Group Movement Class - Strength and Mobility
DESCRIPTION:
URL:https://reenaseniorliving.com/event-calendar/group-movement-class-strength-and-mobility-3/
LOCATION:Activity Room
CATEGORIES:Legacy Court
END:VEVENT
BEGIN:VEVENT
DTSTART;TZID=America/Chicago:20251226T091500
DTEND;TZID=America/Chicago:20251226T094500
DTSTAMP:20260423T031545
CREATED:20251128T122110Z
LAST-MODIFIED:20251226T010407Z
UID:10003374-1766740500-1766742300@reenaseniorliving.com
SUMMARY:Movement Class with Kayla
DESCRIPTION:
URL:https://reenaseniorliving.com/event-calendar/movement-class-with-kayla-111/
LOCATION:Activity Room
CATEGORIES:Assisted Living
END:VEVENT
BEGIN:VEVENT
DTSTART;TZID=America/Chicago:20251225T171500
DTEND;TZID=America/Chicago:20251225T190000
DTSTAMP:20260423T031545
CREATED:20251126T093414Z
LAST-MODIFIED:20251209T003407Z
UID:10003353-1766682900-1766689200@reenaseniorliving.com
SUMMARY:Hand & Foot Cards & Trouble the Board Game.
DESCRIPTION:
URL:https://reenaseniorliving.com/event-calendar/hand-foot-cards-trouble-the-board-game-6/
LOCATION:Activity Room
CATEGORIES:Assisted Living
END:VEVENT
BEGIN:VEVENT
DTSTART;TZID=America/Chicago:20251225T103000
DTEND;TZID=America/Chicago:20251225T111500
DTSTAMP:20260423T031545
CREATED:20251126T080415Z
LAST-MODIFIED:20251214T013405Z
UID:10003342-1766658600-1766661300@reenaseniorliving.com
SUMMARY:Let's Make Bread.
DESCRIPTION:
URL:https://reenaseniorliving.com/event-calendar/lets-make-bread-20/
LOCATION:Activity Room
CATEGORIES:Legacy Court
END:VEVENT
BEGIN:VEVENT
DTSTART;TZID=America/Chicago:20251225T093000
DTEND;TZID=America/Chicago:20251225T103000
DTSTAMP:20260423T031545
CREATED:20251126T080415Z
LAST-MODIFIED:20251214T013405Z
UID:10003341-1766655000-1766658600@reenaseniorliving.com
SUMMARY:Christmas Art and Projects
DESCRIPTION:
URL:https://reenaseniorliving.com/event-calendar/make-happy-thanksgiving-for-our-friends-at-luther-elementary-with-linked-senior-music-8/
LOCATION:Activity Room
CATEGORIES:Legacy Court
END:VEVENT
END:VCALENDAR